BEGIN:VCALENDAR
VERSION:2.0
PRODID:http://www.kufer.de/kuferweb / DE
METHOD:PUBLISH
CALSCALE:GREGORIAN
X-WR-TIMEZONE:Europe/Berlin
BEGIN:VTIMEZONE
TZID:Europe/Berlin
X-LIC-LOCATION:Europe/Berlin
BEGIN:DAYLIGHT
TZOFFSETFROM:+0100
TZOFFSETTO:+0200
TZNAME:CEST
DTSTART;TZID=Europe/Berlin:19700329T020000
RRULE:FREQ=YEARLY;INTERVAL=1;BYDAY=-1SU;BYMONTH=3
END:DAYLIGHT
BEGIN:STANDARD
TZOFFSETFROM:+0200
TZOFFSETTO:+0100
TZNAME:CET
DTSTART;TZID=Europe/Berlin:19701025T030000
RRULE:FREQ=YEARLY;INTERVAL=1;BYDAY=-1SU;BYMONTH=10
END:STANDARD
END:VTIMEZONE
BEGIN:VEVENT
DTSTAMP:20260421T133432
DTSTART;TZID=Europe/Berlin:20270115T093000
DTEND;TZID=Europe/Berlin:20270115T124500
UID:KM48919-20270115T093000@VHSMETZINGEN
SUMMARY:Geringliteralisiertenkurs Modul 9 am Nachmittag Sprandel BW105 (KM48919) 
LOCATION:Haus der VHS, Raum Schönbein, Innere Heerstr. 6, 72555 Metzingen
END:VEVENT
BEGIN:VEVENT
DTSTAMP:20260421T133432
DTSTART;TZID=Europe/Berlin:20270118T133000
DTEND;TZID=Europe/Berlin:20270118T164500
UID:KM48919-20270118T133000@VHSMETZINGEN
SUMMARY:Geringliteralisiertenkurs Modul 9 am Nachmittag Sprandel BW105 (KM48919) 
LOCATION:Haus der VHS, Raum Sprandel, Innere Heerstr. 6, 72555 Metzingen
END:VEVENT
BEGIN:VEVENT
DTSTAMP:20260421T133432
DTSTART;TZID=Europe/Berlin:20270119T133000
DTEND;TZID=Europe/Berlin:20270119T164500
UID:KM48919-20270119T133000@VHSMETZINGEN
SUMMARY:Geringliteralisiertenkurs Modul 9 am Nachmittag Sprandel BW105 (KM48919) 
LOCATION:Haus der VHS, Raum Sprandel, Innere Heerstr. 6, 72555 Metzingen
END:VEVENT
BEGIN:VEVENT
DTSTAMP:20260421T133432
DTSTART;TZID=Europe/Berlin:20270120T093000
DTEND;TZID=Europe/Berlin:20270120T124500
UID:KM48919-20270120T093000@VHSMETZINGEN
SUMMARY:Geringliteralisiertenkurs Modul 9 am Nachmittag Sprandel BW105 (KM48919) 
LOCATION:Haus der VHS, Raum Alte Post, Innere Heerstr. 6, 72555 Metzingen
END:VEVENT
BEGIN:VEVENT
DTSTAMP:20260421T133432
DTSTART;TZID=Europe/Berlin:20270122T093000
DTEND;TZID=Europe/Berlin:20270122T124500
UID:KM48919-20270122T093000@VHSMETZINGEN
SUMMARY:Geringliteralisiertenkurs Modul 9 am Nachmittag Sprandel BW105 (KM48919) 
LOCATION:Haus der VHS, Raum Schönbein, Innere Heerstr. 6, 72555 Metzingen
END:VEVENT
BEGIN:VEVENT
DTSTAMP:20260421T133432
DTSTART;TZID=Europe/Berlin:20270125T133000
DTEND;TZID=Europe/Berlin:20270125T164500
UID:KM48919-20270125T133000@VHSMETZINGEN
SUMMARY:Geringliteralisiertenkurs Modul 9 am Nachmittag Sprandel BW105 (KM48919) 
LOCATION:Haus der VHS, Raum Sprandel, Innere Heerstr. 6, 72555 Metzingen
END:VEVENT
BEGIN:VEVENT
DTSTAMP:20260421T133432
DTSTART;TZID=Europe/Berlin:20270126T133000
DTEND;TZID=Europe/Berlin:20270126T164500
UID:KM48919-20270126T133000@VHSMETZINGEN
SUMMARY:Geringliteralisiertenkurs Modul 9 am Nachmittag Sprandel BW105 (KM48919) 
LOCATION:Haus der VHS, Raum Sprandel, Innere Heerstr. 6, 72555 Metzingen
END:VEVENT
BEGIN:VEVENT
DTSTAMP:20260421T133432
DTSTART;TZID=Europe/Berlin:20270127T093000
DTEND;TZID=Europe/Berlin:20270127T124500
UID:KM48919-20270127T093000@VHSMETZINGEN
SUMMARY:Geringliteralisiertenkurs Modul 9 am Nachmittag Sprandel BW105 (KM48919) 
LOCATION:Haus der VHS, Raum Alte Post, Innere Heerstr. 6, 72555 Metzingen
END:VEVENT
BEGIN:VEVENT
DTSTAMP:20260421T133432
DTSTART;TZID=Europe/Berlin:20270129T093000
DTEND;TZID=Europe/Berlin:20270129T124500
UID:KM48919-20270129T093000@VHSMETZINGEN
SUMMARY:Geringliteralisiertenkurs Modul 9 am Nachmittag Sprandel BW105 (KM48919) 
LOCATION:Haus der VHS, Raum Schönbein, Innere Heerstr. 6, 72555 Metzingen
END:VEVENT
BEGIN:VEVENT
DTSTAMP:20260421T133432
DTSTART;TZID=Europe/Berlin:20270201T133000
DTEND;TZID=Europe/Berlin:20270201T164500
UID:KM48919-20270201T133000@VHSMETZINGEN
SUMMARY:Geringliteralisiertenkurs Modul 9 am Nachmittag Sprandel BW105 (KM48919) 
LOCATION:Haus der VHS, Raum Sprandel, Innere Heerstr. 6, 72555 Metzingen
END:VEVENT
BEGIN:VEVENT
DTSTAMP:20260421T133432
DTSTART;TZID=Europe/Berlin:20270202T133000
DTEND;TZID=Europe/Berlin:20270202T164500
UID:KM48919-20270202T133000@VHSMETZINGEN
SUMMARY:Geringliteralisiertenkurs Modul 9 am Nachmittag Sprandel BW105 (KM48919) 
LOCATION:Haus der VHS, Raum Sprandel, Innere Heerstr. 6, 72555 Metzingen
END:VEVENT
BEGIN:VEVENT
DTSTAMP:20260421T133432
DTSTART;TZID=Europe/Berlin:20270203T093000
DTEND;TZID=Europe/Berlin:20270203T124500
UID:KM48919-20270203T093000@VHSMETZINGEN
SUMMARY:Geringliteralisiertenkurs Modul 9 am Nachmittag Sprandel BW105 (KM48919) 
LOCATION:Haus der VHS, Raum Alte Post, Innere Heerstr. 6, 72555 Metzingen
END:VEVENT
BEGIN:VEVENT
DTSTAMP:20260421T133432
DTSTART;TZID=Europe/Berlin:20270205T093000
DTEND;TZID=Europe/Berlin:20270205T124500
UID:KM48919-20270205T093000@VHSMETZINGEN
SUMMARY:Geringliteralisiertenkurs Modul 9 am Nachmittag Sprandel BW105 (KM48919) 
LOCATION:Haus der VHS, Raum Schönbein, Innere Heerstr. 6, 72555 Metzingen
END:VEVENT
BEGIN:VEVENT
DTSTAMP:20260421T133432
DTSTART;TZID=Europe/Berlin:20270208T133000
DTEND;TZID=Europe/Berlin:20270208T164500
UID:KM48919-20270208T133000@VHSMETZINGEN
SUMMARY:Geringliteralisiertenkurs Modul 9 am Nachmittag Sprandel BW105 (KM48919) 
LOCATION:Haus der VHS, Raum Sprandel, Innere Heerstr. 6, 72555 Metzingen
END:VEVENT
BEGIN:VEVENT
DTSTAMP:20260421T133432
DTSTART;TZID=Europe/Berlin:20270210T093000
DTEND;TZID=Europe/Berlin:20270210T124500
UID:KM48919-20270210T093000@VHSMETZINGEN
SUMMARY:Geringliteralisiertenkurs Modul 9 am Nachmittag Sprandel BW105 (KM48919) 
LOCATION:Haus der VHS, Raum Alte Post, Innere Heerstr. 6, 72555 Metzingen
END:VEVENT
BEGIN:VEVENT
DTSTAMP:20260421T133432
DTSTART;TZID=Europe/Berlin:20270212T093000
DTEND;TZID=Europe/Berlin:20270212T124500
UID:KM48919-20270212T093000@VHSMETZINGEN
SUMMARY:Geringliteralisiertenkurs Modul 9 am Nachmittag Sprandel BW105 (KM48919) 
LOCATION:Haus der VHS, Raum Sprandel, Innere Heerstr. 6, 72555 Metzingen
END:VEVENT
BEGIN:VEVENT
DTSTAMP:20260421T133432
DTSTART;TZID=Europe/Berlin:20270215T133000
DTEND;TZID=Europe/Berlin:20270215T164500
UID:KM48919-20270215T133000@VHSMETZINGEN
SUMMARY:Geringliteralisiertenkurs Modul 9 am Nachmittag Sprandel BW105 (KM48919) 
LOCATION:Haus der VHS, Raum Sprandel, Innere Heerstr. 6, 72555 Metzingen
END:VEVENT
BEGIN:VEVENT
DTSTAMP:20260421T133432
DTSTART;TZID=Europe/Berlin:20270216T133000
DTEND;TZID=Europe/Berlin:20270216T164500
UID:KM48919-20270216T133000@VHSMETZINGEN
SUMMARY:Geringliteralisiertenkurs Modul 9 am Nachmittag Sprandel BW105 (KM48919) 
LOCATION:Haus der VHS, Raum Sprandel, Innere Heerstr. 6, 72555 Metzingen
END:VEVENT
BEGIN:VEVENT
DTSTAMP:20260421T133432
DTSTART;TZID=Europe/Berlin:20270217T093000
DTEND;TZID=Europe/Berlin:20270217T124500
UID:KM48919-20270217T093000@VHSMETZINGEN
SUMMARY:Geringliteralisiertenkurs Modul 9 am Nachmittag Sprandel BW105 (KM48919) 
LOCATION:Haus der VHS, Raum Alte Post, Innere Heerstr. 6, 72555 Metzingen
END:VEVENT
BEGIN:VEVENT
DTSTAMP:20260421T133432
DTSTART;TZID=Europe/Berlin:20270219T093000
DTEND;TZID=Europe/Berlin:20270219T124500
UID:KM48919-20270219T093000@VHSMETZINGEN
SUMMARY:Geringliteralisiertenkurs Modul 9 am Nachmittag Sprandel BW105 (KM48919) 
LOCATION:Haus der VHS, Raum Sprandel, Innere Heerstr. 6, 72555 Metzingen
END:VEVENT
BEGIN:VEVENT
DTSTAMP:20260421T133432
DTSTART;TZID=Europe/Berlin:20270222T133000
DTEND;TZID=Europe/Berlin:20270222T164500
UID:KM48919-20270222T133000@VHSMETZINGEN
SUMMARY:Geringliteralisiertenkurs Modul 9 am Nachmittag Sprandel BW105 (KM48919) 
LOCATION:Haus der VHS, Raum Sprandel, Innere Heerstr. 6, 72555 Metzingen
END:VEVENT
BEGIN:VEVENT
DTSTAMP:20260421T133432
DTSTART;TZID=Europe/Berlin:20270223T133000
DTEND;TZID=Europe/Berlin:20270223T164500
UID:KM48919-20270223T133000@VHSMETZINGEN
SUMMARY:Geringliteralisiertenkurs Modul 9 am Nachmittag Sprandel BW105 (KM48919) 
LOCATION:Haus der VHS, Raum Sprandel, Innere Heerstr. 6, 72555 Metzingen
END:VEVENT
BEGIN:VEVENT
DTSTAMP:20260421T133432
DTSTART;TZID=Europe/Berlin:20270224T093000
DTEND;TZID=Europe/Berlin:20270224T124500
UID:KM48919-20270224T093000@VHSMETZINGEN
SUMMARY:Geringliteralisiertenkurs Modul 9 am Nachmittag Sprandel BW105 (KM48919) 
LOCATION:Haus der VHS, Raum Alte Post, Innere Heerstr. 6, 72555 Metzingen
END:VEVENT
BEGIN:VEVENT
DTSTAMP:20260421T133432
DTSTART;TZID=Europe/Berlin:20270226T093000
DTEND;TZID=Europe/Berlin:20270226T124500
UID:KM48919-20270226T093000@VHSMETZINGEN
DESCRIPTION:Ersatz für Ausfall am 12.01.2027
SUMMARY:Geringliteralisiertenkurs Modul 9 am Nachmittag Sprandel BW105 (KM48919) 
LOCATION:Haus der VHS, Raum Schönbein, Innere Heerstr. 6, 72555 Metzingen
END:VEVENT
BEGIN:VEVENT
DTSTAMP:20260421T133432
DTSTART;TZID=Europe/Berlin:20270301T133000
DTEND;TZID=Europe/Berlin:20270301T164500
UID:KM48919-20270301T133000@VHSMETZINGEN
SUMMARY:Geringliteralisiertenkurs Modul 9 am Nachmittag Sprandel BW105 (KM48919) 
LOCATION:Haus der VHS, Raum Schönbein, Innere Heerstr. 6, 72555 Metzingen
END:VEVENT
END:VCALENDAR