BEGIN:VCALENDAR
VERSION:2.0
PRODID:http://www.kufer.de/kuferweb / DE
METHOD:PUBLISH
CALSCALE:GREGORIAN
X-WR-TIMEZONE:Europe/Berlin
BEGIN:VTIMEZONE
TZID:Europe/Berlin
X-LIC-LOCATION:Europe/Berlin
BEGIN:DAYLIGHT
TZOFFSETFROM:+0100
TZOFFSETTO:+0200
TZNAME:CEST
DTSTART;TZID=Europe/Berlin:19700329T020000
RRULE:FREQ=YEARLY;INTERVAL=1;BYDAY=-1SU;BYMONTH=3
END:DAYLIGHT
BEGIN:STANDARD
TZOFFSETFROM:+0200
TZOFFSETTO:+0100
TZNAME:CET
DTSTART;TZID=Europe/Berlin:19701025T030000
RRULE:FREQ=YEARLY;INTERVAL=1;BYDAY=-1SU;BYMONTH=10
END:STANDARD
END:VTIMEZONE
BEGIN:VEVENT
DTSTAMP:20260419T181613
DTSTART;TZID=Europe/Berlin:20260224T200000
DTEND;TZID=Europe/Berlin:20260224T210000
UID:HV38660-20260224T200000@VHSMETZINGEN
SUMMARY:Functional Training (HV38660) 
LOCATION:Kohllöffel-Areal, Raum I, Nürtinger Str. 77, 72555 Metzingen
END:VEVENT
BEGIN:VEVENT
DTSTAMP:20260419T181613
DTSTART;TZID=Europe/Berlin:20260303T200000
DTEND;TZID=Europe/Berlin:20260303T210000
UID:HV38660-20260303T200000@VHSMETZINGEN
SUMMARY:Functional Training (HV38660) 
LOCATION:Kohllöffel-Areal, Raum I, Nürtinger Str. 77, 72555 Metzingen
END:VEVENT
BEGIN:VEVENT
DTSTAMP:20260419T181613
DTSTART;TZID=Europe/Berlin:20260310T200000
DTEND;TZID=Europe/Berlin:20260310T210000
UID:HV38660-20260310T200000@VHSMETZINGEN
SUMMARY:Functional Training (HV38660) 
LOCATION:Kohllöffel-Areal, Raum I, Nürtinger Str. 77, 72555 Metzingen
END:VEVENT
BEGIN:VEVENT
DTSTAMP:20260419T181613
DTSTART;TZID=Europe/Berlin:20260317T200000
DTEND;TZID=Europe/Berlin:20260317T210000
UID:HV38660-20260317T200000@VHSMETZINGEN
SUMMARY:Functional Training (HV38660) 
LOCATION:Kohllöffel-Areal, Raum I, Nürtinger Str. 77, 72555 Metzingen
END:VEVENT
BEGIN:VEVENT
DTSTAMP:20260419T181613
DTSTART;TZID=Europe/Berlin:20260324T200000
DTEND;TZID=Europe/Berlin:20260324T210000
UID:HV38660-20260324T200000@VHSMETZINGEN
SUMMARY:Functional Training (HV38660) 
LOCATION:Kohllöffel-Areal, Raum I, Nürtinger Str. 77, 72555 Metzingen
END:VEVENT
BEGIN:VEVENT
DTSTAMP:20260419T181613
DTSTART;TZID=Europe/Berlin:20260331T200000
DTEND;TZID=Europe/Berlin:20260331T210000
UID:HV38660-20260331T200000@VHSMETZINGEN
SUMMARY:Functional Training (HV38660) 
LOCATION:Kohllöffel-Areal, Raum I, Nürtinger Str. 77, 72555 Metzingen
END:VEVENT
BEGIN:VEVENT
DTSTAMP:20260419T181613
DTSTART;TZID=Europe/Berlin:20260407T200000
DTEND;TZID=Europe/Berlin:20260407T210000
UID:HV38660-20260407T200000@VHSMETZINGEN
SUMMARY:Functional Training (HV38660) 
LOCATION:Kohllöffel-Areal, Raum I, Nürtinger Str. 77, 72555 Metzingen
END:VEVENT
BEGIN:VEVENT
DTSTAMP:20260419T181613
DTSTART;TZID=Europe/Berlin:20260414T200000
DTEND;TZID=Europe/Berlin:20260414T210000
UID:HV38660-20260414T200000@VHSMETZINGEN
SUMMARY:Functional Training (HV38660) 
LOCATION:Kohllöffel-Areal, Raum I, Nürtinger Str. 77, 72555 Metzingen
END:VEVENT
BEGIN:VEVENT
DTSTAMP:20260419T181613
DTSTART;TZID=Europe/Berlin:20260421T200000
DTEND;TZID=Europe/Berlin:20260421T210000
UID:HV38660-20260421T200000@VHSMETZINGEN
SUMMARY:Functional Training (HV38660) 
LOCATION:Kohllöffel-Areal, Raum I, Nürtinger Str. 77, 72555 Metzingen
END:VEVENT
BEGIN:VEVENT
DTSTAMP:20260419T181613
DTSTART;TZID=Europe/Berlin:20260428T200000
DTEND;TZID=Europe/Berlin:20260428T210000
UID:HV38660-20260428T200000@VHSMETZINGEN
SUMMARY:Functional Training (HV38660) 
LOCATION:Kohllöffel-Areal, Raum I, Nürtinger Str. 77, 72555 Metzingen
END:VEVENT
BEGIN:VEVENT
DTSTAMP:20260419T181613
DTSTART;TZID=Europe/Berlin:20260505T200000
DTEND;TZID=Europe/Berlin:20260505T210000
UID:HV38660-20260505T200000@VHSMETZINGEN
SUMMARY:Functional Training (HV38660) 
LOCATION:Kohllöffel-Areal, Raum I, Nürtinger Str. 77, 72555 Metzingen
END:VEVENT
BEGIN:VEVENT
DTSTAMP:20260419T181613
DTSTART;TZID=Europe/Berlin:20260512T200000
DTEND;TZID=Europe/Berlin:20260512T210000
UID:HV38660-20260512T200000@VHSMETZINGEN
SUMMARY:Functional Training (HV38660) 
LOCATION:Kohllöffel-Areal, Raum I, Nürtinger Str. 77, 72555 Metzingen
END:VEVENT
BEGIN:VEVENT
DTSTAMP:20260419T181613
DTSTART;TZID=Europe/Berlin:20260519T200000
DTEND;TZID=Europe/Berlin:20260519T210000
UID:HV38660-20260519T200000@VHSMETZINGEN
SUMMARY:Functional Training (HV38660) 
LOCATION:Kohllöffel-Areal, Raum I, Nürtinger Str. 77, 72555 Metzingen
END:VEVENT
BEGIN:VEVENT
DTSTAMP:20260419T181613
DTSTART;TZID=Europe/Berlin:20260526T200000
DTEND;TZID=Europe/Berlin:20260526T210000
UID:HV38660-20260526T200000@VHSMETZINGEN
SUMMARY:Functional Training (HV38660) 
LOCATION:Kohllöffel-Areal, Raum I, Nürtinger Str. 77, 72555 Metzingen
END:VEVENT
BEGIN:VEVENT
DTSTAMP:20260419T181613
DTSTART;TZID=Europe/Berlin:20260602T200000
DTEND;TZID=Europe/Berlin:20260602T210000
UID:HV38660-20260602T200000@VHSMETZINGEN
SUMMARY:Functional Training (HV38660) 
LOCATION:Kohllöffel-Areal, Raum I, Nürtinger Str. 77, 72555 Metzingen
END:VEVENT
BEGIN:VEVENT
DTSTAMP:20260419T181613
DTSTART;TZID=Europe/Berlin:20260609T200000
DTEND;TZID=Europe/Berlin:20260609T210000
UID:HV38660-20260609T200000@VHSMETZINGEN
SUMMARY:Functional Training (HV38660) 
LOCATION:Kohllöffel-Areal, Raum I, Nürtinger Str. 77, 72555 Metzingen
END:VEVENT
END:VCALENDAR