BEGIN:VCALENDAR
VERSION:2.0
PRODID:http://www.kufer.de/kuferweb / DE
METHOD:PUBLISH
CALSCALE:GREGORIAN
X-WR-TIMEZONE:Europe/Berlin
BEGIN:VTIMEZONE
TZID:Europe/Berlin
X-LIC-LOCATION:Europe/Berlin
BEGIN:DAYLIGHT
TZOFFSETFROM:+0100
TZOFFSETTO:+0200
TZNAME:CEST
DTSTART;TZID=Europe/Berlin:19700329T020000
RRULE:FREQ=YEARLY;INTERVAL=1;BYDAY=-1SU;BYMONTH=3
END:DAYLIGHT
BEGIN:STANDARD
TZOFFSETFROM:+0200
TZOFFSETTO:+0100
TZNAME:CET
DTSTART;TZID=Europe/Berlin:19701025T030000
RRULE:FREQ=YEARLY;INTERVAL=1;BYDAY=-1SU;BYMONTH=10
END:STANDARD
END:VTIMEZONE
BEGIN:VEVENT
DTSTAMP:20260419T175552
DTSTART;TZID=Europe/Berlin:20260227T100000
DTEND;TZID=Europe/Berlin:20260227T110000
UID:HV38560-20260227T100000@VHSMETZINGEN
SUMMARY:Ganzkörpertraining mit Beckenbodengymnastik (HV38560) 
LOCATION:Uhlandschule, Alte Turnhalle, , 72555 Neuhausen
END:VEVENT
BEGIN:VEVENT
DTSTAMP:20260419T175552
DTSTART;TZID=Europe/Berlin:20260306T100000
DTEND;TZID=Europe/Berlin:20260306T110000
UID:HV38560-20260306T100000@VHSMETZINGEN
SUMMARY:Ganzkörpertraining mit Beckenbodengymnastik (HV38560) 
LOCATION:Uhlandschule, Alte Turnhalle, , 72555 Neuhausen
END:VEVENT
BEGIN:VEVENT
DTSTAMP:20260419T175552
DTSTART;TZID=Europe/Berlin:20260313T100000
DTEND;TZID=Europe/Berlin:20260313T110000
UID:HV38560-20260313T100000@VHSMETZINGEN
SUMMARY:Ganzkörpertraining mit Beckenbodengymnastik (HV38560) 
LOCATION:Uhlandschule, Alte Turnhalle, , 72555 Neuhausen
END:VEVENT
BEGIN:VEVENT
DTSTAMP:20260419T175552
DTSTART;TZID=Europe/Berlin:20260320T100000
DTEND;TZID=Europe/Berlin:20260320T110000
UID:HV38560-20260320T100000@VHSMETZINGEN
SUMMARY:Ganzkörpertraining mit Beckenbodengymnastik (HV38560) 
LOCATION:Uhlandschule, Alte Turnhalle, , 72555 Neuhausen
END:VEVENT
BEGIN:VEVENT
DTSTAMP:20260419T175552
DTSTART;TZID=Europe/Berlin:20260327T100000
DTEND;TZID=Europe/Berlin:20260327T110000
UID:HV38560-20260327T100000@VHSMETZINGEN
SUMMARY:Ganzkörpertraining mit Beckenbodengymnastik (HV38560) 
LOCATION:Uhlandschule, Alte Turnhalle, , 72555 Neuhausen
END:VEVENT
BEGIN:VEVENT
DTSTAMP:20260419T175552
DTSTART;TZID=Europe/Berlin:20260417T100000
DTEND;TZID=Europe/Berlin:20260417T110000
UID:HV38560-20260417T100000@VHSMETZINGEN
SUMMARY:Ganzkörpertraining mit Beckenbodengymnastik (HV38560) 
LOCATION:Uhlandschule, Alte Turnhalle, , 72555 Neuhausen
END:VEVENT
BEGIN:VEVENT
DTSTAMP:20260419T175552
DTSTART;TZID=Europe/Berlin:20260424T100000
DTEND;TZID=Europe/Berlin:20260424T110000
UID:HV38560-20260424T100000@VHSMETZINGEN
SUMMARY:Ganzkörpertraining mit Beckenbodengymnastik (HV38560) 
LOCATION:Uhlandschule, Alte Turnhalle, , 72555 Neuhausen
END:VEVENT
BEGIN:VEVENT
DTSTAMP:20260419T175552
DTSTART;TZID=Europe/Berlin:20260508T100000
DTEND;TZID=Europe/Berlin:20260508T110000
UID:HV38560-20260508T100000@VHSMETZINGEN
SUMMARY:Ganzkörpertraining mit Beckenbodengymnastik (HV38560) 
LOCATION:Uhlandschule, Alte Turnhalle, , 72555 Neuhausen
END:VEVENT
BEGIN:VEVENT
DTSTAMP:20260419T175552
DTSTART;TZID=Europe/Berlin:20260522T100000
DTEND;TZID=Europe/Berlin:20260522T110000
UID:HV38560-20260522T100000@VHSMETZINGEN
SUMMARY:Ganzkörpertraining mit Beckenbodengymnastik (HV38560) 
LOCATION:Uhlandschule, Alte Turnhalle, , 72555 Neuhausen
END:VEVENT
BEGIN:VEVENT
DTSTAMP:20260419T175552
DTSTART;TZID=Europe/Berlin:20260612T100000
DTEND;TZID=Europe/Berlin:20260612T110000
UID:HV38560-20260612T100000@VHSMETZINGEN
SUMMARY:Ganzkörpertraining mit Beckenbodengymnastik (HV38560) 
LOCATION:Uhlandschule, Alte Turnhalle, , 72555 Neuhausen
END:VEVENT
BEGIN:VEVENT
DTSTAMP:20260419T175552
DTSTART;TZID=Europe/Berlin:20260619T100000
DTEND;TZID=Europe/Berlin:20260619T110000
UID:HV38560-20260619T100000@VHSMETZINGEN
SUMMARY:Ganzkörpertraining mit Beckenbodengymnastik (HV38560) 
LOCATION:Uhlandschule, Alte Turnhalle, , 72555 Neuhausen
END:VEVENT
BEGIN:VEVENT
DTSTAMP:20260419T175552
DTSTART;TZID=Europe/Berlin:20260626T100000
DTEND;TZID=Europe/Berlin:20260626T110000
UID:HV38560-20260626T100000@VHSMETZINGEN
SUMMARY:Ganzkörpertraining mit Beckenbodengymnastik (HV38560) 
LOCATION:Uhlandschule, Alte Turnhalle, , 72555 Neuhausen
END:VEVENT
BEGIN:VEVENT
DTSTAMP:20260419T175552
DTSTART;TZID=Europe/Berlin:20260703T100000
DTEND;TZID=Europe/Berlin:20260703T110000
UID:HV38560-20260703T100000@VHSMETZINGEN
SUMMARY:Ganzkörpertraining mit Beckenbodengymnastik (HV38560) 
LOCATION:Uhlandschule, Alte Turnhalle, , 72555 Neuhausen
END:VEVENT
BEGIN:VEVENT
DTSTAMP:20260419T175552
DTSTART;TZID=Europe/Berlin:20260710T100000
DTEND;TZID=Europe/Berlin:20260710T110000
UID:HV38560-20260710T100000@VHSMETZINGEN
SUMMARY:Ganzkörpertraining mit Beckenbodengymnastik (HV38560) 
LOCATION:Uhlandschule, Alte Turnhalle, , 72555 Neuhausen
END:VEVENT
BEGIN:VEVENT
DTSTAMP:20260419T175552
DTSTART;TZID=Europe/Berlin:20260717T100000
DTEND;TZID=Europe/Berlin:20260717T110000
UID:HV38560-20260717T100000@VHSMETZINGEN
SUMMARY:Ganzkörpertraining mit Beckenbodengymnastik (HV38560) 
LOCATION:Uhlandschule, Alte Turnhalle, , 72555 Neuhausen
END:VEVENT
BEGIN:VEVENT
DTSTAMP:20260419T175552
DTSTART;TZID=Europe/Berlin:20260724T100000
DTEND;TZID=Europe/Berlin:20260724T110000
UID:HV38560-20260724T100000@VHSMETZINGEN
SUMMARY:Ganzkörpertraining mit Beckenbodengymnastik (HV38560) 
LOCATION:Uhlandschule, Alte Turnhalle, , 72555 Neuhausen
END:VEVENT
END:VCALENDAR