BEGIN:VCALENDAR
VERSION:2.0
PRODID:http://www.kufer.de/kuferweb / DE
METHOD:PUBLISH
CALSCALE:GREGORIAN
X-WR-TIMEZONE:Europe/Berlin
BEGIN:VTIMEZONE
TZID:Europe/Berlin
X-LIC-LOCATION:Europe/Berlin
BEGIN:DAYLIGHT
TZOFFSETFROM:+0100
TZOFFSETTO:+0200
TZNAME:CEST
DTSTART;TZID=Europe/Berlin:19700329T020000
RRULE:FREQ=YEARLY;INTERVAL=1;BYDAY=-1SU;BYMONTH=3
END:DAYLIGHT
BEGIN:STANDARD
TZOFFSETFROM:+0200
TZOFFSETTO:+0100
TZNAME:CET
DTSTART;TZID=Europe/Berlin:19701025T030000
RRULE:FREQ=YEARLY;INTERVAL=1;BYDAY=-1SU;BYMONTH=10
END:STANDARD
END:VTIMEZONE
BEGIN:VEVENT
DTSTAMP:20260419T175552
DTSTART;TZID=Europe/Berlin:20260227T090000
DTEND;TZID=Europe/Berlin:20260227T100000
UID:HV38558-20260227T090000@VHSMETZINGEN
SUMMARY:Knie- und Hüftsportschule (HV38558) 
LOCATION:Uhlandschule, Alte Turnhalle, , 72555 Neuhausen
END:VEVENT
BEGIN:VEVENT
DTSTAMP:20260419T175552
DTSTART;TZID=Europe/Berlin:20260306T090000
DTEND;TZID=Europe/Berlin:20260306T100000
UID:HV38558-20260306T090000@VHSMETZINGEN
SUMMARY:Knie- und Hüftsportschule (HV38558) 
LOCATION:Uhlandschule, Alte Turnhalle, , 72555 Neuhausen
END:VEVENT
BEGIN:VEVENT
DTSTAMP:20260419T175552
DTSTART;TZID=Europe/Berlin:20260313T090000
DTEND;TZID=Europe/Berlin:20260313T100000
UID:HV38558-20260313T090000@VHSMETZINGEN
SUMMARY:Knie- und Hüftsportschule (HV38558) 
LOCATION:Uhlandschule, Alte Turnhalle, , 72555 Neuhausen
END:VEVENT
BEGIN:VEVENT
DTSTAMP:20260419T175552
DTSTART;TZID=Europe/Berlin:20260320T090000
DTEND;TZID=Europe/Berlin:20260320T100000
UID:HV38558-20260320T090000@VHSMETZINGEN
SUMMARY:Knie- und Hüftsportschule (HV38558) 
LOCATION:Uhlandschule, Alte Turnhalle, , 72555 Neuhausen
END:VEVENT
BEGIN:VEVENT
DTSTAMP:20260419T175552
DTSTART;TZID=Europe/Berlin:20260327T090000
DTEND;TZID=Europe/Berlin:20260327T100000
UID:HV38558-20260327T090000@VHSMETZINGEN
SUMMARY:Knie- und Hüftsportschule (HV38558) 
LOCATION:Uhlandschule, Alte Turnhalle, , 72555 Neuhausen
END:VEVENT
BEGIN:VEVENT
DTSTAMP:20260419T175552
DTSTART;TZID=Europe/Berlin:20260417T090000
DTEND;TZID=Europe/Berlin:20260417T100000
UID:HV38558-20260417T090000@VHSMETZINGEN
SUMMARY:Knie- und Hüftsportschule (HV38558) 
LOCATION:Uhlandschule, Alte Turnhalle, , 72555 Neuhausen
END:VEVENT
BEGIN:VEVENT
DTSTAMP:20260419T175552
DTSTART;TZID=Europe/Berlin:20260424T090000
DTEND;TZID=Europe/Berlin:20260424T100000
UID:HV38558-20260424T090000@VHSMETZINGEN
SUMMARY:Knie- und Hüftsportschule (HV38558) 
LOCATION:Uhlandschule, Alte Turnhalle, , 72555 Neuhausen
END:VEVENT
BEGIN:VEVENT
DTSTAMP:20260419T175552
DTSTART;TZID=Europe/Berlin:20260508T090000
DTEND;TZID=Europe/Berlin:20260508T100000
UID:HV38558-20260508T090000@VHSMETZINGEN
SUMMARY:Knie- und Hüftsportschule (HV38558) 
LOCATION:Uhlandschule, Alte Turnhalle, , 72555 Neuhausen
END:VEVENT
BEGIN:VEVENT
DTSTAMP:20260419T175552
DTSTART;TZID=Europe/Berlin:20260522T090000
DTEND;TZID=Europe/Berlin:20260522T100000
UID:HV38558-20260522T090000@VHSMETZINGEN
SUMMARY:Knie- und Hüftsportschule (HV38558) 
LOCATION:Uhlandschule, Alte Turnhalle, , 72555 Neuhausen
END:VEVENT
BEGIN:VEVENT
DTSTAMP:20260419T175552
DTSTART;TZID=Europe/Berlin:20260612T090000
DTEND;TZID=Europe/Berlin:20260612T100000
UID:HV38558-20260612T090000@VHSMETZINGEN
SUMMARY:Knie- und Hüftsportschule (HV38558) 
LOCATION:Uhlandschule, Alte Turnhalle, , 72555 Neuhausen
END:VEVENT
BEGIN:VEVENT
DTSTAMP:20260419T175552
DTSTART;TZID=Europe/Berlin:20260619T090000
DTEND;TZID=Europe/Berlin:20260619T100000
UID:HV38558-20260619T090000@VHSMETZINGEN
SUMMARY:Knie- und Hüftsportschule (HV38558) 
LOCATION:Uhlandschule, Alte Turnhalle, , 72555 Neuhausen
END:VEVENT
BEGIN:VEVENT
DTSTAMP:20260419T175552
DTSTART;TZID=Europe/Berlin:20260626T090000
DTEND;TZID=Europe/Berlin:20260626T100000
UID:HV38558-20260626T090000@VHSMETZINGEN
SUMMARY:Knie- und Hüftsportschule (HV38558) 
LOCATION:Uhlandschule, Alte Turnhalle, , 72555 Neuhausen
END:VEVENT
BEGIN:VEVENT
DTSTAMP:20260419T175552
DTSTART;TZID=Europe/Berlin:20260703T090000
DTEND;TZID=Europe/Berlin:20260703T100000
UID:HV38558-20260703T090000@VHSMETZINGEN
SUMMARY:Knie- und Hüftsportschule (HV38558) 
LOCATION:Uhlandschule, Alte Turnhalle, , 72555 Neuhausen
END:VEVENT
BEGIN:VEVENT
DTSTAMP:20260419T175552
DTSTART;TZID=Europe/Berlin:20260710T090000
DTEND;TZID=Europe/Berlin:20260710T100000
UID:HV38558-20260710T090000@VHSMETZINGEN
SUMMARY:Knie- und Hüftsportschule (HV38558) 
LOCATION:Uhlandschule, Alte Turnhalle, , 72555 Neuhausen
END:VEVENT
BEGIN:VEVENT
DTSTAMP:20260419T175552
DTSTART;TZID=Europe/Berlin:20260717T090000
DTEND;TZID=Europe/Berlin:20260717T100000
UID:HV38558-20260717T090000@VHSMETZINGEN
SUMMARY:Knie- und Hüftsportschule (HV38558) 
LOCATION:Uhlandschule, Alte Turnhalle, , 72555 Neuhausen
END:VEVENT
BEGIN:VEVENT
DTSTAMP:20260419T175552
DTSTART;TZID=Europe/Berlin:20260724T090000
DTEND;TZID=Europe/Berlin:20260724T100000
UID:HV38558-20260724T090000@VHSMETZINGEN
SUMMARY:Knie- und Hüftsportschule (HV38558) 
LOCATION:Uhlandschule, Alte Turnhalle, , 72555 Neuhausen
END:VEVENT
END:VCALENDAR