BEGIN:VCALENDAR
VERSION:2.0
PRODID:http://www.kufer.de/kuferweb / DE
METHOD:PUBLISH
CALSCALE:GREGORIAN
X-WR-TIMEZONE:Europe/Berlin
BEGIN:VTIMEZONE
TZID:Europe/Berlin
X-LIC-LOCATION:Europe/Berlin
BEGIN:DAYLIGHT
TZOFFSETFROM:+0100
TZOFFSETTO:+0200
TZNAME:CEST
DTSTART;TZID=Europe/Berlin:19700329T020000
RRULE:FREQ=YEARLY;INTERVAL=1;BYDAY=-1SU;BYMONTH=3
END:DAYLIGHT
BEGIN:STANDARD
TZOFFSETFROM:+0200
TZOFFSETTO:+0100
TZNAME:CET
DTSTART;TZID=Europe/Berlin:19701025T030000
RRULE:FREQ=YEARLY;INTERVAL=1;BYDAY=-1SU;BYMONTH=10
END:STANDARD
END:VTIMEZONE
BEGIN:VEVENT
DTSTAMP:20260419T181612
DTSTART;TZID=Europe/Berlin:20260224T190000
DTEND;TZID=Europe/Berlin:20260224T200000
UID:HV38556-20260224T190000@VHSMETZINGEN
SUMMARY:Rückenfitness und Bauch-Beine-Po (HV38556) 
LOCATION:Kohllöffel-Areal, Raum I, Nürtinger Str. 77, 72555 Metzingen
END:VEVENT
BEGIN:VEVENT
DTSTAMP:20260419T181612
DTSTART;TZID=Europe/Berlin:20260303T190000
DTEND;TZID=Europe/Berlin:20260303T200000
UID:HV38556-20260303T190000@VHSMETZINGEN
SUMMARY:Rückenfitness und Bauch-Beine-Po (HV38556) 
LOCATION:Kohllöffel-Areal, Raum I, Nürtinger Str. 77, 72555 Metzingen
END:VEVENT
BEGIN:VEVENT
DTSTAMP:20260419T181612
DTSTART;TZID=Europe/Berlin:20260310T190000
DTEND;TZID=Europe/Berlin:20260310T200000
UID:HV38556-20260310T190000@VHSMETZINGEN
SUMMARY:Rückenfitness und Bauch-Beine-Po (HV38556) 
LOCATION:Kohllöffel-Areal, Raum I, Nürtinger Str. 77, 72555 Metzingen
END:VEVENT
BEGIN:VEVENT
DTSTAMP:20260419T181612
DTSTART;TZID=Europe/Berlin:20260317T190000
DTEND;TZID=Europe/Berlin:20260317T200000
UID:HV38556-20260317T190000@VHSMETZINGEN
SUMMARY:Rückenfitness und Bauch-Beine-Po (HV38556) 
LOCATION:Kohllöffel-Areal, Raum I, Nürtinger Str. 77, 72555 Metzingen
END:VEVENT
BEGIN:VEVENT
DTSTAMP:20260419T181612
DTSTART;TZID=Europe/Berlin:20260324T190000
DTEND;TZID=Europe/Berlin:20260324T200000
UID:HV38556-20260324T190000@VHSMETZINGEN
SUMMARY:Rückenfitness und Bauch-Beine-Po (HV38556) 
LOCATION:Kohllöffel-Areal, Raum I, Nürtinger Str. 77, 72555 Metzingen
END:VEVENT
BEGIN:VEVENT
DTSTAMP:20260419T181612
DTSTART;TZID=Europe/Berlin:20260331T190000
DTEND;TZID=Europe/Berlin:20260331T200000
UID:HV38556-20260331T190000@VHSMETZINGEN
SUMMARY:Rückenfitness und Bauch-Beine-Po (HV38556) 
LOCATION:Kohllöffel-Areal, Raum I, Nürtinger Str. 77, 72555 Metzingen
END:VEVENT
BEGIN:VEVENT
DTSTAMP:20260419T181612
DTSTART;TZID=Europe/Berlin:20260407T190000
DTEND;TZID=Europe/Berlin:20260407T200000
UID:HV38556-20260407T190000@VHSMETZINGEN
SUMMARY:Rückenfitness und Bauch-Beine-Po (HV38556) 
LOCATION:Kohllöffel-Areal, Raum I, Nürtinger Str. 77, 72555 Metzingen
END:VEVENT
BEGIN:VEVENT
DTSTAMP:20260419T181612
DTSTART;TZID=Europe/Berlin:20260414T190000
DTEND;TZID=Europe/Berlin:20260414T200000
UID:HV38556-20260414T190000@VHSMETZINGEN
SUMMARY:Rückenfitness und Bauch-Beine-Po (HV38556) 
LOCATION:Kohllöffel-Areal, Raum I, Nürtinger Str. 77, 72555 Metzingen
END:VEVENT
BEGIN:VEVENT
DTSTAMP:20260419T181612
DTSTART;TZID=Europe/Berlin:20260421T190000
DTEND;TZID=Europe/Berlin:20260421T200000
UID:HV38556-20260421T190000@VHSMETZINGEN
SUMMARY:Rückenfitness und Bauch-Beine-Po (HV38556) 
LOCATION:Kohllöffel-Areal, Raum I, Nürtinger Str. 77, 72555 Metzingen
END:VEVENT
BEGIN:VEVENT
DTSTAMP:20260419T181612
DTSTART;TZID=Europe/Berlin:20260428T190000
DTEND;TZID=Europe/Berlin:20260428T200000
UID:HV38556-20260428T190000@VHSMETZINGEN
SUMMARY:Rückenfitness und Bauch-Beine-Po (HV38556) 
LOCATION:Kohllöffel-Areal, Raum I, Nürtinger Str. 77, 72555 Metzingen
END:VEVENT
BEGIN:VEVENT
DTSTAMP:20260419T181612
DTSTART;TZID=Europe/Berlin:20260505T190000
DTEND;TZID=Europe/Berlin:20260505T200000
UID:HV38556-20260505T190000@VHSMETZINGEN
SUMMARY:Rückenfitness und Bauch-Beine-Po (HV38556) 
LOCATION:Kohllöffel-Areal, Raum I, Nürtinger Str. 77, 72555 Metzingen
END:VEVENT
BEGIN:VEVENT
DTSTAMP:20260419T181612
DTSTART;TZID=Europe/Berlin:20260512T190000
DTEND;TZID=Europe/Berlin:20260512T200000
UID:HV38556-20260512T190000@VHSMETZINGEN
SUMMARY:Rückenfitness und Bauch-Beine-Po (HV38556) 
LOCATION:Kohllöffel-Areal, Raum I, Nürtinger Str. 77, 72555 Metzingen
END:VEVENT
BEGIN:VEVENT
DTSTAMP:20260419T181612
DTSTART;TZID=Europe/Berlin:20260519T190000
DTEND;TZID=Europe/Berlin:20260519T200000
UID:HV38556-20260519T190000@VHSMETZINGEN
SUMMARY:Rückenfitness und Bauch-Beine-Po (HV38556) 
LOCATION:Kohllöffel-Areal, Raum I, Nürtinger Str. 77, 72555 Metzingen
END:VEVENT
BEGIN:VEVENT
DTSTAMP:20260419T181612
DTSTART;TZID=Europe/Berlin:20260526T190000
DTEND;TZID=Europe/Berlin:20260526T200000
UID:HV38556-20260526T190000@VHSMETZINGEN
SUMMARY:Rückenfitness und Bauch-Beine-Po (HV38556) 
LOCATION:Kohllöffel-Areal, Raum I, Nürtinger Str. 77, 72555 Metzingen
END:VEVENT
BEGIN:VEVENT
DTSTAMP:20260419T181612
DTSTART;TZID=Europe/Berlin:20260602T190000
DTEND;TZID=Europe/Berlin:20260602T200000
UID:HV38556-20260602T190000@VHSMETZINGEN
SUMMARY:Rückenfitness und Bauch-Beine-Po (HV38556) 
LOCATION:Kohllöffel-Areal, Raum I, Nürtinger Str. 77, 72555 Metzingen
END:VEVENT
BEGIN:VEVENT
DTSTAMP:20260419T181612
DTSTART;TZID=Europe/Berlin:20260609T190000
DTEND;TZID=Europe/Berlin:20260609T200000
UID:HV38556-20260609T190000@VHSMETZINGEN
SUMMARY:Rückenfitness und Bauch-Beine-Po (HV38556) 
LOCATION:Kohllöffel-Areal, Raum I, Nürtinger Str. 77, 72555 Metzingen
END:VEVENT
END:VCALENDAR