BEGIN:VCALENDAR
VERSION:2.0
PRODID:http://www.kufer.de/kuferweb / DE
METHOD:PUBLISH
CALSCALE:GREGORIAN
X-WR-TIMEZONE:Europe/Berlin
BEGIN:VTIMEZONE
TZID:Europe/Berlin
X-LIC-LOCATION:Europe/Berlin
BEGIN:DAYLIGHT
TZOFFSETFROM:+0100
TZOFFSETTO:+0200
TZNAME:CEST
DTSTART;TZID=Europe/Berlin:19700329T020000
RRULE:FREQ=YEARLY;INTERVAL=1;BYDAY=-1SU;BYMONTH=3
END:DAYLIGHT
BEGIN:STANDARD
TZOFFSETFROM:+0200
TZOFFSETTO:+0100
TZNAME:CET
DTSTART;TZID=Europe/Berlin:19701025T030000
RRULE:FREQ=YEARLY;INTERVAL=1;BYDAY=-1SU;BYMONTH=10
END:STANDARD
END:VTIMEZONE
BEGIN:VEVENT
DTSTAMP:20260421T041220
DTSTART;TZID=Europe/Berlin:20260225T183000
DTEND;TZID=Europe/Berlin:20260225T194500
UID:HV38351-20260225T183000@VHSMETZINGEN
SUMMARY:Vinyasa Yoga (HV38351) 
LOCATION:Auhof Neuhausen, Saal, In der Au 1, 72555 Metzingen-Neuhausen
END:VEVENT
BEGIN:VEVENT
DTSTAMP:20260421T041220
DTSTART;TZID=Europe/Berlin:20260304T183000
DTEND;TZID=Europe/Berlin:20260304T194500
UID:HV38351-20260304T183000@VHSMETZINGEN
SUMMARY:Vinyasa Yoga (HV38351) 
LOCATION:Auhof Neuhausen, Saal, In der Au 1, 72555 Metzingen-Neuhausen
END:VEVENT
BEGIN:VEVENT
DTSTAMP:20260421T041220
DTSTART;TZID=Europe/Berlin:20260311T183000
DTEND;TZID=Europe/Berlin:20260311T194500
UID:HV38351-20260311T183000@VHSMETZINGEN
SUMMARY:Vinyasa Yoga (HV38351) 
LOCATION:Auhof Neuhausen, Saal, In der Au 1, 72555 Metzingen-Neuhausen
END:VEVENT
BEGIN:VEVENT
DTSTAMP:20260421T041220
DTSTART;TZID=Europe/Berlin:20260318T183000
DTEND;TZID=Europe/Berlin:20260318T194500
UID:HV38351-20260318T183000@VHSMETZINGEN
SUMMARY:Vinyasa Yoga (HV38351) 
LOCATION:Auhof Neuhausen, Saal, In der Au 1, 72555 Metzingen-Neuhausen
END:VEVENT
BEGIN:VEVENT
DTSTAMP:20260421T041220
DTSTART;TZID=Europe/Berlin:20260325T183000
DTEND;TZID=Europe/Berlin:20260325T194500
UID:HV38351-20260325T183000@VHSMETZINGEN
SUMMARY:Vinyasa Yoga (HV38351) 
LOCATION:Auhof Neuhausen, Saal, In der Au 1, 72555 Metzingen-Neuhausen
END:VEVENT
BEGIN:VEVENT
DTSTAMP:20260421T041220
DTSTART;TZID=Europe/Berlin:20260415T183000
DTEND;TZID=Europe/Berlin:20260415T194500
UID:HV38351-20260415T183000@VHSMETZINGEN
SUMMARY:Vinyasa Yoga (HV38351) 
LOCATION:Auhof Neuhausen, Saal, In der Au 1, 72555 Metzingen-Neuhausen
END:VEVENT
BEGIN:VEVENT
DTSTAMP:20260421T041220
DTSTART;TZID=Europe/Berlin:20260422T183000
DTEND;TZID=Europe/Berlin:20260422T194500
UID:HV38351-20260422T183000@VHSMETZINGEN
SUMMARY:Vinyasa Yoga (HV38351) 
LOCATION:Auhof Neuhausen, Saal, In der Au 1, 72555 Metzingen-Neuhausen
END:VEVENT
BEGIN:VEVENT
DTSTAMP:20260421T041220
DTSTART;TZID=Europe/Berlin:20260429T183000
DTEND;TZID=Europe/Berlin:20260429T194500
UID:HV38351-20260429T183000@VHSMETZINGEN
SUMMARY:Vinyasa Yoga (HV38351) 
LOCATION:Auhof Neuhausen, Saal, In der Au 1, 72555 Metzingen-Neuhausen
END:VEVENT
BEGIN:VEVENT
DTSTAMP:20260421T041220
DTSTART;TZID=Europe/Berlin:20260506T183000
DTEND;TZID=Europe/Berlin:20260506T194500
UID:HV38351-20260506T183000@VHSMETZINGEN
SUMMARY:Vinyasa Yoga (HV38351) 
LOCATION:Auhof Neuhausen, Saal, In der Au 1, 72555 Metzingen-Neuhausen
END:VEVENT
BEGIN:VEVENT
DTSTAMP:20260421T041220
DTSTART;TZID=Europe/Berlin:20260513T183000
DTEND;TZID=Europe/Berlin:20260513T194500
UID:HV38351-20260513T183000@VHSMETZINGEN
SUMMARY:Vinyasa Yoga (HV38351) 
LOCATION:Auhof Neuhausen, Saal, In der Au 1, 72555 Metzingen-Neuhausen
END:VEVENT
BEGIN:VEVENT
DTSTAMP:20260421T041220
DTSTART;TZID=Europe/Berlin:20260520T183000
DTEND;TZID=Europe/Berlin:20260520T194500
UID:HV38351-20260520T183000@VHSMETZINGEN
SUMMARY:Vinyasa Yoga (HV38351) 
LOCATION:Auhof Neuhausen, Saal, In der Au 1, 72555 Metzingen-Neuhausen
END:VEVENT
BEGIN:VEVENT
DTSTAMP:20260421T041220
DTSTART;TZID=Europe/Berlin:20260610T183000
DTEND;TZID=Europe/Berlin:20260610T194500
UID:HV38351-20260610T183000@VHSMETZINGEN
SUMMARY:Vinyasa Yoga (HV38351) 
LOCATION:Auhof Neuhausen, Saal, In der Au 1, 72555 Metzingen-Neuhausen
END:VEVENT
BEGIN:VEVENT
DTSTAMP:20260421T041220
DTSTART;TZID=Europe/Berlin:20260617T183000
DTEND;TZID=Europe/Berlin:20260617T194500
UID:HV38351-20260617T183000@VHSMETZINGEN
SUMMARY:Vinyasa Yoga (HV38351) 
LOCATION:Auhof Neuhausen, Saal, In der Au 1, 72555 Metzingen-Neuhausen
END:VEVENT
BEGIN:VEVENT
DTSTAMP:20260421T041220
DTSTART;TZID=Europe/Berlin:20260624T183000
DTEND;TZID=Europe/Berlin:20260624T194500
UID:HV38351-20260624T183000@VHSMETZINGEN
SUMMARY:Vinyasa Yoga (HV38351) 
LOCATION:Auhof Neuhausen, Saal, In der Au 1, 72555 Metzingen-Neuhausen
END:VEVENT
BEGIN:VEVENT
DTSTAMP:20260421T041220
DTSTART;TZID=Europe/Berlin:20260701T183000
DTEND;TZID=Europe/Berlin:20260701T194500
UID:HV38351-20260701T183000@VHSMETZINGEN
SUMMARY:Vinyasa Yoga (HV38351) 
LOCATION:Auhof Neuhausen, Saal, In der Au 1, 72555 Metzingen-Neuhausen
END:VEVENT
BEGIN:VEVENT
DTSTAMP:20260421T041220
DTSTART;TZID=Europe/Berlin:20260708T183000
DTEND;TZID=Europe/Berlin:20260708T194500
UID:HV38351-20260708T183000@VHSMETZINGEN
SUMMARY:Vinyasa Yoga (HV38351) 
LOCATION:Auhof Neuhausen, Saal, In der Au 1, 72555 Metzingen-Neuhausen
END:VEVENT
END:VCALENDAR