BEGIN:VCALENDAR
VERSION:2.0
PRODID:http://www.kufer.de/kuferweb / DE
METHOD:PUBLISH
CALSCALE:GREGORIAN
X-WR-TIMEZONE:Europe/Berlin
BEGIN:VTIMEZONE
TZID:Europe/Berlin
X-LIC-LOCATION:Europe/Berlin
BEGIN:DAYLIGHT
TZOFFSETFROM:+0100
TZOFFSETTO:+0200
TZNAME:CEST
DTSTART;TZID=Europe/Berlin:19700329T020000
RRULE:FREQ=YEARLY;INTERVAL=1;BYDAY=-1SU;BYMONTH=3
END:DAYLIGHT
BEGIN:STANDARD
TZOFFSETFROM:+0200
TZOFFSETTO:+0100
TZNAME:CET
DTSTART;TZID=Europe/Berlin:19701025T030000
RRULE:FREQ=YEARLY;INTERVAL=1;BYDAY=-1SU;BYMONTH=10
END:STANDARD
END:VTIMEZONE
BEGIN:VEVENT
DTSTAMP:20260419T191418
DTSTART;TZID=Europe/Berlin:20260324T090000
DTEND;TZID=Europe/Berlin:20260324T100000
UID:HV38350-20260324T090000@VHSMETZINGEN
SUMMARY:Yoga am Vormittag (HV38350) 
LOCATION:Bindhof Neuhausen, Saal, , Neuhausen
END:VEVENT
BEGIN:VEVENT
DTSTAMP:20260419T191418
DTSTART;TZID=Europe/Berlin:20260414T090000
DTEND;TZID=Europe/Berlin:20260414T100000
UID:HV38350-20260414T090000@VHSMETZINGEN
SUMMARY:Yoga am Vormittag (HV38350) 
LOCATION:Bindhof Neuhausen, Saal, , Neuhausen
END:VEVENT
BEGIN:VEVENT
DTSTAMP:20260419T191418
DTSTART;TZID=Europe/Berlin:20260421T090000
DTEND;TZID=Europe/Berlin:20260421T100000
UID:HV38350-20260421T090000@VHSMETZINGEN
SUMMARY:Yoga am Vormittag (HV38350) 
LOCATION:Bindhof Neuhausen, Saal, , Neuhausen
END:VEVENT
BEGIN:VEVENT
DTSTAMP:20260419T191418
DTSTART;TZID=Europe/Berlin:20260428T090000
DTEND;TZID=Europe/Berlin:20260428T100000
UID:HV38350-20260428T090000@VHSMETZINGEN
SUMMARY:Yoga am Vormittag (HV38350) 
LOCATION:Bindhof Neuhausen, Saal, , Neuhausen
END:VEVENT
BEGIN:VEVENT
DTSTAMP:20260419T191418
DTSTART;TZID=Europe/Berlin:20260505T090000
DTEND;TZID=Europe/Berlin:20260505T100000
UID:HV38350-20260505T090000@VHSMETZINGEN
SUMMARY:Yoga am Vormittag (HV38350) 
LOCATION:Bindhof Neuhausen, Saal, , Neuhausen
END:VEVENT
BEGIN:VEVENT
DTSTAMP:20260419T191418
DTSTART;TZID=Europe/Berlin:20260512T090000
DTEND;TZID=Europe/Berlin:20260512T100000
UID:HV38350-20260512T090000@VHSMETZINGEN
SUMMARY:Yoga am Vormittag (HV38350) 
LOCATION:Bindhof Neuhausen, Saal, , Neuhausen
END:VEVENT
BEGIN:VEVENT
DTSTAMP:20260419T191418
DTSTART;TZID=Europe/Berlin:20260519T090000
DTEND;TZID=Europe/Berlin:20260519T100000
UID:HV38350-20260519T090000@VHSMETZINGEN
SUMMARY:Yoga am Vormittag (HV38350) 
LOCATION:Bindhof Neuhausen, Saal, , Neuhausen
END:VEVENT
BEGIN:VEVENT
DTSTAMP:20260419T191418
DTSTART;TZID=Europe/Berlin:20260609T090000
DTEND;TZID=Europe/Berlin:20260609T100000
UID:HV38350-20260609T090000@VHSMETZINGEN
SUMMARY:Yoga am Vormittag (HV38350) 
LOCATION:Bindhof Neuhausen, Saal, , Neuhausen
END:VEVENT
BEGIN:VEVENT
DTSTAMP:20260419T191418
DTSTART;TZID=Europe/Berlin:20260616T090000
DTEND;TZID=Europe/Berlin:20260616T100000
UID:HV38350-20260616T090000@VHSMETZINGEN
SUMMARY:Yoga am Vormittag (HV38350) 
LOCATION:Bindhof Neuhausen, Saal, , Neuhausen
END:VEVENT
BEGIN:VEVENT
DTSTAMP:20260419T191418
DTSTART;TZID=Europe/Berlin:20260623T090000
DTEND;TZID=Europe/Berlin:20260623T100000
UID:HV38350-20260623T090000@VHSMETZINGEN
SUMMARY:Yoga am Vormittag (HV38350) 
LOCATION:Bindhof Neuhausen, Saal, , Neuhausen
END:VEVENT
BEGIN:VEVENT
DTSTAMP:20260419T191418
DTSTART;TZID=Europe/Berlin:20260630T090000
DTEND;TZID=Europe/Berlin:20260630T100000
UID:HV38350-20260630T090000@VHSMETZINGEN
SUMMARY:Yoga am Vormittag (HV38350) 
LOCATION:Bindhof Neuhausen, Saal, , Neuhausen
END:VEVENT
BEGIN:VEVENT
DTSTAMP:20260419T191418
DTSTART;TZID=Europe/Berlin:20260707T090000
DTEND;TZID=Europe/Berlin:20260707T100000
UID:HV38350-20260707T090000@VHSMETZINGEN
SUMMARY:Yoga am Vormittag (HV38350) 
LOCATION:Bindhof Neuhausen, Saal, , Neuhausen
END:VEVENT
BEGIN:VEVENT
DTSTAMP:20260419T191418
DTSTART;TZID=Europe/Berlin:20260714T090000
DTEND;TZID=Europe/Berlin:20260714T100000
UID:HV38350-20260714T090000@VHSMETZINGEN
SUMMARY:Yoga am Vormittag (HV38350) 
LOCATION:Bindhof Neuhausen, Saal, , Neuhausen
END:VEVENT
BEGIN:VEVENT
DTSTAMP:20260419T191418
DTSTART;TZID=Europe/Berlin:20260721T090000
DTEND;TZID=Europe/Berlin:20260721T100000
UID:HV38350-20260721T090000@VHSMETZINGEN
SUMMARY:Yoga am Vormittag (HV38350) 
LOCATION:Bindhof Neuhausen, Saal, , Neuhausen
END:VEVENT
END:VCALENDAR