BEGIN:VCALENDAR
VERSION:2.0
PRODID:http://www.kufer.de/kuferweb / DE
METHOD:PUBLISH
CALSCALE:GREGORIAN
X-WR-TIMEZONE:Europe/Berlin
BEGIN:VTIMEZONE
TZID:Europe/Berlin
X-LIC-LOCATION:Europe/Berlin
BEGIN:DAYLIGHT
TZOFFSETFROM:+0100
TZOFFSETTO:+0200
TZNAME:CEST
DTSTART;TZID=Europe/Berlin:19700329T020000
RRULE:FREQ=YEARLY;INTERVAL=1;BYDAY=-1SU;BYMONTH=3
END:DAYLIGHT
BEGIN:STANDARD
TZOFFSETFROM:+0200
TZOFFSETTO:+0100
TZNAME:CET
DTSTART;TZID=Europe/Berlin:19701025T030000
RRULE:FREQ=YEARLY;INTERVAL=1;BYDAY=-1SU;BYMONTH=10
END:STANDARD
END:VTIMEZONE
BEGIN:VEVENT
DTSTAMP:20260419T214511
DTSTART;TZID=Europe/Berlin:20260508T180000
DTEND;TZID=Europe/Berlin:20260508T191500
UID:HU38740-20260508T180000@VHSMETZINGEN
SUMMARY:Mein erster Volkslauf (HU38740) 
LOCATION:Forsthof Metzingen, Parkplatz, , 
END:VEVENT
BEGIN:VEVENT
DTSTAMP:20260419T214511
DTSTART;TZID=Europe/Berlin:20260515T180000
DTEND;TZID=Europe/Berlin:20260515T191500
UID:HU38740-20260515T180000@VHSMETZINGEN
SUMMARY:Mein erster Volkslauf (HU38740) 
LOCATION:Forsthof Metzingen, Parkplatz, , 
END:VEVENT
BEGIN:VEVENT
DTSTAMP:20260419T214511
DTSTART;TZID=Europe/Berlin:20260522T180000
DTEND;TZID=Europe/Berlin:20260522T191500
UID:HU38740-20260522T180000@VHSMETZINGEN
SUMMARY:Mein erster Volkslauf (HU38740) 
LOCATION:Forsthof Metzingen, Parkplatz, , 
END:VEVENT
BEGIN:VEVENT
DTSTAMP:20260419T214511
DTSTART;TZID=Europe/Berlin:20260529T180000
DTEND;TZID=Europe/Berlin:20260529T191500
UID:HU38740-20260529T180000@VHSMETZINGEN
SUMMARY:Mein erster Volkslauf (HU38740) 
LOCATION:Forsthof Metzingen, Parkplatz, , 
END:VEVENT
BEGIN:VEVENT
DTSTAMP:20260419T214511
DTSTART;TZID=Europe/Berlin:20260605T180000
DTEND;TZID=Europe/Berlin:20260605T191500
UID:HU38740-20260605T180000@VHSMETZINGEN
SUMMARY:Mein erster Volkslauf (HU38740) 
LOCATION:Forsthof Metzingen, Parkplatz, , 
END:VEVENT
BEGIN:VEVENT
DTSTAMP:20260419T214511
DTSTART;TZID=Europe/Berlin:20260612T180000
DTEND;TZID=Europe/Berlin:20260612T191500
UID:HU38740-20260612T180000@VHSMETZINGEN
SUMMARY:Mein erster Volkslauf (HU38740) 
LOCATION:Forsthof Metzingen, Parkplatz, , 
END:VEVENT
BEGIN:VEVENT
DTSTAMP:20260419T214511
DTSTART;TZID=Europe/Berlin:20260619T180000
DTEND;TZID=Europe/Berlin:20260619T191500
UID:HU38740-20260619T180000@VHSMETZINGEN
SUMMARY:Mein erster Volkslauf (HU38740) 
LOCATION:Forsthof Metzingen, Parkplatz, , 
END:VEVENT
BEGIN:VEVENT
DTSTAMP:20260419T214511
DTSTART;TZID=Europe/Berlin:20260626T180000
DTEND;TZID=Europe/Berlin:20260626T191500
UID:HU38740-20260626T180000@VHSMETZINGEN
SUMMARY:Mein erster Volkslauf (HU38740) 
LOCATION:Forsthof Metzingen, Parkplatz, , 
END:VEVENT
BEGIN:VEVENT
DTSTAMP:20260419T214511
DTSTART;TZID=Europe/Berlin:20260703T180000
DTEND;TZID=Europe/Berlin:20260703T191500
UID:HU38740-20260703T180000@VHSMETZINGEN
SUMMARY:Mein erster Volkslauf (HU38740) 
LOCATION:Forsthof Metzingen, Parkplatz, , 
END:VEVENT
BEGIN:VEVENT
DTSTAMP:20260419T214511
DTSTART;TZID=Europe/Berlin:20260710T180000
DTEND;TZID=Europe/Berlin:20260710T191500
UID:HU38740-20260710T180000@VHSMETZINGEN
SUMMARY:Mein erster Volkslauf (HU38740) 
LOCATION:Forsthof Metzingen, Parkplatz, , 
END:VEVENT
END:VCALENDAR