BEGIN:VCALENDAR
VERSION:2.0
PRODID:http://www.kufer.de/kuferweb / DE
METHOD:PUBLISH
CALSCALE:GREGORIAN
X-WR-TIMEZONE:Europe/Berlin
BEGIN:VTIMEZONE
TZID:Europe/Berlin
X-LIC-LOCATION:Europe/Berlin
BEGIN:DAYLIGHT
TZOFFSETFROM:+0100
TZOFFSETTO:+0200
TZNAME:CEST
DTSTART;TZID=Europe/Berlin:19700329T020000
RRULE:FREQ=YEARLY;INTERVAL=1;BYDAY=-1SU;BYMONTH=3
END:DAYLIGHT
BEGIN:STANDARD
TZOFFSETFROM:+0200
TZOFFSETTO:+0100
TZNAME:CET
DTSTART;TZID=Europe/Berlin:19701025T030000
RRULE:FREQ=YEARLY;INTERVAL=1;BYDAY=-1SU;BYMONTH=10
END:STANDARD
END:VTIMEZONE
BEGIN:VEVENT
DTSTAMP:20260420T164131
DTSTART;TZID=Europe/Berlin:20260325T180000
DTEND;TZID=Europe/Berlin:20260325T190000
UID:HU38730-20260325T180000@VHSMETZINGEN
SUMMARY:Zum bewegten Alltag laufen - von 0 auf 30 Minuten (HU38730) 
LOCATION:Forsthof Metzingen, Parkplatz, , 
END:VEVENT
BEGIN:VEVENT
DTSTAMP:20260420T164131
DTSTART;TZID=Europe/Berlin:20260401T180000
DTEND;TZID=Europe/Berlin:20260401T190000
UID:HU38730-20260401T180000@VHSMETZINGEN
SUMMARY:Zum bewegten Alltag laufen - von 0 auf 30 Minuten (HU38730) 
LOCATION:Forsthof Metzingen, Parkplatz, , 
END:VEVENT
BEGIN:VEVENT
DTSTAMP:20260420T164131
DTSTART;TZID=Europe/Berlin:20260408T180000
DTEND;TZID=Europe/Berlin:20260408T190000
UID:HU38730-20260408T180000@VHSMETZINGEN
SUMMARY:Zum bewegten Alltag laufen - von 0 auf 30 Minuten (HU38730) 
LOCATION:Forsthof Metzingen, Parkplatz, , 
END:VEVENT
BEGIN:VEVENT
DTSTAMP:20260420T164131
DTSTART;TZID=Europe/Berlin:20260415T180000
DTEND;TZID=Europe/Berlin:20260415T190000
UID:HU38730-20260415T180000@VHSMETZINGEN
SUMMARY:Zum bewegten Alltag laufen - von 0 auf 30 Minuten (HU38730) 
LOCATION:Forsthof Metzingen, Parkplatz, , 
END:VEVENT
BEGIN:VEVENT
DTSTAMP:20260420T164131
DTSTART;TZID=Europe/Berlin:20260422T180000
DTEND;TZID=Europe/Berlin:20260422T190000
UID:HU38730-20260422T180000@VHSMETZINGEN
SUMMARY:Zum bewegten Alltag laufen - von 0 auf 30 Minuten (HU38730) 
LOCATION:Forsthof Metzingen, Parkplatz, , 
END:VEVENT
BEGIN:VEVENT
DTSTAMP:20260420T164131
DTSTART;TZID=Europe/Berlin:20260429T180000
DTEND;TZID=Europe/Berlin:20260429T190000
UID:HU38730-20260429T180000@VHSMETZINGEN
SUMMARY:Zum bewegten Alltag laufen - von 0 auf 30 Minuten (HU38730) 
LOCATION:Forsthof Metzingen, Parkplatz, , 
END:VEVENT
BEGIN:VEVENT
DTSTAMP:20260420T164131
DTSTART;TZID=Europe/Berlin:20260506T180000
DTEND;TZID=Europe/Berlin:20260506T190000
UID:HU38730-20260506T180000@VHSMETZINGEN
SUMMARY:Zum bewegten Alltag laufen - von 0 auf 30 Minuten (HU38730) 
LOCATION:Forsthof Metzingen, Parkplatz, , 
END:VEVENT
BEGIN:VEVENT
DTSTAMP:20260420T164131
DTSTART;TZID=Europe/Berlin:20260513T180000
DTEND;TZID=Europe/Berlin:20260513T190000
UID:HU38730-20260513T180000@VHSMETZINGEN
SUMMARY:Zum bewegten Alltag laufen - von 0 auf 30 Minuten (HU38730) 
LOCATION:Forsthof Metzingen, Parkplatz, , 
END:VEVENT
BEGIN:VEVENT
DTSTAMP:20260420T164131
DTSTART;TZID=Europe/Berlin:20260520T180000
DTEND;TZID=Europe/Berlin:20260520T190000
UID:HU38730-20260520T180000@VHSMETZINGEN
SUMMARY:Zum bewegten Alltag laufen - von 0 auf 30 Minuten (HU38730) 
LOCATION:Forsthof Metzingen, Parkplatz, , 
END:VEVENT
BEGIN:VEVENT
DTSTAMP:20260420T164131
DTSTART;TZID=Europe/Berlin:20260527T180000
DTEND;TZID=Europe/Berlin:20260527T190000
UID:HU38730-20260527T180000@VHSMETZINGEN
SUMMARY:Zum bewegten Alltag laufen - von 0 auf 30 Minuten (HU38730) 
LOCATION:Forsthof Metzingen, Parkplatz, , 
END:VEVENT
BEGIN:VEVENT
DTSTAMP:20260420T164131
DTSTART;TZID=Europe/Berlin:20260603T180000
DTEND;TZID=Europe/Berlin:20260603T190000
UID:HU38730-20260603T180000@VHSMETZINGEN
SUMMARY:Zum bewegten Alltag laufen - von 0 auf 30 Minuten (HU38730) 
LOCATION:Forsthof Metzingen, Parkplatz, , 
END:VEVENT
BEGIN:VEVENT
DTSTAMP:20260420T164131
DTSTART;TZID=Europe/Berlin:20260610T180000
DTEND;TZID=Europe/Berlin:20260610T190000
UID:HU38730-20260610T180000@VHSMETZINGEN
SUMMARY:Zum bewegten Alltag laufen - von 0 auf 30 Minuten (HU38730) 
LOCATION:Forsthof Metzingen, Parkplatz, , 
END:VEVENT
BEGIN:VEVENT
DTSTAMP:20260420T164131
DTSTART;TZID=Europe/Berlin:20260617T180000
DTEND;TZID=Europe/Berlin:20260617T190000
UID:HU38730-20260617T180000@VHSMETZINGEN
SUMMARY:Zum bewegten Alltag laufen - von 0 auf 30 Minuten (HU38730) 
LOCATION:Forsthof Metzingen, Parkplatz, , 
END:VEVENT
BEGIN:VEVENT
DTSTAMP:20260420T164131
DTSTART;TZID=Europe/Berlin:20260624T180000
DTEND;TZID=Europe/Berlin:20260624T190000
UID:HU38730-20260624T180000@VHSMETZINGEN
SUMMARY:Zum bewegten Alltag laufen - von 0 auf 30 Minuten (HU38730) 
LOCATION:Forsthof Metzingen, Parkplatz, , 
END:VEVENT
BEGIN:VEVENT
DTSTAMP:20260420T164131
DTSTART;TZID=Europe/Berlin:20260701T180000
DTEND;TZID=Europe/Berlin:20260701T190000
UID:HU38730-20260701T180000@VHSMETZINGEN
SUMMARY:Zum bewegten Alltag laufen - von 0 auf 30 Minuten (HU38730) 
LOCATION:Forsthof Metzingen, Parkplatz, , 
END:VEVENT
BEGIN:VEVENT
DTSTAMP:20260420T164131
DTSTART;TZID=Europe/Berlin:20260708T180000
DTEND;TZID=Europe/Berlin:20260708T190000
UID:HU38730-20260708T180000@VHSMETZINGEN
SUMMARY:Zum bewegten Alltag laufen - von 0 auf 30 Minuten (HU38730) 
LOCATION:Forsthof Metzingen, Parkplatz, , 
END:VEVENT
BEGIN:VEVENT
DTSTAMP:20260420T164131
DTSTART;TZID=Europe/Berlin:20260715T180000
DTEND;TZID=Europe/Berlin:20260715T190000
UID:HU38730-20260715T180000@VHSMETZINGEN
SUMMARY:Zum bewegten Alltag laufen - von 0 auf 30 Minuten (HU38730) 
LOCATION:Forsthof Metzingen, Parkplatz, , 
END:VEVENT
BEGIN:VEVENT
DTSTAMP:20260420T164131
DTSTART;TZID=Europe/Berlin:20260722T180000
DTEND;TZID=Europe/Berlin:20260722T190000
UID:HU38730-20260722T180000@VHSMETZINGEN
SUMMARY:Zum bewegten Alltag laufen - von 0 auf 30 Minuten (HU38730) 
LOCATION:Forsthof Metzingen, Parkplatz, , 
END:VEVENT
END:VCALENDAR