BEGIN:VCALENDAR
VERSION:2.0
PRODID:http://www.kufer.de/kuferweb / DE
METHOD:PUBLISH
CALSCALE:GREGORIAN
X-WR-TIMEZONE:Europe/Berlin
BEGIN:VTIMEZONE
TZID:Europe/Berlin
X-LIC-LOCATION:Europe/Berlin
BEGIN:DAYLIGHT
TZOFFSETFROM:+0100
TZOFFSETTO:+0200
TZNAME:CEST
DTSTART;TZID=Europe/Berlin:19700329T020000
RRULE:FREQ=YEARLY;INTERVAL=1;BYDAY=-1SU;BYMONTH=3
END:DAYLIGHT
BEGIN:STANDARD
TZOFFSETFROM:+0200
TZOFFSETTO:+0100
TZNAME:CET
DTSTART;TZID=Europe/Berlin:19701025T030000
RRULE:FREQ=YEARLY;INTERVAL=1;BYDAY=-1SU;BYMONTH=10
END:STANDARD
END:VTIMEZONE
BEGIN:VEVENT
DTSTAMP:20260419T175616
DTSTART;TZID=Europe/Berlin:20260225T174500
DTEND;TZID=Europe/Berlin:20260225T184500
UID:HU38714-20260225T174500@VHSMETZINGEN
SUMMARY:Indoor-Cycling: Ausdauertraining auf dem Standrad (HU38714) 
LOCATION:Ösch-Sportzentrum, Gymnastikraum, Noyonallee 20, 72555 Metzingen
END:VEVENT
BEGIN:VEVENT
DTSTAMP:20260419T175616
DTSTART;TZID=Europe/Berlin:20260304T174500
DTEND;TZID=Europe/Berlin:20260304T184500
UID:HU38714-20260304T174500@VHSMETZINGEN
SUMMARY:Indoor-Cycling: Ausdauertraining auf dem Standrad (HU38714) 
LOCATION:Ösch-Sportzentrum, Gymnastikraum, Noyonallee 20, 72555 Metzingen
END:VEVENT
BEGIN:VEVENT
DTSTAMP:20260419T175616
DTSTART;TZID=Europe/Berlin:20260311T174500
DTEND;TZID=Europe/Berlin:20260311T184500
UID:HU38714-20260311T174500@VHSMETZINGEN
SUMMARY:Indoor-Cycling: Ausdauertraining auf dem Standrad (HU38714) 
LOCATION:Ösch-Sportzentrum, Gymnastikraum, Noyonallee 20, 72555 Metzingen
END:VEVENT
BEGIN:VEVENT
DTSTAMP:20260419T175616
DTSTART;TZID=Europe/Berlin:20260318T174500
DTEND;TZID=Europe/Berlin:20260318T184500
UID:HU38714-20260318T174500@VHSMETZINGEN
SUMMARY:Indoor-Cycling: Ausdauertraining auf dem Standrad (HU38714) 
LOCATION:Ösch-Sportzentrum, Gymnastikraum, Noyonallee 20, 72555 Metzingen
END:VEVENT
BEGIN:VEVENT
DTSTAMP:20260419T175616
DTSTART;TZID=Europe/Berlin:20260325T174500
DTEND;TZID=Europe/Berlin:20260325T184500
UID:HU38714-20260325T174500@VHSMETZINGEN
SUMMARY:Indoor-Cycling: Ausdauertraining auf dem Standrad (HU38714) 
LOCATION:Ösch-Sportzentrum, Gymnastikraum, Noyonallee 20, 72555 Metzingen
END:VEVENT
BEGIN:VEVENT
DTSTAMP:20260419T175616
DTSTART;TZID=Europe/Berlin:20260415T174500
DTEND;TZID=Europe/Berlin:20260415T184500
UID:HU38714-20260415T174500@VHSMETZINGEN
SUMMARY:Indoor-Cycling: Ausdauertraining auf dem Standrad (HU38714) 
LOCATION:Ösch-Sportzentrum, Gymnastikraum, Noyonallee 20, 72555 Metzingen
END:VEVENT
BEGIN:VEVENT
DTSTAMP:20260419T175616
DTSTART;TZID=Europe/Berlin:20260422T174500
DTEND;TZID=Europe/Berlin:20260422T184500
UID:HU38714-20260422T174500@VHSMETZINGEN
SUMMARY:Indoor-Cycling: Ausdauertraining auf dem Standrad (HU38714) 
LOCATION:Ösch-Sportzentrum, Gymnastikraum, Noyonallee 20, 72555 Metzingen
END:VEVENT
BEGIN:VEVENT
DTSTAMP:20260419T175616
DTSTART;TZID=Europe/Berlin:20260429T174500
DTEND;TZID=Europe/Berlin:20260429T184500
UID:HU38714-20260429T174500@VHSMETZINGEN
SUMMARY:Indoor-Cycling: Ausdauertraining auf dem Standrad (HU38714) 
LOCATION:Ösch-Sportzentrum, Gymnastikraum, Noyonallee 20, 72555 Metzingen
END:VEVENT
BEGIN:VEVENT
DTSTAMP:20260419T175616
DTSTART;TZID=Europe/Berlin:20260506T174500
DTEND;TZID=Europe/Berlin:20260506T184500
UID:HU38714-20260506T174500@VHSMETZINGEN
SUMMARY:Indoor-Cycling: Ausdauertraining auf dem Standrad (HU38714) 
LOCATION:Ösch-Sportzentrum, Gymnastikraum, Noyonallee 20, 72555 Metzingen
END:VEVENT
BEGIN:VEVENT
DTSTAMP:20260419T175616
DTSTART;TZID=Europe/Berlin:20260513T174500
DTEND;TZID=Europe/Berlin:20260513T184500
UID:HU38714-20260513T174500@VHSMETZINGEN
SUMMARY:Indoor-Cycling: Ausdauertraining auf dem Standrad (HU38714) 
LOCATION:Ösch-Sportzentrum, Gymnastikraum, Noyonallee 20, 72555 Metzingen
END:VEVENT
BEGIN:VEVENT
DTSTAMP:20260419T175616
DTSTART;TZID=Europe/Berlin:20260520T174500
DTEND;TZID=Europe/Berlin:20260520T184500
UID:HU38714-20260520T174500@VHSMETZINGEN
SUMMARY:Indoor-Cycling: Ausdauertraining auf dem Standrad (HU38714) 
LOCATION:Ösch-Sportzentrum, Gymnastikraum, Noyonallee 20, 72555 Metzingen
END:VEVENT
BEGIN:VEVENT
DTSTAMP:20260419T175616
DTSTART;TZID=Europe/Berlin:20260610T174500
DTEND;TZID=Europe/Berlin:20260610T184500
UID:HU38714-20260610T174500@VHSMETZINGEN
SUMMARY:Indoor-Cycling: Ausdauertraining auf dem Standrad (HU38714) 
LOCATION:Ösch-Sportzentrum, Gymnastikraum, Noyonallee 20, 72555 Metzingen
END:VEVENT
BEGIN:VEVENT
DTSTAMP:20260419T175616
DTSTART;TZID=Europe/Berlin:20260617T174500
DTEND;TZID=Europe/Berlin:20260617T184500
UID:HU38714-20260617T174500@VHSMETZINGEN
SUMMARY:Indoor-Cycling: Ausdauertraining auf dem Standrad (HU38714) 
LOCATION:Ösch-Sportzentrum, Gymnastikraum, Noyonallee 20, 72555 Metzingen
END:VEVENT
BEGIN:VEVENT
DTSTAMP:20260419T175616
DTSTART;TZID=Europe/Berlin:20260624T174500
DTEND;TZID=Europe/Berlin:20260624T184500
UID:HU38714-20260624T174500@VHSMETZINGEN
SUMMARY:Indoor-Cycling: Ausdauertraining auf dem Standrad (HU38714) 
LOCATION:Ösch-Sportzentrum, Gymnastikraum, Noyonallee 20, 72555 Metzingen
END:VEVENT
BEGIN:VEVENT
DTSTAMP:20260419T175616
DTSTART;TZID=Europe/Berlin:20260701T174500
DTEND;TZID=Europe/Berlin:20260701T184500
UID:HU38714-20260701T174500@VHSMETZINGEN
SUMMARY:Indoor-Cycling: Ausdauertraining auf dem Standrad (HU38714) 
LOCATION:Ösch-Sportzentrum, Gymnastikraum, Noyonallee 20, 72555 Metzingen
END:VEVENT
BEGIN:VEVENT
DTSTAMP:20260419T175616
DTSTART;TZID=Europe/Berlin:20260708T174500
DTEND;TZID=Europe/Berlin:20260708T184500
UID:HU38714-20260708T174500@VHSMETZINGEN
SUMMARY:Indoor-Cycling: Ausdauertraining auf dem Standrad (HU38714) 
LOCATION:Ösch-Sportzentrum, Gymnastikraum, Noyonallee 20, 72555 Metzingen
END:VEVENT
BEGIN:VEVENT
DTSTAMP:20260419T175616
DTSTART;TZID=Europe/Berlin:20260715T174500
DTEND;TZID=Europe/Berlin:20260715T184500
UID:HU38714-20260715T174500@VHSMETZINGEN
SUMMARY:Indoor-Cycling: Ausdauertraining auf dem Standrad (HU38714) 
LOCATION:Ösch-Sportzentrum, Gymnastikraum, Noyonallee 20, 72555 Metzingen
END:VEVENT
END:VCALENDAR