BEGIN:VCALENDAR
VERSION:2.0
PRODID:http://www.kufer.de/kuferweb / DE
METHOD:PUBLISH
CALSCALE:GREGORIAN
X-WR-TIMEZONE:Europe/Berlin
BEGIN:VTIMEZONE
TZID:Europe/Berlin
X-LIC-LOCATION:Europe/Berlin
BEGIN:DAYLIGHT
TZOFFSETFROM:+0100
TZOFFSETTO:+0200
TZNAME:CEST
DTSTART;TZID=Europe/Berlin:19700329T020000
RRULE:FREQ=YEARLY;INTERVAL=1;BYDAY=-1SU;BYMONTH=3
END:DAYLIGHT
BEGIN:STANDARD
TZOFFSETFROM:+0200
TZOFFSETTO:+0100
TZNAME:CET
DTSTART;TZID=Europe/Berlin:19701025T030000
RRULE:FREQ=YEARLY;INTERVAL=1;BYDAY=-1SU;BYMONTH=10
END:STANDARD
END:VTIMEZONE
BEGIN:VEVENT
DTSTAMP:20260419T181613
DTSTART;TZID=Europe/Berlin:20260228T100000
DTEND;TZID=Europe/Berlin:20260228T110000
UID:HU38602-20260228T100000@VHSMETZINGEN
SUMMARY:Pilatesmoves am Wochenende (HU38602) 
LOCATION:Kohllöffel-Areal, Raum I, Nürtinger Str. 77, 72555 Metzingen
END:VEVENT
BEGIN:VEVENT
DTSTAMP:20260419T181613
DTSTART;TZID=Europe/Berlin:20260307T100000
DTEND;TZID=Europe/Berlin:20260307T110000
UID:HU38602-20260307T100000@VHSMETZINGEN
SUMMARY:Pilatesmoves am Wochenende (HU38602) 
LOCATION:Kohllöffel-Areal, Raum I, Nürtinger Str. 77, 72555 Metzingen
END:VEVENT
BEGIN:VEVENT
DTSTAMP:20260419T181613
DTSTART;TZID=Europe/Berlin:20260314T100000
DTEND;TZID=Europe/Berlin:20260314T110000
UID:HU38602-20260314T100000@VHSMETZINGEN
SUMMARY:Pilatesmoves am Wochenende (HU38602) 
LOCATION:Kohllöffel-Areal, Raum I, Nürtinger Str. 77, 72555 Metzingen
END:VEVENT
BEGIN:VEVENT
DTSTAMP:20260419T181613
DTSTART;TZID=Europe/Berlin:20260321T100000
DTEND;TZID=Europe/Berlin:20260321T110000
UID:HU38602-20260321T100000@VHSMETZINGEN
SUMMARY:Pilatesmoves am Wochenende (HU38602) 
LOCATION:Kohllöffel-Areal, Raum I, Nürtinger Str. 77, 72555 Metzingen
END:VEVENT
BEGIN:VEVENT
DTSTAMP:20260419T181613
DTSTART;TZID=Europe/Berlin:20260328T100000
DTEND;TZID=Europe/Berlin:20260328T110000
UID:HU38602-20260328T100000@VHSMETZINGEN
SUMMARY:Pilatesmoves am Wochenende (HU38602) 
LOCATION:Kohllöffel-Areal, Raum I, Nürtinger Str. 77, 72555 Metzingen
END:VEVENT
BEGIN:VEVENT
DTSTAMP:20260419T181613
DTSTART;TZID=Europe/Berlin:20260418T100000
DTEND;TZID=Europe/Berlin:20260418T110000
UID:HU38602-20260418T100000@VHSMETZINGEN
SUMMARY:Pilatesmoves am Wochenende (HU38602) 
LOCATION:Kohllöffel-Areal, Raum I, Nürtinger Str. 77, 72555 Metzingen
END:VEVENT
BEGIN:VEVENT
DTSTAMP:20260419T181613
DTSTART;TZID=Europe/Berlin:20260425T100000
DTEND;TZID=Europe/Berlin:20260425T110000
UID:HU38602-20260425T100000@VHSMETZINGEN
SUMMARY:Pilatesmoves am Wochenende (HU38602) 
LOCATION:Kohllöffel-Areal, Raum I, Nürtinger Str. 77, 72555 Metzingen
END:VEVENT
BEGIN:VEVENT
DTSTAMP:20260419T181613
DTSTART;TZID=Europe/Berlin:20260502T100000
DTEND;TZID=Europe/Berlin:20260502T110000
UID:HU38602-20260502T100000@VHSMETZINGEN
SUMMARY:Pilatesmoves am Wochenende (HU38602) 
LOCATION:Kohllöffel-Areal, Raum I, Nürtinger Str. 77, 72555 Metzingen
END:VEVENT
BEGIN:VEVENT
DTSTAMP:20260419T181613
DTSTART;TZID=Europe/Berlin:20260509T100000
DTEND;TZID=Europe/Berlin:20260509T110000
UID:HU38602-20260509T100000@VHSMETZINGEN
SUMMARY:Pilatesmoves am Wochenende (HU38602) 
LOCATION:Kohllöffel-Areal, Raum I, Nürtinger Str. 77, 72555 Metzingen
END:VEVENT
BEGIN:VEVENT
DTSTAMP:20260419T181613
DTSTART;TZID=Europe/Berlin:20260523T100000
DTEND;TZID=Europe/Berlin:20260523T110000
UID:HU38602-20260523T100000@VHSMETZINGEN
SUMMARY:Pilatesmoves am Wochenende (HU38602) 
LOCATION:Kohllöffel-Areal, Raum I, Nürtinger Str. 77, 72555 Metzingen
END:VEVENT
BEGIN:VEVENT
DTSTAMP:20260419T181613
DTSTART;TZID=Europe/Berlin:20260613T100000
DTEND;TZID=Europe/Berlin:20260613T110000
UID:HU38602-20260613T100000@VHSMETZINGEN
SUMMARY:Pilatesmoves am Wochenende (HU38602) 
LOCATION:Kohllöffel-Areal, Raum I, Nürtinger Str. 77, 72555 Metzingen
END:VEVENT
BEGIN:VEVENT
DTSTAMP:20260419T181613
DTSTART;TZID=Europe/Berlin:20260620T100000
DTEND;TZID=Europe/Berlin:20260620T110000
UID:HU38602-20260620T100000@VHSMETZINGEN
SUMMARY:Pilatesmoves am Wochenende (HU38602) 
LOCATION:Kohllöffel-Areal, Raum I, Nürtinger Str. 77, 72555 Metzingen
END:VEVENT
BEGIN:VEVENT
DTSTAMP:20260419T181613
DTSTART;TZID=Europe/Berlin:20260627T100000
DTEND;TZID=Europe/Berlin:20260627T110000
UID:HU38602-20260627T100000@VHSMETZINGEN
SUMMARY:Pilatesmoves am Wochenende (HU38602) 
LOCATION:Kohllöffel-Areal, Raum I, Nürtinger Str. 77, 72555 Metzingen
END:VEVENT
BEGIN:VEVENT
DTSTAMP:20260419T181613
DTSTART;TZID=Europe/Berlin:20260704T100000
DTEND;TZID=Europe/Berlin:20260704T110000
UID:HU38602-20260704T100000@VHSMETZINGEN
SUMMARY:Pilatesmoves am Wochenende (HU38602) 
LOCATION:Kohllöffel-Areal, Raum I, Nürtinger Str. 77, 72555 Metzingen
END:VEVENT
BEGIN:VEVENT
DTSTAMP:20260419T181613
DTSTART;TZID=Europe/Berlin:20260711T100000
DTEND;TZID=Europe/Berlin:20260711T110000
UID:HU38602-20260711T100000@VHSMETZINGEN
SUMMARY:Pilatesmoves am Wochenende (HU38602) 
LOCATION:Kohllöffel-Areal, Raum I, Nürtinger Str. 77, 72555 Metzingen
END:VEVENT
BEGIN:VEVENT
DTSTAMP:20260419T181613
DTSTART;TZID=Europe/Berlin:20260718T100000
DTEND;TZID=Europe/Berlin:20260718T110000
UID:HU38602-20260718T100000@VHSMETZINGEN
SUMMARY:Pilatesmoves am Wochenende (HU38602) 
LOCATION:Kohllöffel-Areal, Raum I, Nürtinger Str. 77, 72555 Metzingen
END:VEVENT
BEGIN:VEVENT
DTSTAMP:20260419T181613
DTSTART;TZID=Europe/Berlin:20260725T100000
DTEND;TZID=Europe/Berlin:20260725T110000
UID:HU38602-20260725T100000@VHSMETZINGEN
SUMMARY:Pilatesmoves am Wochenende (HU38602) 
LOCATION:Kohllöffel-Areal, Raum I, Nürtinger Str. 77, 72555 Metzingen
END:VEVENT
END:VCALENDAR