BEGIN:VCALENDAR
VERSION:2.0
PRODID:http://www.kufer.de/kuferweb / DE
METHOD:PUBLISH
CALSCALE:GREGORIAN
X-WR-TIMEZONE:Europe/Berlin
BEGIN:VTIMEZONE
TZID:Europe/Berlin
X-LIC-LOCATION:Europe/Berlin
BEGIN:DAYLIGHT
TZOFFSETFROM:+0100
TZOFFSETTO:+0200
TZNAME:CEST
DTSTART;TZID=Europe/Berlin:19700329T020000
RRULE:FREQ=YEARLY;INTERVAL=1;BYDAY=-1SU;BYMONTH=3
END:DAYLIGHT
BEGIN:STANDARD
TZOFFSETFROM:+0200
TZOFFSETTO:+0100
TZNAME:CET
DTSTART;TZID=Europe/Berlin:19701025T030000
RRULE:FREQ=YEARLY;INTERVAL=1;BYDAY=-1SU;BYMONTH=10
END:STANDARD
END:VTIMEZONE
BEGIN:VEVENT
DTSTAMP:20260420T135151
DTSTART;TZID=Europe/Berlin:20260223T183000
DTEND;TZID=Europe/Berlin:20260223T193000
UID:HU38502-20260223T183000@VHSMETZINGEN
SUMMARY:Rückenfitness und Bauch-Beine-Po (HU38502) 
LOCATION:Kohllöffel-Areal, Raum I, Nürtinger Str. 77, 72555 Metzingen
END:VEVENT
BEGIN:VEVENT
DTSTAMP:20260420T135151
DTSTART;TZID=Europe/Berlin:20260302T183000
DTEND;TZID=Europe/Berlin:20260302T193000
UID:HU38502-20260302T183000@VHSMETZINGEN
SUMMARY:Rückenfitness und Bauch-Beine-Po (HU38502) 
LOCATION:Kohllöffel-Areal, Raum I, Nürtinger Str. 77, 72555 Metzingen
END:VEVENT
BEGIN:VEVENT
DTSTAMP:20260420T135151
DTSTART;TZID=Europe/Berlin:20260309T183000
DTEND;TZID=Europe/Berlin:20260309T193000
UID:HU38502-20260309T183000@VHSMETZINGEN
SUMMARY:Rückenfitness und Bauch-Beine-Po (HU38502) 
LOCATION:Kohllöffel-Areal, Raum I, Nürtinger Str. 77, 72555 Metzingen
END:VEVENT
BEGIN:VEVENT
DTSTAMP:20260420T135151
DTSTART;TZID=Europe/Berlin:20260316T183000
DTEND;TZID=Europe/Berlin:20260316T193000
UID:HU38502-20260316T183000@VHSMETZINGEN
SUMMARY:Rückenfitness und Bauch-Beine-Po (HU38502) 
LOCATION:Kohllöffel-Areal, Raum I, Nürtinger Str. 77, 72555 Metzingen
END:VEVENT
BEGIN:VEVENT
DTSTAMP:20260420T135151
DTSTART;TZID=Europe/Berlin:20260323T183000
DTEND;TZID=Europe/Berlin:20260323T193000
UID:HU38502-20260323T183000@VHSMETZINGEN
SUMMARY:Rückenfitness und Bauch-Beine-Po (HU38502) 
LOCATION:Kohllöffel-Areal, Raum I, Nürtinger Str. 77, 72555 Metzingen
END:VEVENT
BEGIN:VEVENT
DTSTAMP:20260420T135151
DTSTART;TZID=Europe/Berlin:20260413T183000
DTEND;TZID=Europe/Berlin:20260413T193000
UID:HU38502-20260413T183000@VHSMETZINGEN
SUMMARY:Rückenfitness und Bauch-Beine-Po (HU38502) 
LOCATION:Kohllöffel-Areal, Raum I, Nürtinger Str. 77, 72555 Metzingen
END:VEVENT
BEGIN:VEVENT
DTSTAMP:20260420T135151
DTSTART;TZID=Europe/Berlin:20260420T183000
DTEND;TZID=Europe/Berlin:20260420T193000
UID:HU38502-20260420T183000@VHSMETZINGEN
SUMMARY:Rückenfitness und Bauch-Beine-Po (HU38502) 
LOCATION:Kohllöffel-Areal, Raum I, Nürtinger Str. 77, 72555 Metzingen
END:VEVENT
BEGIN:VEVENT
DTSTAMP:20260420T135151
DTSTART;TZID=Europe/Berlin:20260427T183000
DTEND;TZID=Europe/Berlin:20260427T193000
UID:HU38502-20260427T183000@VHSMETZINGEN
SUMMARY:Rückenfitness und Bauch-Beine-Po (HU38502) 
LOCATION:Kohllöffel-Areal, Raum I, Nürtinger Str. 77, 72555 Metzingen
END:VEVENT
BEGIN:VEVENT
DTSTAMP:20260420T135151
DTSTART;TZID=Europe/Berlin:20260504T183000
DTEND;TZID=Europe/Berlin:20260504T193000
UID:HU38502-20260504T183000@VHSMETZINGEN
SUMMARY:Rückenfitness und Bauch-Beine-Po (HU38502) 
LOCATION:Kohllöffel-Areal, Raum I, Nürtinger Str. 77, 72555 Metzingen
END:VEVENT
BEGIN:VEVENT
DTSTAMP:20260420T135151
DTSTART;TZID=Europe/Berlin:20260511T183000
DTEND;TZID=Europe/Berlin:20260511T193000
UID:HU38502-20260511T183000@VHSMETZINGEN
SUMMARY:Rückenfitness und Bauch-Beine-Po (HU38502) 
LOCATION:Kohllöffel-Areal, Raum I, Nürtinger Str. 77, 72555 Metzingen
END:VEVENT
BEGIN:VEVENT
DTSTAMP:20260420T135151
DTSTART;TZID=Europe/Berlin:20260518T183000
DTEND;TZID=Europe/Berlin:20260518T193000
UID:HU38502-20260518T183000@VHSMETZINGEN
SUMMARY:Rückenfitness und Bauch-Beine-Po (HU38502) 
LOCATION:Kohllöffel-Areal, Raum I, Nürtinger Str. 77, 72555 Metzingen
END:VEVENT
BEGIN:VEVENT
DTSTAMP:20260420T135151
DTSTART;TZID=Europe/Berlin:20260608T183000
DTEND;TZID=Europe/Berlin:20260608T193000
UID:HU38502-20260608T183000@VHSMETZINGEN
SUMMARY:Rückenfitness und Bauch-Beine-Po (HU38502) 
LOCATION:Kohllöffel-Areal, Raum I, Nürtinger Str. 77, 72555 Metzingen
END:VEVENT
BEGIN:VEVENT
DTSTAMP:20260420T135151
DTSTART;TZID=Europe/Berlin:20260615T183000
DTEND;TZID=Europe/Berlin:20260615T193000
UID:HU38502-20260615T183000@VHSMETZINGEN
SUMMARY:Rückenfitness und Bauch-Beine-Po (HU38502) 
LOCATION:Kohllöffel-Areal, Raum I, Nürtinger Str. 77, 72555 Metzingen
END:VEVENT
BEGIN:VEVENT
DTSTAMP:20260420T135151
DTSTART;TZID=Europe/Berlin:20260622T183000
DTEND;TZID=Europe/Berlin:20260622T193000
UID:HU38502-20260622T183000@VHSMETZINGEN
SUMMARY:Rückenfitness und Bauch-Beine-Po (HU38502) 
LOCATION:Kohllöffel-Areal, Raum I, Nürtinger Str. 77, 72555 Metzingen
END:VEVENT
BEGIN:VEVENT
DTSTAMP:20260420T135151
DTSTART;TZID=Europe/Berlin:20260629T183000
DTEND;TZID=Europe/Berlin:20260629T193000
UID:HU38502-20260629T183000@VHSMETZINGEN
SUMMARY:Rückenfitness und Bauch-Beine-Po (HU38502) 
LOCATION:Kohllöffel-Areal, Raum I, Nürtinger Str. 77, 72555 Metzingen
END:VEVENT
BEGIN:VEVENT
DTSTAMP:20260420T135151
DTSTART;TZID=Europe/Berlin:20260706T183000
DTEND;TZID=Europe/Berlin:20260706T193000
UID:HU38502-20260706T183000@VHSMETZINGEN
SUMMARY:Rückenfitness und Bauch-Beine-Po (HU38502) 
LOCATION:Kohllöffel-Areal, Raum I, Nürtinger Str. 77, 72555 Metzingen
END:VEVENT
BEGIN:VEVENT
DTSTAMP:20260420T135151
DTSTART;TZID=Europe/Berlin:20260713T183000
DTEND;TZID=Europe/Berlin:20260713T193000
UID:HU38502-20260713T183000@VHSMETZINGEN
SUMMARY:Rückenfitness und Bauch-Beine-Po (HU38502) 
LOCATION:Kohllöffel-Areal, Raum I, Nürtinger Str. 77, 72555 Metzingen
END:VEVENT
END:VCALENDAR