BEGIN:VCALENDAR
VERSION:2.0
PRODID:http://www.kufer.de/kuferweb / DE
METHOD:PUBLISH
CALSCALE:GREGORIAN
X-WR-TIMEZONE:Europe/Berlin
BEGIN:VTIMEZONE
TZID:Europe/Berlin
X-LIC-LOCATION:Europe/Berlin
BEGIN:DAYLIGHT
TZOFFSETFROM:+0100
TZOFFSETTO:+0200
TZNAME:CEST
DTSTART;TZID=Europe/Berlin:19700329T020000
RRULE:FREQ=YEARLY;INTERVAL=1;BYDAY=-1SU;BYMONTH=3
END:DAYLIGHT
BEGIN:STANDARD
TZOFFSETFROM:+0200
TZOFFSETTO:+0100
TZNAME:CET
DTSTART;TZID=Europe/Berlin:19701025T030000
RRULE:FREQ=YEARLY;INTERVAL=1;BYDAY=-1SU;BYMONTH=10
END:STANDARD
END:VTIMEZONE
BEGIN:VEVENT
DTSTAMP:20260419T181612
DTSTART;TZID=Europe/Berlin:20260223T181500
DTEND;TZID=Europe/Berlin:20260223T191500
UID:HU38301-20260223T181500@VHSMETZINGEN
SUMMARY:Yoga meets Pilates (HU38301) 
LOCATION:Ösch-Sportzentrum, Gymnastikraum, Noyonallee 20, 72555 Metzingen
END:VEVENT
BEGIN:VEVENT
DTSTAMP:20260419T181612
DTSTART;TZID=Europe/Berlin:20260302T181500
DTEND;TZID=Europe/Berlin:20260302T191500
UID:HU38301-20260302T181500@VHSMETZINGEN
SUMMARY:Yoga meets Pilates (HU38301) 
LOCATION:Ösch-Sportzentrum, Gymnastikraum, Noyonallee 20, 72555 Metzingen
END:VEVENT
BEGIN:VEVENT
DTSTAMP:20260419T181612
DTSTART;TZID=Europe/Berlin:20260309T181500
DTEND;TZID=Europe/Berlin:20260309T191500
UID:HU38301-20260309T181500@VHSMETZINGEN
SUMMARY:Yoga meets Pilates (HU38301) 
LOCATION:Ösch-Sportzentrum, Gymnastikraum, Noyonallee 20, 72555 Metzingen
END:VEVENT
BEGIN:VEVENT
DTSTAMP:20260419T181612
DTSTART;TZID=Europe/Berlin:20260316T181500
DTEND;TZID=Europe/Berlin:20260316T191500
UID:HU38301-20260316T181500@VHSMETZINGEN
SUMMARY:Yoga meets Pilates (HU38301) 
LOCATION:Ösch-Sportzentrum, Gymnastikraum, Noyonallee 20, 72555 Metzingen
END:VEVENT
BEGIN:VEVENT
DTSTAMP:20260419T181612
DTSTART;TZID=Europe/Berlin:20260323T181500
DTEND;TZID=Europe/Berlin:20260323T191500
UID:HU38301-20260323T181500@VHSMETZINGEN
SUMMARY:Yoga meets Pilates (HU38301) 
LOCATION:Ösch-Sportzentrum, Gymnastikraum, Noyonallee 20, 72555 Metzingen
END:VEVENT
BEGIN:VEVENT
DTSTAMP:20260419T181612
DTSTART;TZID=Europe/Berlin:20260413T181500
DTEND;TZID=Europe/Berlin:20260413T191500
UID:HU38301-20260413T181500@VHSMETZINGEN
SUMMARY:Yoga meets Pilates (HU38301) 
LOCATION:Ösch-Sportzentrum, Gymnastikraum, Noyonallee 20, 72555 Metzingen
END:VEVENT
BEGIN:VEVENT
DTSTAMP:20260419T181612
DTSTART;TZID=Europe/Berlin:20260420T181500
DTEND;TZID=Europe/Berlin:20260420T191500
UID:HU38301-20260420T181500@VHSMETZINGEN
SUMMARY:Yoga meets Pilates (HU38301) 
LOCATION:Ösch-Sportzentrum, Gymnastikraum, Noyonallee 20, 72555 Metzingen
END:VEVENT
BEGIN:VEVENT
DTSTAMP:20260419T181612
DTSTART;TZID=Europe/Berlin:20260427T181500
DTEND;TZID=Europe/Berlin:20260427T191500
UID:HU38301-20260427T181500@VHSMETZINGEN
SUMMARY:Yoga meets Pilates (HU38301) 
LOCATION:Ösch-Sportzentrum, Gymnastikraum, Noyonallee 20, 72555 Metzingen
END:VEVENT
BEGIN:VEVENT
DTSTAMP:20260419T181612
DTSTART;TZID=Europe/Berlin:20260504T181500
DTEND;TZID=Europe/Berlin:20260504T191500
UID:HU38301-20260504T181500@VHSMETZINGEN
SUMMARY:Yoga meets Pilates (HU38301) 
LOCATION:Ösch-Sportzentrum, Gymnastikraum, Noyonallee 20, 72555 Metzingen
END:VEVENT
BEGIN:VEVENT
DTSTAMP:20260419T181612
DTSTART;TZID=Europe/Berlin:20260511T181500
DTEND;TZID=Europe/Berlin:20260511T191500
UID:HU38301-20260511T181500@VHSMETZINGEN
SUMMARY:Yoga meets Pilates (HU38301) 
LOCATION:Ösch-Sportzentrum, Gymnastikraum, Noyonallee 20, 72555 Metzingen
END:VEVENT
BEGIN:VEVENT
DTSTAMP:20260419T181612
DTSTART;TZID=Europe/Berlin:20260518T181500
DTEND;TZID=Europe/Berlin:20260518T191500
UID:HU38301-20260518T181500@VHSMETZINGEN
SUMMARY:Yoga meets Pilates (HU38301) 
LOCATION:Ösch-Sportzentrum, Gymnastikraum, Noyonallee 20, 72555 Metzingen
END:VEVENT
BEGIN:VEVENT
DTSTAMP:20260419T181612
DTSTART;TZID=Europe/Berlin:20260608T181500
DTEND;TZID=Europe/Berlin:20260608T191500
UID:HU38301-20260608T181500@VHSMETZINGEN
SUMMARY:Yoga meets Pilates (HU38301) 
LOCATION:Ösch-Sportzentrum, Gymnastikraum, Noyonallee 20, 72555 Metzingen
END:VEVENT
BEGIN:VEVENT
DTSTAMP:20260419T181612
DTSTART;TZID=Europe/Berlin:20260615T181500
DTEND;TZID=Europe/Berlin:20260615T191500
UID:HU38301-20260615T181500@VHSMETZINGEN
SUMMARY:Yoga meets Pilates (HU38301) 
LOCATION:Ösch-Sportzentrum, Gymnastikraum, Noyonallee 20, 72555 Metzingen
END:VEVENT
BEGIN:VEVENT
DTSTAMP:20260419T181612
DTSTART;TZID=Europe/Berlin:20260622T181500
DTEND;TZID=Europe/Berlin:20260622T191500
UID:HU38301-20260622T181500@VHSMETZINGEN
SUMMARY:Yoga meets Pilates (HU38301) 
LOCATION:Ösch-Sportzentrum, Gymnastikraum, Noyonallee 20, 72555 Metzingen
END:VEVENT
BEGIN:VEVENT
DTSTAMP:20260419T181612
DTSTART;TZID=Europe/Berlin:20260629T181500
DTEND;TZID=Europe/Berlin:20260629T191500
UID:HU38301-20260629T181500@VHSMETZINGEN
SUMMARY:Yoga meets Pilates (HU38301) 
LOCATION:Ösch-Sportzentrum, Gymnastikraum, Noyonallee 20, 72555 Metzingen
END:VEVENT
BEGIN:VEVENT
DTSTAMP:20260419T181612
DTSTART;TZID=Europe/Berlin:20260706T181500
DTEND;TZID=Europe/Berlin:20260706T191500
UID:HU38301-20260706T181500@VHSMETZINGEN
SUMMARY:Yoga meets Pilates (HU38301) 
LOCATION:Ösch-Sportzentrum, Gymnastikraum, Noyonallee 20, 72555 Metzingen
END:VEVENT
END:VCALENDAR