BEGIN:VCALENDAR
VERSION:2.0
PRODID:http://www.kufer.de/kuferweb / DE
METHOD:PUBLISH
CALSCALE:GREGORIAN
X-WR-TIMEZONE:Europe/Berlin
BEGIN:VTIMEZONE
TZID:Europe/Berlin
X-LIC-LOCATION:Europe/Berlin
BEGIN:DAYLIGHT
TZOFFSETFROM:+0100
TZOFFSETTO:+0200
TZNAME:CEST
DTSTART;TZID=Europe/Berlin:19700329T020000
RRULE:FREQ=YEARLY;INTERVAL=1;BYDAY=-1SU;BYMONTH=3
END:DAYLIGHT
BEGIN:STANDARD
TZOFFSETFROM:+0200
TZOFFSETTO:+0100
TZNAME:CET
DTSTART;TZID=Europe/Berlin:19701025T030000
RRULE:FREQ=YEARLY;INTERVAL=1;BYDAY=-1SU;BYMONTH=10
END:STANDARD
END:VTIMEZONE
BEGIN:VEVENT
DTSTAMP:20260420T134259
DTSTART;TZID=Europe/Berlin:20260317T101500
DTEND;TZID=Europe/Berlin:20260317T114500
UID:HM50065-20260317T101500@VHSMETZINGEN
SUMMARY:Android Handys und Tablets verstehen Einzelberatung: -Für alle Teilnehmenden individuell zum Lernen oder aufbauen- (HM50065) 
LOCATION:Haus der VHS, Raum Nedele, Innere Heerstr. 6, 72555 Metzingen
END:VEVENT
END:VCALENDAR