BEGIN:VCALENDAR
VERSION:2.0
PRODID:http://www.kufer.de/kuferweb / DE
METHOD:PUBLISH
CALSCALE:GREGORIAN
X-WR-TIMEZONE:Europe/Berlin
BEGIN:VTIMEZONE
TZID:Europe/Berlin
X-LIC-LOCATION:Europe/Berlin
BEGIN:DAYLIGHT
TZOFFSETFROM:+0100
TZOFFSETTO:+0200
TZNAME:CEST
DTSTART;TZID=Europe/Berlin:19700329T020000
RRULE:FREQ=YEARLY;INTERVAL=1;BYDAY=-1SU;BYMONTH=3
END:DAYLIGHT
BEGIN:STANDARD
TZOFFSETFROM:+0200
TZOFFSETTO:+0100
TZNAME:CET
DTSTART;TZID=Europe/Berlin:19701025T030000
RRULE:FREQ=YEARLY;INTERVAL=1;BYDAY=-1SU;BYMONTH=10
END:STANDARD
END:VTIMEZONE
BEGIN:VEVENT
DTSTAMP:20260419T164114
DTSTART;TZID=Europe/Berlin:20260224T173000
DTEND;TZID=Europe/Berlin:20260224T190000
UID:HM43100-20260224T173000@VHSMETZINGEN
SUMMARY:Deutsch für Anfänger/innen mit Vorkenntnissen (A1.2) (HM43100) 
LOCATION:Haus der VHS, Raum Küßner, Innere Heerstr. 6, 72555 Metzingen
END:VEVENT
BEGIN:VEVENT
DTSTAMP:20260419T164114
DTSTART;TZID=Europe/Berlin:20260225T173000
DTEND;TZID=Europe/Berlin:20260225T190000
UID:HM43100-20260225T173000@VHSMETZINGEN
SUMMARY:Deutsch für Anfänger/innen mit Vorkenntnissen (A1.2) (HM43100) 
LOCATION:Haus der VHS, Raum Küßner, Innere Heerstr. 6, 72555 Metzingen
END:VEVENT
BEGIN:VEVENT
DTSTAMP:20260419T164114
DTSTART;TZID=Europe/Berlin:20260303T173000
DTEND;TZID=Europe/Berlin:20260303T190000
UID:HM43100-20260303T173000@VHSMETZINGEN
SUMMARY:Deutsch für Anfänger/innen mit Vorkenntnissen (A1.2) (HM43100) 
LOCATION:Haus der VHS, Raum Küßner, Innere Heerstr. 6, 72555 Metzingen
END:VEVENT
BEGIN:VEVENT
DTSTAMP:20260419T164114
DTSTART;TZID=Europe/Berlin:20260304T173000
DTEND;TZID=Europe/Berlin:20260304T190000
UID:HM43100-20260304T173000@VHSMETZINGEN
SUMMARY:Deutsch für Anfänger/innen mit Vorkenntnissen (A1.2) (HM43100) 
LOCATION:Haus der VHS, Raum Küßner, Innere Heerstr. 6, 72555 Metzingen
END:VEVENT
BEGIN:VEVENT
DTSTAMP:20260419T164114
DTSTART;TZID=Europe/Berlin:20260310T173000
DTEND;TZID=Europe/Berlin:20260310T190000
UID:HM43100-20260310T173000@VHSMETZINGEN
SUMMARY:Deutsch für Anfänger/innen mit Vorkenntnissen (A1.2) (HM43100) 
LOCATION:Haus der VHS, Raum Küßner, Innere Heerstr. 6, 72555 Metzingen
END:VEVENT
BEGIN:VEVENT
DTSTAMP:20260419T164114
DTSTART;TZID=Europe/Berlin:20260311T173000
DTEND;TZID=Europe/Berlin:20260311T190000
UID:HM43100-20260311T173000@VHSMETZINGEN
SUMMARY:Deutsch für Anfänger/innen mit Vorkenntnissen (A1.2) (HM43100) 
LOCATION:Haus der VHS, Raum Küßner, Innere Heerstr. 6, 72555 Metzingen
END:VEVENT
BEGIN:VEVENT
DTSTAMP:20260419T164114
DTSTART;TZID=Europe/Berlin:20260317T173000
DTEND;TZID=Europe/Berlin:20260317T190000
UID:HM43100-20260317T173000@VHSMETZINGEN
SUMMARY:Deutsch für Anfänger/innen mit Vorkenntnissen (A1.2) (HM43100) 
LOCATION:Haus der VHS, Raum Küßner, Innere Heerstr. 6, 72555 Metzingen
END:VEVENT
BEGIN:VEVENT
DTSTAMP:20260419T164114
DTSTART;TZID=Europe/Berlin:20260318T173000
DTEND;TZID=Europe/Berlin:20260318T190000
UID:HM43100-20260318T173000@VHSMETZINGEN
SUMMARY:Deutsch für Anfänger/innen mit Vorkenntnissen (A1.2) (HM43100) 
LOCATION:Haus der VHS, Raum Küßner, Innere Heerstr. 6, 72555 Metzingen
END:VEVENT
BEGIN:VEVENT
DTSTAMP:20260419T164114
DTSTART;TZID=Europe/Berlin:20260324T173000
DTEND;TZID=Europe/Berlin:20260324T190000
UID:HM43100-20260324T173000@VHSMETZINGEN
SUMMARY:Deutsch für Anfänger/innen mit Vorkenntnissen (A1.2) (HM43100) 
LOCATION:Haus der VHS, Raum Küßner, Innere Heerstr. 6, 72555 Metzingen
END:VEVENT
BEGIN:VEVENT
DTSTAMP:20260419T164114
DTSTART;TZID=Europe/Berlin:20260325T173000
DTEND;TZID=Europe/Berlin:20260325T190000
UID:HM43100-20260325T173000@VHSMETZINGEN
SUMMARY:Deutsch für Anfänger/innen mit Vorkenntnissen (A1.2) (HM43100) 
LOCATION:Haus der VHS, Raum Küßner, Innere Heerstr. 6, 72555 Metzingen
END:VEVENT
BEGIN:VEVENT
DTSTAMP:20260419T164114
DTSTART;TZID=Europe/Berlin:20260331T173000
DTEND;TZID=Europe/Berlin:20260331T190000
UID:HM43100-20260331T173000@VHSMETZINGEN
SUMMARY:Deutsch für Anfänger/innen mit Vorkenntnissen (A1.2) (HM43100) 
LOCATION:Haus der VHS, Raum Küßner, Innere Heerstr. 6, 72555 Metzingen
END:VEVENT
BEGIN:VEVENT
DTSTAMP:20260419T164114
DTSTART;TZID=Europe/Berlin:20260401T173000
DTEND;TZID=Europe/Berlin:20260401T190000
UID:HM43100-20260401T173000@VHSMETZINGEN
SUMMARY:Deutsch für Anfänger/innen mit Vorkenntnissen (A1.2) (HM43100) 
LOCATION:Haus der VHS, Raum Küßner, Innere Heerstr. 6, 72555 Metzingen
END:VEVENT
BEGIN:VEVENT
DTSTAMP:20260419T164114
DTSTART;TZID=Europe/Berlin:20260415T173000
DTEND;TZID=Europe/Berlin:20260415T190000
UID:HM43100-20260415T173000@VHSMETZINGEN
SUMMARY:Deutsch für Anfänger/innen mit Vorkenntnissen (A1.2) (HM43100) 
LOCATION:Haus der VHS, Raum Küßner, Innere Heerstr. 6, 72555 Metzingen
END:VEVENT
BEGIN:VEVENT
DTSTAMP:20260419T164114
DTSTART;TZID=Europe/Berlin:20260421T173000
DTEND;TZID=Europe/Berlin:20260421T190000
UID:HM43100-20260421T173000@VHSMETZINGEN
SUMMARY:Deutsch für Anfänger/innen mit Vorkenntnissen (A1.2) (HM43100) 
LOCATION:Haus der VHS, Raum Küßner, Innere Heerstr. 6, 72555 Metzingen
END:VEVENT
BEGIN:VEVENT
DTSTAMP:20260419T164114
DTSTART;TZID=Europe/Berlin:20260422T173000
DTEND;TZID=Europe/Berlin:20260422T190000
UID:HM43100-20260422T173000@VHSMETZINGEN
SUMMARY:Deutsch für Anfänger/innen mit Vorkenntnissen (A1.2) (HM43100) 
LOCATION:Haus der VHS, Raum Küßner, Innere Heerstr. 6, 72555 Metzingen
END:VEVENT
BEGIN:VEVENT
DTSTAMP:20260419T164114
DTSTART;TZID=Europe/Berlin:20260428T173000
DTEND;TZID=Europe/Berlin:20260428T190000
UID:HM43100-20260428T173000@VHSMETZINGEN
SUMMARY:Deutsch für Anfänger/innen mit Vorkenntnissen (A1.2) (HM43100) 
LOCATION:Haus der VHS, Raum Küßner, Innere Heerstr. 6, 72555 Metzingen
END:VEVENT
BEGIN:VEVENT
DTSTAMP:20260419T164114
DTSTART;TZID=Europe/Berlin:20260429T173000
DTEND;TZID=Europe/Berlin:20260429T190000
UID:HM43100-20260429T173000@VHSMETZINGEN
SUMMARY:Deutsch für Anfänger/innen mit Vorkenntnissen (A1.2) (HM43100) 
LOCATION:Haus der VHS, Raum Küßner, Innere Heerstr. 6, 72555 Metzingen
END:VEVENT
BEGIN:VEVENT
DTSTAMP:20260419T164114
DTSTART;TZID=Europe/Berlin:20260505T173000
DTEND;TZID=Europe/Berlin:20260505T190000
UID:HM43100-20260505T173000@VHSMETZINGEN
SUMMARY:Deutsch für Anfänger/innen mit Vorkenntnissen (A1.2) (HM43100) 
LOCATION:Haus der VHS, Raum Küßner, Innere Heerstr. 6, 72555 Metzingen
END:VEVENT
BEGIN:VEVENT
DTSTAMP:20260419T164114
DTSTART;TZID=Europe/Berlin:20260506T173000
DTEND;TZID=Europe/Berlin:20260506T190000
UID:HM43100-20260506T173000@VHSMETZINGEN
SUMMARY:Deutsch für Anfänger/innen mit Vorkenntnissen (A1.2) (HM43100) 
LOCATION:Haus der VHS, Raum Küßner, Innere Heerstr. 6, 72555 Metzingen
END:VEVENT
BEGIN:VEVENT
DTSTAMP:20260419T164114
DTSTART;TZID=Europe/Berlin:20260512T173000
DTEND;TZID=Europe/Berlin:20260512T190000
UID:HM43100-20260512T173000@VHSMETZINGEN
SUMMARY:Deutsch für Anfänger/innen mit Vorkenntnissen (A1.2) (HM43100) 
LOCATION:Haus der VHS, Raum Küßner, Innere Heerstr. 6, 72555 Metzingen
END:VEVENT
BEGIN:VEVENT
DTSTAMP:20260419T164114
DTSTART;TZID=Europe/Berlin:20260513T173000
DTEND;TZID=Europe/Berlin:20260513T190000
UID:HM43100-20260513T173000@VHSMETZINGEN
SUMMARY:Deutsch für Anfänger/innen mit Vorkenntnissen (A1.2) (HM43100) 
LOCATION:Haus der VHS, Raum Küßner, Innere Heerstr. 6, 72555 Metzingen
END:VEVENT
BEGIN:VEVENT
DTSTAMP:20260419T164114
DTSTART;TZID=Europe/Berlin:20260519T173000
DTEND;TZID=Europe/Berlin:20260519T190000
UID:HM43100-20260519T173000@VHSMETZINGEN
SUMMARY:Deutsch für Anfänger/innen mit Vorkenntnissen (A1.2) (HM43100) 
LOCATION:Haus der VHS, Raum Küßner, Innere Heerstr. 6, 72555 Metzingen
END:VEVENT
BEGIN:VEVENT
DTSTAMP:20260419T164114
DTSTART;TZID=Europe/Berlin:20260520T173000
DTEND;TZID=Europe/Berlin:20260520T190000
UID:HM43100-20260520T173000@VHSMETZINGEN
SUMMARY:Deutsch für Anfänger/innen mit Vorkenntnissen (A1.2) (HM43100) 
LOCATION:Haus der VHS, Raum Küßner, Innere Heerstr. 6, 72555 Metzingen
END:VEVENT
BEGIN:VEVENT
DTSTAMP:20260419T164114
DTSTART;TZID=Europe/Berlin:20260609T173000
DTEND;TZID=Europe/Berlin:20260609T190000
UID:HM43100-20260609T173000@VHSMETZINGEN
SUMMARY:Deutsch für Anfänger/innen mit Vorkenntnissen (A1.2) (HM43100) 
LOCATION:Haus der VHS, Raum Küßner, Innere Heerstr. 6, 72555 Metzingen
END:VEVENT
BEGIN:VEVENT
DTSTAMP:20260419T164114
DTSTART;TZID=Europe/Berlin:20260610T173000
DTEND;TZID=Europe/Berlin:20260610T190000
UID:HM43100-20260610T173000@VHSMETZINGEN
SUMMARY:Deutsch für Anfänger/innen mit Vorkenntnissen (A1.2) (HM43100) 
LOCATION:Haus der VHS, Raum Küßner, Innere Heerstr. 6, 72555 Metzingen
END:VEVENT
END:VCALENDAR