BEGIN:VCALENDAR
VERSION:2.0
PRODID:http://www.kufer.de/kuferweb / DE
METHOD:PUBLISH
CALSCALE:GREGORIAN
X-WR-TIMEZONE:Europe/Berlin
BEGIN:VTIMEZONE
TZID:Europe/Berlin
X-LIC-LOCATION:Europe/Berlin
BEGIN:DAYLIGHT
TZOFFSETFROM:+0100
TZOFFSETTO:+0200
TZNAME:CEST
DTSTART;TZID=Europe/Berlin:19700329T020000
RRULE:FREQ=YEARLY;INTERVAL=1;BYDAY=-1SU;BYMONTH=3
END:DAYLIGHT
BEGIN:STANDARD
TZOFFSETFROM:+0200
TZOFFSETTO:+0100
TZNAME:CET
DTSTART;TZID=Europe/Berlin:19701025T030000
RRULE:FREQ=YEARLY;INTERVAL=1;BYDAY=-1SU;BYMONTH=10
END:STANDARD
END:VTIMEZONE
BEGIN:VEVENT
DTSTAMP:20260419T150515
DTSTART;TZID=Europe/Berlin:20260326T183000
DTEND;TZID=Europe/Berlin:20260326T200000
UID:HM42204-20260326T183000@VHSMETZINGEN
SUMMARY:¡Ahora me toca a mi! Spanisch mit geringen Vorkenntnissen (A1) (HM42204) 
LOCATION:D.-B.-Gymnasium, C001, Erdgeschoss, Öschweg 21, 72555 Metzingen
END:VEVENT
BEGIN:VEVENT
DTSTAMP:20260419T150515
DTSTART;TZID=Europe/Berlin:20260416T183000
DTEND;TZID=Europe/Berlin:20260416T200000
UID:HM42204-20260416T183000@VHSMETZINGEN
SUMMARY:¡Ahora me toca a mi! Spanisch mit geringen Vorkenntnissen (A1) (HM42204) 
LOCATION:D.-B.-Gymnasium, C001, Erdgeschoss, Öschweg 21, 72555 Metzingen
END:VEVENT
BEGIN:VEVENT
DTSTAMP:20260419T150515
DTSTART;TZID=Europe/Berlin:20260423T183000
DTEND;TZID=Europe/Berlin:20260423T200000
UID:HM42204-20260423T183000@VHSMETZINGEN
SUMMARY:¡Ahora me toca a mi! Spanisch mit geringen Vorkenntnissen (A1) (HM42204) 
LOCATION:D.-B.-Gymnasium, C001, Erdgeschoss, Öschweg 21, 72555 Metzingen
END:VEVENT
BEGIN:VEVENT
DTSTAMP:20260419T150515
DTSTART;TZID=Europe/Berlin:20260430T183000
DTEND;TZID=Europe/Berlin:20260430T200000
UID:HM42204-20260430T183000@VHSMETZINGEN
SUMMARY:¡Ahora me toca a mi! Spanisch mit geringen Vorkenntnissen (A1) (HM42204) 
LOCATION:D.-B.-Gymnasium, C001, Erdgeschoss, Öschweg 21, 72555 Metzingen
END:VEVENT
BEGIN:VEVENT
DTSTAMP:20260419T150515
DTSTART;TZID=Europe/Berlin:20260507T183000
DTEND;TZID=Europe/Berlin:20260507T200000
UID:HM42204-20260507T183000@VHSMETZINGEN
SUMMARY:¡Ahora me toca a mi! Spanisch mit geringen Vorkenntnissen (A1) (HM42204) 
LOCATION:D.-B.-Gymnasium, C001, Erdgeschoss, Öschweg 21, 72555 Metzingen
END:VEVENT
BEGIN:VEVENT
DTSTAMP:20260419T150515
DTSTART;TZID=Europe/Berlin:20260521T183000
DTEND;TZID=Europe/Berlin:20260521T200000
UID:HM42204-20260521T183000@VHSMETZINGEN
SUMMARY:¡Ahora me toca a mi! Spanisch mit geringen Vorkenntnissen (A1) (HM42204) 
LOCATION:D.-B.-Gymnasium, C001, Erdgeschoss, Öschweg 21, 72555 Metzingen
END:VEVENT
BEGIN:VEVENT
DTSTAMP:20260419T150515
DTSTART;TZID=Europe/Berlin:20260618T183000
DTEND;TZID=Europe/Berlin:20260618T200000
UID:HM42204-20260618T183000@VHSMETZINGEN
DESCRIPTION:Jugendirchester probt in der neuen Aula , kann laut werden
SUMMARY:¡Ahora me toca a mi! Spanisch mit geringen Vorkenntnissen (A1) (HM42204) 
LOCATION:D.-B.-Gymnasium, C001, Erdgeschoss, Öschweg 21, 72555 Metzingen
END:VEVENT
BEGIN:VEVENT
DTSTAMP:20260419T150515
DTSTART;TZID=Europe/Berlin:20260625T183000
DTEND;TZID=Europe/Berlin:20260625T200000
UID:HM42204-20260625T183000@VHSMETZINGEN
SUMMARY:¡Ahora me toca a mi! Spanisch mit geringen Vorkenntnissen (A1) (HM42204) 
LOCATION:D.-B.-Gymnasium, C001, Erdgeschoss, Öschweg 21, 72555 Metzingen
END:VEVENT
BEGIN:VEVENT
DTSTAMP:20260419T150515
DTSTART;TZID=Europe/Berlin:20260702T183000
DTEND;TZID=Europe/Berlin:20260702T200000
UID:HM42204-20260702T183000@VHSMETZINGEN
SUMMARY:¡Ahora me toca a mi! Spanisch mit geringen Vorkenntnissen (A1) (HM42204) 
LOCATION:D.-B.-Gymnasium, C001, Erdgeschoss, Öschweg 21, 72555 Metzingen
END:VEVENT
BEGIN:VEVENT
DTSTAMP:20260419T150515
DTSTART;TZID=Europe/Berlin:20260709T183000
DTEND;TZID=Europe/Berlin:20260709T200000
UID:HM42204-20260709T183000@VHSMETZINGEN
SUMMARY:¡Ahora me toca a mi! Spanisch mit geringen Vorkenntnissen (A1) (HM42204) 
LOCATION:D.-B.-Gymnasium, C001, Erdgeschoss, Öschweg 21, 72555 Metzingen
END:VEVENT
BEGIN:VEVENT
DTSTAMP:20260419T150515
DTSTART;TZID=Europe/Berlin:20260716T183000
DTEND;TZID=Europe/Berlin:20260716T200000
UID:HM42204-20260716T183000@VHSMETZINGEN
DESCRIPTION:Email an Dozentin am 09.02. verschickt mit der Bitte um Ersatztermin
SUMMARY:¡Ahora me toca a mi! Spanisch mit geringen Vorkenntnissen (A1) (HM42204) 
LOCATION:Haus der VHS, Raum Völter, Innere Heerstr. 6, 72555 Metzingen
END:VEVENT
BEGIN:VEVENT
DTSTAMP:20260419T150515
DTSTART;TZID=Europe/Berlin:20260723T183000
DTEND;TZID=Europe/Berlin:20260723T200000
UID:HM42204-20260723T183000@VHSMETZINGEN
SUMMARY:¡Ahora me toca a mi! Spanisch mit geringen Vorkenntnissen (A1) (HM42204) 
LOCATION:D.-B.-Gymnasium, C001, Erdgeschoss, Öschweg 21, 72555 Metzingen
END:VEVENT
END:VCALENDAR