BEGIN:VCALENDAR
VERSION:2.0
PRODID:http://www.kufer.de/kuferweb / DE
METHOD:PUBLISH
CALSCALE:GREGORIAN
X-WR-TIMEZONE:Europe/Berlin
BEGIN:VTIMEZONE
TZID:Europe/Berlin
X-LIC-LOCATION:Europe/Berlin
BEGIN:DAYLIGHT
TZOFFSETFROM:+0100
TZOFFSETTO:+0200
TZNAME:CEST
DTSTART;TZID=Europe/Berlin:19700329T020000
RRULE:FREQ=YEARLY;INTERVAL=1;BYDAY=-1SU;BYMONTH=3
END:DAYLIGHT
BEGIN:STANDARD
TZOFFSETFROM:+0200
TZOFFSETTO:+0100
TZNAME:CET
DTSTART;TZID=Europe/Berlin:19701025T030000
RRULE:FREQ=YEARLY;INTERVAL=1;BYDAY=-1SU;BYMONTH=10
END:STANDARD
END:VTIMEZONE
BEGIN:VEVENT
DTSTAMP:20260420T102030
DTSTART;TZID=Europe/Berlin:20260324T194500
DTEND;TZID=Europe/Berlin:20260324T211500
UID:HM40903-20260324T194500@VHSMETZINGEN
SUMMARY:Italienisch mit Spaß (B1) Grundstufe 7 (HM40903) 
LOCATION:Haus der VHS, Raum Sprandel, Innere Heerstr. 6, 72555 Metzingen
END:VEVENT
BEGIN:VEVENT
DTSTAMP:20260420T102030
DTSTART;TZID=Europe/Berlin:20260414T194500
DTEND;TZID=Europe/Berlin:20260414T211500
UID:HM40903-20260414T194500@VHSMETZINGEN
SUMMARY:Italienisch mit Spaß (B1) Grundstufe 7 (HM40903) 
LOCATION:Haus der VHS, Raum Sprandel, Innere Heerstr. 6, 72555 Metzingen
END:VEVENT
BEGIN:VEVENT
DTSTAMP:20260420T102030
DTSTART;TZID=Europe/Berlin:20260421T194500
DTEND;TZID=Europe/Berlin:20260421T211500
UID:HM40903-20260421T194500@VHSMETZINGEN
SUMMARY:Italienisch mit Spaß (B1) Grundstufe 7 (HM40903) 
LOCATION:Haus der VHS, Raum Sprandel, Innere Heerstr. 6, 72555 Metzingen
END:VEVENT
BEGIN:VEVENT
DTSTAMP:20260420T102030
DTSTART;TZID=Europe/Berlin:20260428T194500
DTEND;TZID=Europe/Berlin:20260428T211500
UID:HM40903-20260428T194500@VHSMETZINGEN
SUMMARY:Italienisch mit Spaß (B1) Grundstufe 7 (HM40903) 
LOCATION:Haus der VHS, Raum Sprandel, Innere Heerstr. 6, 72555 Metzingen
END:VEVENT
BEGIN:VEVENT
DTSTAMP:20260420T102030
DTSTART;TZID=Europe/Berlin:20260505T194500
DTEND;TZID=Europe/Berlin:20260505T211500
UID:HM40903-20260505T194500@VHSMETZINGEN
SUMMARY:Italienisch mit Spaß (B1) Grundstufe 7 (HM40903) 
LOCATION:Haus der VHS, Raum Sprandel, Innere Heerstr. 6, 72555 Metzingen
END:VEVENT
BEGIN:VEVENT
DTSTAMP:20260420T102030
DTSTART;TZID=Europe/Berlin:20260512T194500
DTEND;TZID=Europe/Berlin:20260512T211500
UID:HM40903-20260512T194500@VHSMETZINGEN
SUMMARY:Italienisch mit Spaß (B1) Grundstufe 7 (HM40903) 
LOCATION:Haus der VHS, Raum Sprandel, Innere Heerstr. 6, 72555 Metzingen
END:VEVENT
BEGIN:VEVENT
DTSTAMP:20260420T102030
DTSTART;TZID=Europe/Berlin:20260519T194500
DTEND;TZID=Europe/Berlin:20260519T211500
UID:HM40903-20260519T194500@VHSMETZINGEN
SUMMARY:Italienisch mit Spaß (B1) Grundstufe 7 (HM40903) 
LOCATION:Haus der VHS, Raum Sprandel, Innere Heerstr. 6, 72555 Metzingen
END:VEVENT
BEGIN:VEVENT
DTSTAMP:20260420T102030
DTSTART;TZID=Europe/Berlin:20260609T194500
DTEND;TZID=Europe/Berlin:20260609T211500
UID:HM40903-20260609T194500@VHSMETZINGEN
SUMMARY:Italienisch mit Spaß (B1) Grundstufe 7 (HM40903) 
LOCATION:Haus der VHS, Raum Sprandel, Innere Heerstr. 6, 72555 Metzingen
END:VEVENT
BEGIN:VEVENT
DTSTAMP:20260420T102030
DTSTART;TZID=Europe/Berlin:20260616T194500
DTEND;TZID=Europe/Berlin:20260616T211500
UID:HM40903-20260616T194500@VHSMETZINGEN
SUMMARY:Italienisch mit Spaß (B1) Grundstufe 7 (HM40903) 
LOCATION:Haus der VHS, Raum Sprandel, Innere Heerstr. 6, 72555 Metzingen
END:VEVENT
BEGIN:VEVENT
DTSTAMP:20260420T102030
DTSTART;TZID=Europe/Berlin:20260623T194500
DTEND;TZID=Europe/Berlin:20260623T211500
UID:HM40903-20260623T194500@VHSMETZINGEN
SUMMARY:Italienisch mit Spaß (B1) Grundstufe 7 (HM40903) 
LOCATION:Haus der VHS, Raum Sprandel, Innere Heerstr. 6, 72555 Metzingen
END:VEVENT
BEGIN:VEVENT
DTSTAMP:20260420T102030
DTSTART;TZID=Europe/Berlin:20260630T194500
DTEND;TZID=Europe/Berlin:20260630T211500
UID:HM40903-20260630T194500@VHSMETZINGEN
SUMMARY:Italienisch mit Spaß (B1) Grundstufe 7 (HM40903) 
LOCATION:Haus der VHS, Raum Sprandel, Innere Heerstr. 6, 72555 Metzingen
END:VEVENT
BEGIN:VEVENT
DTSTAMP:20260420T102030
DTSTART;TZID=Europe/Berlin:20260707T194500
DTEND;TZID=Europe/Berlin:20260707T211500
UID:HM40903-20260707T194500@VHSMETZINGEN
SUMMARY:Italienisch mit Spaß (B1) Grundstufe 7 (HM40903) 
LOCATION:Haus der VHS, Raum Sprandel, Innere Heerstr. 6, 72555 Metzingen
END:VEVENT
END:VCALENDAR