BEGIN:VCALENDAR
VERSION:2.0
PRODID:http://www.kufer.de/kuferweb / DE
METHOD:PUBLISH
CALSCALE:GREGORIAN
X-WR-TIMEZONE:Europe/Berlin
BEGIN:VTIMEZONE
TZID:Europe/Berlin
X-LIC-LOCATION:Europe/Berlin
BEGIN:DAYLIGHT
TZOFFSETFROM:+0100
TZOFFSETTO:+0200
TZNAME:CEST
DTSTART;TZID=Europe/Berlin:19700329T020000
RRULE:FREQ=YEARLY;INTERVAL=1;BYDAY=-1SU;BYMONTH=3
END:DAYLIGHT
BEGIN:STANDARD
TZOFFSETFROM:+0200
TZOFFSETTO:+0100
TZNAME:CET
DTSTART;TZID=Europe/Berlin:19701025T030000
RRULE:FREQ=YEARLY;INTERVAL=1;BYDAY=-1SU;BYMONTH=10
END:STANDARD
END:VTIMEZONE
BEGIN:VEVENT
DTSTAMP:20260420T164133
DTSTART;TZID=Europe/Berlin:20260310T100500
DTEND;TZID=Europe/Berlin:20260310T113500
UID:HM40612-20260310T100500@VHSMETZINGEN
SUMMARY:Englisch, Aufbaustufe für Wiedereinsteigende (B2) (HM40612) 
LOCATION:Haus der VHS, Raum Völter, Innere Heerstr. 6, 72555 Metzingen
END:VEVENT
BEGIN:VEVENT
DTSTAMP:20260420T164133
DTSTART;TZID=Europe/Berlin:20260317T100500
DTEND;TZID=Europe/Berlin:20260317T113500
UID:HM40612-20260317T100500@VHSMETZINGEN
SUMMARY:Englisch, Aufbaustufe für Wiedereinsteigende (B2) (HM40612) 
LOCATION:Haus der VHS, Raum Völter, Innere Heerstr. 6, 72555 Metzingen
END:VEVENT
BEGIN:VEVENT
DTSTAMP:20260420T164133
DTSTART;TZID=Europe/Berlin:20260324T100500
DTEND;TZID=Europe/Berlin:20260324T113500
UID:HM40612-20260324T100500@VHSMETZINGEN
SUMMARY:Englisch, Aufbaustufe für Wiedereinsteigende (B2) (HM40612) 
LOCATION:Haus der VHS, Raum Völter, Innere Heerstr. 6, 72555 Metzingen
END:VEVENT
BEGIN:VEVENT
DTSTAMP:20260420T164133
DTSTART;TZID=Europe/Berlin:20260414T100500
DTEND;TZID=Europe/Berlin:20260414T113500
UID:HM40612-20260414T100500@VHSMETZINGEN
SUMMARY:Englisch, Aufbaustufe für Wiedereinsteigende (B2) (HM40612) 
LOCATION:Haus der VHS, Raum Völter, Innere Heerstr. 6, 72555 Metzingen
END:VEVENT
BEGIN:VEVENT
DTSTAMP:20260420T164133
DTSTART;TZID=Europe/Berlin:20260421T100500
DTEND;TZID=Europe/Berlin:20260421T113500
UID:HM40612-20260421T100500@VHSMETZINGEN
SUMMARY:Englisch, Aufbaustufe für Wiedereinsteigende (B2) (HM40612) 
LOCATION:Haus der VHS, Raum Völter, Innere Heerstr. 6, 72555 Metzingen
END:VEVENT
BEGIN:VEVENT
DTSTAMP:20260420T164133
DTSTART;TZID=Europe/Berlin:20260428T100500
DTEND;TZID=Europe/Berlin:20260428T113500
UID:HM40612-20260428T100500@VHSMETZINGEN
SUMMARY:Englisch, Aufbaustufe für Wiedereinsteigende (B2) (HM40612) 
LOCATION:Haus der VHS, Raum Völter, Innere Heerstr. 6, 72555 Metzingen
END:VEVENT
BEGIN:VEVENT
DTSTAMP:20260420T164133
DTSTART;TZID=Europe/Berlin:20260505T100500
DTEND;TZID=Europe/Berlin:20260505T113500
UID:HM40612-20260505T100500@VHSMETZINGEN
SUMMARY:Englisch, Aufbaustufe für Wiedereinsteigende (B2) (HM40612) 
LOCATION:Haus der VHS, Raum Völter, Innere Heerstr. 6, 72555 Metzingen
END:VEVENT
BEGIN:VEVENT
DTSTAMP:20260420T164133
DTSTART;TZID=Europe/Berlin:20260512T100500
DTEND;TZID=Europe/Berlin:20260512T113500
UID:HM40612-20260512T100500@VHSMETZINGEN
SUMMARY:Englisch, Aufbaustufe für Wiedereinsteigende (B2) (HM40612) 
LOCATION:Haus der VHS, Raum Völter, Innere Heerstr. 6, 72555 Metzingen
END:VEVENT
BEGIN:VEVENT
DTSTAMP:20260420T164133
DTSTART;TZID=Europe/Berlin:20260519T100500
DTEND;TZID=Europe/Berlin:20260519T113500
UID:HM40612-20260519T100500@VHSMETZINGEN
SUMMARY:Englisch, Aufbaustufe für Wiedereinsteigende (B2) (HM40612) 
LOCATION:Haus der VHS, Raum Völter, Innere Heerstr. 6, 72555 Metzingen
END:VEVENT
BEGIN:VEVENT
DTSTAMP:20260420T164133
DTSTART;TZID=Europe/Berlin:20260609T100500
DTEND;TZID=Europe/Berlin:20260609T113500
UID:HM40612-20260609T100500@VHSMETZINGEN
SUMMARY:Englisch, Aufbaustufe für Wiedereinsteigende (B2) (HM40612) 
LOCATION:Haus der VHS, Raum Völter, Innere Heerstr. 6, 72555 Metzingen
END:VEVENT
BEGIN:VEVENT
DTSTAMP:20260420T164133
DTSTART;TZID=Europe/Berlin:20260616T100500
DTEND;TZID=Europe/Berlin:20260616T113500
UID:HM40612-20260616T100500@VHSMETZINGEN
SUMMARY:Englisch, Aufbaustufe für Wiedereinsteigende (B2) (HM40612) 
LOCATION:Haus der VHS, Raum Völter, Innere Heerstr. 6, 72555 Metzingen
END:VEVENT
BEGIN:VEVENT
DTSTAMP:20260420T164133
DTSTART;TZID=Europe/Berlin:20260623T100500
DTEND;TZID=Europe/Berlin:20260623T113500
UID:HM40612-20260623T100500@VHSMETZINGEN
SUMMARY:Englisch, Aufbaustufe für Wiedereinsteigende (B2) (HM40612) 
LOCATION:Haus der VHS, Raum Völter, Innere Heerstr. 6, 72555 Metzingen
END:VEVENT
END:VCALENDAR