BEGIN:VCALENDAR
VERSION:2.0
PRODID:http://www.kufer.de/kuferweb / DE
METHOD:PUBLISH
CALSCALE:GREGORIAN
X-WR-TIMEZONE:Europe/Berlin
BEGIN:VTIMEZONE
TZID:Europe/Berlin
X-LIC-LOCATION:Europe/Berlin
BEGIN:DAYLIGHT
TZOFFSETFROM:+0100
TZOFFSETTO:+0200
TZNAME:CEST
DTSTART;TZID=Europe/Berlin:19700329T020000
RRULE:FREQ=YEARLY;INTERVAL=1;BYDAY=-1SU;BYMONTH=3
END:DAYLIGHT
BEGIN:STANDARD
TZOFFSETFROM:+0200
TZOFFSETTO:+0100
TZNAME:CET
DTSTART;TZID=Europe/Berlin:19701025T030000
RRULE:FREQ=YEARLY;INTERVAL=1;BYDAY=-1SU;BYMONTH=10
END:STANDARD
END:VTIMEZONE
BEGIN:VEVENT
DTSTAMP:20260420T102030
DTSTART;TZID=Europe/Berlin:20260226T074500
DTEND;TZID=Europe/Berlin:20260226T084500
UID:HM36084-20260226T074500@VHSMETZINGEN
SUMMARY:Yoga für mich - dafür bin ich nie zu alt - Angebot für die ältere Generation (HM36084) 
LOCATION:Haus der VHS, Gymnastikraum, Innere Heerstr. 6, 72555 Metzingen
END:VEVENT
BEGIN:VEVENT
DTSTAMP:20260420T102030
DTSTART;TZID=Europe/Berlin:20260305T074500
DTEND;TZID=Europe/Berlin:20260305T084500
UID:HM36084-20260305T074500@VHSMETZINGEN
SUMMARY:Yoga für mich - dafür bin ich nie zu alt - Angebot für die ältere Generation (HM36084) 
LOCATION:Haus der VHS, Gymnastikraum, Innere Heerstr. 6, 72555 Metzingen
END:VEVENT
BEGIN:VEVENT
DTSTAMP:20260420T102030
DTSTART;TZID=Europe/Berlin:20260312T074500
DTEND;TZID=Europe/Berlin:20260312T084500
UID:HM36084-20260312T074500@VHSMETZINGEN
SUMMARY:Yoga für mich - dafür bin ich nie zu alt - Angebot für die ältere Generation (HM36084) 
LOCATION:Haus der VHS, Gymnastikraum, Innere Heerstr. 6, 72555 Metzingen
END:VEVENT
BEGIN:VEVENT
DTSTAMP:20260420T102030
DTSTART;TZID=Europe/Berlin:20260319T074500
DTEND;TZID=Europe/Berlin:20260319T084500
UID:HM36084-20260319T074500@VHSMETZINGEN
SUMMARY:Yoga für mich - dafür bin ich nie zu alt - Angebot für die ältere Generation (HM36084) 
LOCATION:Haus der VHS, Gymnastikraum, Innere Heerstr. 6, 72555 Metzingen
END:VEVENT
BEGIN:VEVENT
DTSTAMP:20260420T102030
DTSTART;TZID=Europe/Berlin:20260326T074500
DTEND;TZID=Europe/Berlin:20260326T084500
UID:HM36084-20260326T074500@VHSMETZINGEN
SUMMARY:Yoga für mich - dafür bin ich nie zu alt - Angebot für die ältere Generation (HM36084) 
LOCATION:Haus der VHS, Gymnastikraum, Innere Heerstr. 6, 72555 Metzingen
END:VEVENT
BEGIN:VEVENT
DTSTAMP:20260420T102030
DTSTART;TZID=Europe/Berlin:20260416T074500
DTEND;TZID=Europe/Berlin:20260416T084500
UID:HM36084-20260416T074500@VHSMETZINGEN
SUMMARY:Yoga für mich - dafür bin ich nie zu alt - Angebot für die ältere Generation (HM36084) 
LOCATION:Haus der VHS, Gymnastikraum, Innere Heerstr. 6, 72555 Metzingen
END:VEVENT
BEGIN:VEVENT
DTSTAMP:20260420T102030
DTSTART;TZID=Europe/Berlin:20260423T074500
DTEND;TZID=Europe/Berlin:20260423T084500
UID:HM36084-20260423T074500@VHSMETZINGEN
SUMMARY:Yoga für mich - dafür bin ich nie zu alt - Angebot für die ältere Generation (HM36084) 
LOCATION:Haus der VHS, Gymnastikraum, Innere Heerstr. 6, 72555 Metzingen
END:VEVENT
BEGIN:VEVENT
DTSTAMP:20260420T102030
DTSTART;TZID=Europe/Berlin:20260507T074500
DTEND;TZID=Europe/Berlin:20260507T084500
UID:HM36084-20260507T074500@VHSMETZINGEN
SUMMARY:Yoga für mich - dafür bin ich nie zu alt - Angebot für die ältere Generation (HM36084) 
LOCATION:Haus der VHS, Gymnastikraum, Innere Heerstr. 6, 72555 Metzingen
END:VEVENT
BEGIN:VEVENT
DTSTAMP:20260420T102030
DTSTART;TZID=Europe/Berlin:20260625T074500
DTEND;TZID=Europe/Berlin:20260625T084500
UID:HM36084-20260625T074500@VHSMETZINGEN
SUMMARY:Yoga für mich - dafür bin ich nie zu alt - Angebot für die ältere Generation (HM36084) 
LOCATION:Haus der VHS, Gymnastikraum, Innere Heerstr. 6, 72555 Metzingen
END:VEVENT
BEGIN:VEVENT
DTSTAMP:20260420T102030
DTSTART;TZID=Europe/Berlin:20260702T074500
DTEND;TZID=Europe/Berlin:20260702T084500
UID:HM36084-20260702T074500@VHSMETZINGEN
DESCRIPTION:Ersatz für Ausfall am 30.04.2026
SUMMARY:Yoga für mich - dafür bin ich nie zu alt - Angebot für die ältere Generation (HM36084) 
LOCATION:Haus der VHS, Gymnastikraum, Innere Heerstr. 6, 72555 Metzingen
END:VEVENT
BEGIN:VEVENT
DTSTAMP:20260420T102030
DTSTART;TZID=Europe/Berlin:20260709T074500
DTEND;TZID=Europe/Berlin:20260709T084500
UID:HM36084-20260709T074500@VHSMETZINGEN
DESCRIPTION:Ersatz für Ausfall am 16.04.2026
SUMMARY:Yoga für mich - dafür bin ich nie zu alt - Angebot für die ältere Generation (HM36084) 
LOCATION:Haus der VHS, Gymnastikraum, Innere Heerstr. 6, 72555 Metzingen
END:VEVENT
BEGIN:VEVENT
DTSTAMP:20260420T102030
DTSTART;TZID=Europe/Berlin:20260716T074500
DTEND;TZID=Europe/Berlin:20260716T084500
UID:HM36084-20260716T074500@VHSMETZINGEN
DESCRIPTION:Ersatz für Ausfall am 21.05.2026
SUMMARY:Yoga für mich - dafür bin ich nie zu alt - Angebot für die ältere Generation (HM36084) 
LOCATION:Haus der VHS, Gymnastikraum, Innere Heerstr. 6, 72555 Metzingen
END:VEVENT
BEGIN:VEVENT
DTSTAMP:20260420T102030
DTSTART;TZID=Europe/Berlin:20260723T074500
DTEND;TZID=Europe/Berlin:20260723T084500
UID:HM36084-20260723T074500@VHSMETZINGEN
DESCRIPTION:Ersatz für Ausfall am 11.06.2026
SUMMARY:Yoga für mich - dafür bin ich nie zu alt - Angebot für die ältere Generation (HM36084) 
LOCATION:Haus der VHS, Gymnastikraum, Innere Heerstr. 6, 72555 Metzingen
END:VEVENT
END:VCALENDAR