BEGIN:VCALENDAR
VERSION:2.0
PRODID:http://www.kufer.de/kuferweb / DE
METHOD:PUBLISH
CALSCALE:GREGORIAN
X-WR-TIMEZONE:Europe/Berlin
BEGIN:VTIMEZONE
TZID:Europe/Berlin
X-LIC-LOCATION:Europe/Berlin
BEGIN:DAYLIGHT
TZOFFSETFROM:+0100
TZOFFSETTO:+0200
TZNAME:CEST
DTSTART;TZID=Europe/Berlin:19700329T020000
RRULE:FREQ=YEARLY;INTERVAL=1;BYDAY=-1SU;BYMONTH=3
END:DAYLIGHT
BEGIN:STANDARD
TZOFFSETFROM:+0200
TZOFFSETTO:+0100
TZNAME:CET
DTSTART;TZID=Europe/Berlin:19701025T030000
RRULE:FREQ=YEARLY;INTERVAL=1;BYDAY=-1SU;BYMONTH=10
END:STANDARD
END:VTIMEZONE
BEGIN:VEVENT
DTSTAMP:20260421T052950
DTSTART;TZID=Europe/Berlin:20260224T191500
DTEND;TZID=Europe/Berlin:20260224T201500
UID:HM35036-20260224T191500@VHSMETZINGEN
SUMMARY:Zumba® - Aerobic- und Fitnessworkout (HM35036) 
LOCATION:Haus der VHS, Gymnastikraum, Innere Heerstr. 6, 72555 Metzingen
END:VEVENT
BEGIN:VEVENT
DTSTAMP:20260421T052950
DTSTART;TZID=Europe/Berlin:20260303T191500
DTEND;TZID=Europe/Berlin:20260303T201500
UID:HM35036-20260303T191500@VHSMETZINGEN
SUMMARY:Zumba® - Aerobic- und Fitnessworkout (HM35036) 
LOCATION:Haus der VHS, Gymnastikraum, Innere Heerstr. 6, 72555 Metzingen
END:VEVENT
BEGIN:VEVENT
DTSTAMP:20260421T052950
DTSTART;TZID=Europe/Berlin:20260310T191500
DTEND;TZID=Europe/Berlin:20260310T201500
UID:HM35036-20260310T191500@VHSMETZINGEN
SUMMARY:Zumba® - Aerobic- und Fitnessworkout (HM35036) 
LOCATION:Haus der VHS, Gymnastikraum, Innere Heerstr. 6, 72555 Metzingen
END:VEVENT
BEGIN:VEVENT
DTSTAMP:20260421T052950
DTSTART;TZID=Europe/Berlin:20260317T191500
DTEND;TZID=Europe/Berlin:20260317T201500
UID:HM35036-20260317T191500@VHSMETZINGEN
SUMMARY:Zumba® - Aerobic- und Fitnessworkout (HM35036) 
LOCATION:Haus der VHS, Gymnastikraum, Innere Heerstr. 6, 72555 Metzingen
END:VEVENT
BEGIN:VEVENT
DTSTAMP:20260421T052950
DTSTART;TZID=Europe/Berlin:20260324T191500
DTEND;TZID=Europe/Berlin:20260324T201500
UID:HM35036-20260324T191500@VHSMETZINGEN
SUMMARY:Zumba® - Aerobic- und Fitnessworkout (HM35036) 
LOCATION:Haus der VHS, Gymnastikraum, Innere Heerstr. 6, 72555 Metzingen
END:VEVENT
BEGIN:VEVENT
DTSTAMP:20260421T052950
DTSTART;TZID=Europe/Berlin:20260421T191500
DTEND;TZID=Europe/Berlin:20260421T201500
UID:HM35036-20260421T191500@VHSMETZINGEN
SUMMARY:Zumba® - Aerobic- und Fitnessworkout (HM35036) 
LOCATION:Haus der VHS, Gymnastikraum, Innere Heerstr. 6, 72555 Metzingen
END:VEVENT
BEGIN:VEVENT
DTSTAMP:20260421T052950
DTSTART;TZID=Europe/Berlin:20260428T191500
DTEND;TZID=Europe/Berlin:20260428T201500
UID:HM35036-20260428T191500@VHSMETZINGEN
SUMMARY:Zumba® - Aerobic- und Fitnessworkout (HM35036) 
LOCATION:Haus der VHS, Gymnastikraum, Innere Heerstr. 6, 72555 Metzingen
END:VEVENT
BEGIN:VEVENT
DTSTAMP:20260421T052950
DTSTART;TZID=Europe/Berlin:20260505T191500
DTEND;TZID=Europe/Berlin:20260505T201500
UID:HM35036-20260505T191500@VHSMETZINGEN
SUMMARY:Zumba® - Aerobic- und Fitnessworkout (HM35036) 
LOCATION:Haus der VHS, Gymnastikraum, Innere Heerstr. 6, 72555 Metzingen
END:VEVENT
BEGIN:VEVENT
DTSTAMP:20260421T052950
DTSTART;TZID=Europe/Berlin:20260512T191500
DTEND;TZID=Europe/Berlin:20260512T201500
UID:HM35036-20260512T191500@VHSMETZINGEN
SUMMARY:Zumba® - Aerobic- und Fitnessworkout (HM35036) 
LOCATION:Haus der VHS, Gymnastikraum, Innere Heerstr. 6, 72555 Metzingen
END:VEVENT
BEGIN:VEVENT
DTSTAMP:20260421T052950
DTSTART;TZID=Europe/Berlin:20260519T191500
DTEND;TZID=Europe/Berlin:20260519T201500
UID:HM35036-20260519T191500@VHSMETZINGEN
SUMMARY:Zumba® - Aerobic- und Fitnessworkout (HM35036) 
LOCATION:Haus der VHS, Gymnastikraum, Innere Heerstr. 6, 72555 Metzingen
END:VEVENT
BEGIN:VEVENT
DTSTAMP:20260421T052950
DTSTART;TZID=Europe/Berlin:20260609T191500
DTEND;TZID=Europe/Berlin:20260609T201500
UID:HM35036-20260609T191500@VHSMETZINGEN
SUMMARY:Zumba® - Aerobic- und Fitnessworkout (HM35036) 
LOCATION:Haus der VHS, Gymnastikraum, Innere Heerstr. 6, 72555 Metzingen
END:VEVENT
BEGIN:VEVENT
DTSTAMP:20260421T052950
DTSTART;TZID=Europe/Berlin:20260616T191500
DTEND;TZID=Europe/Berlin:20260616T201500
UID:HM35036-20260616T191500@VHSMETZINGEN
SUMMARY:Zumba® - Aerobic- und Fitnessworkout (HM35036) 
LOCATION:Haus der VHS, Gymnastikraum, Innere Heerstr. 6, 72555 Metzingen
END:VEVENT
BEGIN:VEVENT
DTSTAMP:20260421T052950
DTSTART;TZID=Europe/Berlin:20260623T191500
DTEND;TZID=Europe/Berlin:20260623T201500
UID:HM35036-20260623T191500@VHSMETZINGEN
SUMMARY:Zumba® - Aerobic- und Fitnessworkout (HM35036) 
LOCATION:Haus der VHS, Gymnastikraum, Innere Heerstr. 6, 72555 Metzingen
END:VEVENT
BEGIN:VEVENT
DTSTAMP:20260421T052950
DTSTART;TZID=Europe/Berlin:20260630T191500
DTEND;TZID=Europe/Berlin:20260630T201500
UID:HM35036-20260630T191500@VHSMETZINGEN
SUMMARY:Zumba® - Aerobic- und Fitnessworkout (HM35036) 
LOCATION:Haus der VHS, Gymnastikraum, Innere Heerstr. 6, 72555 Metzingen
END:VEVENT
BEGIN:VEVENT
DTSTAMP:20260421T052950
DTSTART;TZID=Europe/Berlin:20260707T191500
DTEND;TZID=Europe/Berlin:20260707T201500
UID:HM35036-20260707T191500@VHSMETZINGEN
SUMMARY:Zumba® - Aerobic- und Fitnessworkout (HM35036) 
LOCATION:Haus der VHS, Gymnastikraum, Innere Heerstr. 6, 72555 Metzingen
END:VEVENT
BEGIN:VEVENT
DTSTAMP:20260421T052950
DTSTART;TZID=Europe/Berlin:20260714T191500
DTEND;TZID=Europe/Berlin:20260714T201500
UID:HM35036-20260714T191500@VHSMETZINGEN
SUMMARY:Zumba® - Aerobic- und Fitnessworkout (HM35036) 
LOCATION:Haus der VHS, Gymnastikraum, Innere Heerstr. 6, 72555 Metzingen
END:VEVENT
BEGIN:VEVENT
DTSTAMP:20260421T052950
DTSTART;TZID=Europe/Berlin:20260721T191500
DTEND;TZID=Europe/Berlin:20260721T201500
UID:HM35036-20260721T191500@VHSMETZINGEN
SUMMARY:Zumba® - Aerobic- und Fitnessworkout (HM35036) 
LOCATION:Haus der VHS, Gymnastikraum, Innere Heerstr. 6, 72555 Metzingen
END:VEVENT
BEGIN:VEVENT
DTSTAMP:20260421T052950
DTSTART;TZID=Europe/Berlin:20260728T191500
DTEND;TZID=Europe/Berlin:20260728T201500
UID:HM35036-20260728T191500@VHSMETZINGEN
SUMMARY:Zumba® - Aerobic- und Fitnessworkout (HM35036) 
LOCATION:Haus der VHS, Gymnastikraum, Innere Heerstr. 6, 72555 Metzingen
END:VEVENT
END:VCALENDAR