BEGIN:VCALENDAR
VERSION:2.0
PRODID:http://www.kufer.de/kuferweb / DE
METHOD:PUBLISH
CALSCALE:GREGORIAN
X-WR-TIMEZONE:Europe/Berlin
BEGIN:VTIMEZONE
TZID:Europe/Berlin
X-LIC-LOCATION:Europe/Berlin
BEGIN:DAYLIGHT
TZOFFSETFROM:+0100
TZOFFSETTO:+0200
TZNAME:CEST
DTSTART;TZID=Europe/Berlin:19700329T020000
RRULE:FREQ=YEARLY;INTERVAL=1;BYDAY=-1SU;BYMONTH=3
END:DAYLIGHT
BEGIN:STANDARD
TZOFFSETFROM:+0200
TZOFFSETTO:+0100
TZNAME:CET
DTSTART;TZID=Europe/Berlin:19701025T030000
RRULE:FREQ=YEARLY;INTERVAL=1;BYDAY=-1SU;BYMONTH=10
END:STANDARD
END:VTIMEZONE
BEGIN:VEVENT
DTSTAMP:20260421T024744
DTSTART;TZID=Europe/Berlin:20260226T194500
DTEND;TZID=Europe/Berlin:20260226T204500
UID:HM33345-20260226T194500@VHSMETZINGEN
SUMMARY:"Fitte Mädels" - Funktionelle Gymnastik für Frauen (HM33345) 
LOCATION:Haus der VHS, Gymnastikraum, Innere Heerstr. 6, 72555 Metzingen
END:VEVENT
BEGIN:VEVENT
DTSTAMP:20260421T024744
DTSTART;TZID=Europe/Berlin:20260305T194500
DTEND;TZID=Europe/Berlin:20260305T204500
UID:HM33345-20260305T194500@VHSMETZINGEN
SUMMARY:"Fitte Mädels" - Funktionelle Gymnastik für Frauen (HM33345) 
LOCATION:Haus der VHS, Gymnastikraum, Innere Heerstr. 6, 72555 Metzingen
END:VEVENT
BEGIN:VEVENT
DTSTAMP:20260421T024744
DTSTART;TZID=Europe/Berlin:20260312T194500
DTEND;TZID=Europe/Berlin:20260312T204500
UID:HM33345-20260312T194500@VHSMETZINGEN
SUMMARY:"Fitte Mädels" - Funktionelle Gymnastik für Frauen (HM33345) 
LOCATION:Haus der VHS, Gymnastikraum, Innere Heerstr. 6, 72555 Metzingen
END:VEVENT
BEGIN:VEVENT
DTSTAMP:20260421T024744
DTSTART;TZID=Europe/Berlin:20260319T194500
DTEND;TZID=Europe/Berlin:20260319T204500
UID:HM33345-20260319T194500@VHSMETZINGEN
SUMMARY:"Fitte Mädels" - Funktionelle Gymnastik für Frauen (HM33345) 
LOCATION:Haus der VHS, Gymnastikraum, Innere Heerstr. 6, 72555 Metzingen
END:VEVENT
BEGIN:VEVENT
DTSTAMP:20260421T024744
DTSTART;TZID=Europe/Berlin:20260416T194500
DTEND;TZID=Europe/Berlin:20260416T204500
UID:HM33345-20260416T194500@VHSMETZINGEN
SUMMARY:"Fitte Mädels" - Funktionelle Gymnastik für Frauen (HM33345) 
LOCATION:Haus der VHS, Gymnastikraum, Innere Heerstr. 6, 72555 Metzingen
END:VEVENT
BEGIN:VEVENT
DTSTAMP:20260421T024744
DTSTART;TZID=Europe/Berlin:20260423T194500
DTEND;TZID=Europe/Berlin:20260423T204500
UID:HM33345-20260423T194500@VHSMETZINGEN
SUMMARY:"Fitte Mädels" - Funktionelle Gymnastik für Frauen (HM33345) 
LOCATION:Haus der VHS, Gymnastikraum, Innere Heerstr. 6, 72555 Metzingen
END:VEVENT
BEGIN:VEVENT
DTSTAMP:20260421T024744
DTSTART;TZID=Europe/Berlin:20260430T194500
DTEND;TZID=Europe/Berlin:20260430T204500
UID:HM33345-20260430T194500@VHSMETZINGEN
SUMMARY:"Fitte Mädels" - Funktionelle Gymnastik für Frauen (HM33345) 
LOCATION:Haus der VHS, Gymnastikraum, Innere Heerstr. 6, 72555 Metzingen
END:VEVENT
BEGIN:VEVENT
DTSTAMP:20260421T024744
DTSTART;TZID=Europe/Berlin:20260507T194500
DTEND;TZID=Europe/Berlin:20260507T204500
UID:HM33345-20260507T194500@VHSMETZINGEN
SUMMARY:"Fitte Mädels" - Funktionelle Gymnastik für Frauen (HM33345) 
LOCATION:Haus der VHS, Gymnastikraum, Innere Heerstr. 6, 72555 Metzingen
END:VEVENT
BEGIN:VEVENT
DTSTAMP:20260421T024744
DTSTART;TZID=Europe/Berlin:20260521T194500
DTEND;TZID=Europe/Berlin:20260521T204500
UID:HM33345-20260521T194500@VHSMETZINGEN
SUMMARY:"Fitte Mädels" - Funktionelle Gymnastik für Frauen (HM33345) 
LOCATION:Haus der VHS, Gymnastikraum, Innere Heerstr. 6, 72555 Metzingen
END:VEVENT
BEGIN:VEVENT
DTSTAMP:20260421T024744
DTSTART;TZID=Europe/Berlin:20260611T194500
DTEND;TZID=Europe/Berlin:20260611T204500
UID:HM33345-20260611T194500@VHSMETZINGEN
SUMMARY:"Fitte Mädels" - Funktionelle Gymnastik für Frauen (HM33345) 
LOCATION:Haus der VHS, Gymnastikraum, Innere Heerstr. 6, 72555 Metzingen
END:VEVENT
BEGIN:VEVENT
DTSTAMP:20260421T024744
DTSTART;TZID=Europe/Berlin:20260618T194500
DTEND;TZID=Europe/Berlin:20260618T204500
UID:HM33345-20260618T194500@VHSMETZINGEN
SUMMARY:"Fitte Mädels" - Funktionelle Gymnastik für Frauen (HM33345) 
LOCATION:Haus der VHS, Gymnastikraum, Innere Heerstr. 6, 72555 Metzingen
END:VEVENT
BEGIN:VEVENT
DTSTAMP:20260421T024744
DTSTART;TZID=Europe/Berlin:20260625T194500
DTEND;TZID=Europe/Berlin:20260625T204500
UID:HM33345-20260625T194500@VHSMETZINGEN
SUMMARY:"Fitte Mädels" - Funktionelle Gymnastik für Frauen (HM33345) 
LOCATION:Haus der VHS, Gymnastikraum, Innere Heerstr. 6, 72555 Metzingen
END:VEVENT
BEGIN:VEVENT
DTSTAMP:20260421T024744
DTSTART;TZID=Europe/Berlin:20260702T194500
DTEND;TZID=Europe/Berlin:20260702T204500
UID:HM33345-20260702T194500@VHSMETZINGEN
SUMMARY:"Fitte Mädels" - Funktionelle Gymnastik für Frauen (HM33345) 
LOCATION:Haus der VHS, Gymnastikraum, Innere Heerstr. 6, 72555 Metzingen
END:VEVENT
BEGIN:VEVENT
DTSTAMP:20260421T024744
DTSTART;TZID=Europe/Berlin:20260709T194500
DTEND;TZID=Europe/Berlin:20260709T204500
UID:HM33345-20260709T194500@VHSMETZINGEN
SUMMARY:"Fitte Mädels" - Funktionelle Gymnastik für Frauen (HM33345) 
LOCATION:Haus der VHS, Gymnastikraum, Innere Heerstr. 6, 72555 Metzingen
END:VEVENT
END:VCALENDAR