BEGIN:VCALENDAR
VERSION:2.0
PRODID:http://www.kufer.de/kuferweb / DE
METHOD:PUBLISH
CALSCALE:GREGORIAN
X-WR-TIMEZONE:Europe/Berlin
BEGIN:VTIMEZONE
TZID:Europe/Berlin
X-LIC-LOCATION:Europe/Berlin
BEGIN:DAYLIGHT
TZOFFSETFROM:+0100
TZOFFSETTO:+0200
TZNAME:CEST
DTSTART;TZID=Europe/Berlin:19700329T020000
RRULE:FREQ=YEARLY;INTERVAL=1;BYDAY=-1SU;BYMONTH=3
END:DAYLIGHT
BEGIN:STANDARD
TZOFFSETFROM:+0200
TZOFFSETTO:+0100
TZNAME:CET
DTSTART;TZID=Europe/Berlin:19701025T030000
RRULE:FREQ=YEARLY;INTERVAL=1;BYDAY=-1SU;BYMONTH=10
END:STANDARD
END:VTIMEZONE
BEGIN:VEVENT
DTSTAMP:20260420T181512
DTSTART;TZID=Europe/Berlin:20260226T123000
DTEND;TZID=Europe/Berlin:20260226T130000
UID:HM33340-20260226T123000@VHSMETZINGEN
SUMMARY:Bewegte Mittagspause (HM33340) 
LOCATION:Haus der VHS, Gymnastikraum, Innere Heerstr. 6, 72555 Metzingen
END:VEVENT
BEGIN:VEVENT
DTSTAMP:20260420T181512
DTSTART;TZID=Europe/Berlin:20260305T123000
DTEND;TZID=Europe/Berlin:20260305T130000
UID:HM33340-20260305T123000@VHSMETZINGEN
SUMMARY:Bewegte Mittagspause (HM33340) 
LOCATION:Haus der VHS, Gymnastikraum, Innere Heerstr. 6, 72555 Metzingen
END:VEVENT
BEGIN:VEVENT
DTSTAMP:20260420T181512
DTSTART;TZID=Europe/Berlin:20260312T123000
DTEND;TZID=Europe/Berlin:20260312T130000
UID:HM33340-20260312T123000@VHSMETZINGEN
SUMMARY:Bewegte Mittagspause (HM33340) 
LOCATION:Haus der VHS, Gymnastikraum, Innere Heerstr. 6, 72555 Metzingen
END:VEVENT
BEGIN:VEVENT
DTSTAMP:20260420T181512
DTSTART;TZID=Europe/Berlin:20260319T123000
DTEND;TZID=Europe/Berlin:20260319T130000
UID:HM33340-20260319T123000@VHSMETZINGEN
SUMMARY:Bewegte Mittagspause (HM33340) 
LOCATION:Haus der VHS, Gymnastikraum, Innere Heerstr. 6, 72555 Metzingen
END:VEVENT
BEGIN:VEVENT
DTSTAMP:20260420T181512
DTSTART;TZID=Europe/Berlin:20260326T123000
DTEND;TZID=Europe/Berlin:20260326T130000
UID:HM33340-20260326T123000@VHSMETZINGEN
SUMMARY:Bewegte Mittagspause (HM33340) 
LOCATION:Haus der VHS, Gymnastikraum, Innere Heerstr. 6, 72555 Metzingen
END:VEVENT
BEGIN:VEVENT
DTSTAMP:20260420T181512
DTSTART;TZID=Europe/Berlin:20260416T123000
DTEND;TZID=Europe/Berlin:20260416T130000
UID:HM33340-20260416T123000@VHSMETZINGEN
SUMMARY:Bewegte Mittagspause (HM33340) 
LOCATION:Haus der VHS, Gymnastikraum, Innere Heerstr. 6, 72555 Metzingen
END:VEVENT
BEGIN:VEVENT
DTSTAMP:20260420T181512
DTSTART;TZID=Europe/Berlin:20260423T123000
DTEND;TZID=Europe/Berlin:20260423T130000
UID:HM33340-20260423T123000@VHSMETZINGEN
SUMMARY:Bewegte Mittagspause (HM33340) 
LOCATION:Haus der VHS, Gymnastikraum, Innere Heerstr. 6, 72555 Metzingen
END:VEVENT
BEGIN:VEVENT
DTSTAMP:20260420T181512
DTSTART;TZID=Europe/Berlin:20260430T123000
DTEND;TZID=Europe/Berlin:20260430T130000
UID:HM33340-20260430T123000@VHSMETZINGEN
SUMMARY:Bewegte Mittagspause (HM33340) 
LOCATION:Haus der VHS, Gymnastikraum, Innere Heerstr. 6, 72555 Metzingen
END:VEVENT
BEGIN:VEVENT
DTSTAMP:20260420T181512
DTSTART;TZID=Europe/Berlin:20260507T123000
DTEND;TZID=Europe/Berlin:20260507T130000
UID:HM33340-20260507T123000@VHSMETZINGEN
SUMMARY:Bewegte Mittagspause (HM33340) 
LOCATION:Haus der VHS, Gymnastikraum, Innere Heerstr. 6, 72555 Metzingen
END:VEVENT
BEGIN:VEVENT
DTSTAMP:20260420T181512
DTSTART;TZID=Europe/Berlin:20260521T123000
DTEND;TZID=Europe/Berlin:20260521T130000
UID:HM33340-20260521T123000@VHSMETZINGEN
SUMMARY:Bewegte Mittagspause (HM33340) 
LOCATION:Haus der VHS, Gymnastikraum, Innere Heerstr. 6, 72555 Metzingen
END:VEVENT
BEGIN:VEVENT
DTSTAMP:20260420T181512
DTSTART;TZID=Europe/Berlin:20260611T123000
DTEND;TZID=Europe/Berlin:20260611T130000
UID:HM33340-20260611T123000@VHSMETZINGEN
SUMMARY:Bewegte Mittagspause (HM33340) 
LOCATION:Haus der VHS, Gymnastikraum, Innere Heerstr. 6, 72555 Metzingen
END:VEVENT
BEGIN:VEVENT
DTSTAMP:20260420T181512
DTSTART;TZID=Europe/Berlin:20260618T123000
DTEND;TZID=Europe/Berlin:20260618T130000
UID:HM33340-20260618T123000@VHSMETZINGEN
SUMMARY:Bewegte Mittagspause (HM33340) 
LOCATION:Haus der VHS, Gymnastikraum, Innere Heerstr. 6, 72555 Metzingen
END:VEVENT
BEGIN:VEVENT
DTSTAMP:20260420T181512
DTSTART;TZID=Europe/Berlin:20260625T123000
DTEND;TZID=Europe/Berlin:20260625T130000
UID:HM33340-20260625T123000@VHSMETZINGEN
SUMMARY:Bewegte Mittagspause (HM33340) 
LOCATION:Haus der VHS, Gymnastikraum, Innere Heerstr. 6, 72555 Metzingen
END:VEVENT
BEGIN:VEVENT
DTSTAMP:20260420T181512
DTSTART;TZID=Europe/Berlin:20260702T123000
DTEND;TZID=Europe/Berlin:20260702T130000
UID:HM33340-20260702T123000@VHSMETZINGEN
SUMMARY:Bewegte Mittagspause (HM33340) 
LOCATION:Haus der VHS, Gymnastikraum, Innere Heerstr. 6, 72555 Metzingen
END:VEVENT
END:VCALENDAR