BEGIN:VCALENDAR
VERSION:2.0
PRODID:http://www.kufer.de/kuferweb / DE
METHOD:PUBLISH
CALSCALE:GREGORIAN
X-WR-TIMEZONE:Europe/Berlin
BEGIN:VTIMEZONE
TZID:Europe/Berlin
X-LIC-LOCATION:Europe/Berlin
BEGIN:DAYLIGHT
TZOFFSETFROM:+0100
TZOFFSETTO:+0200
TZNAME:CEST
DTSTART;TZID=Europe/Berlin:19700329T020000
RRULE:FREQ=YEARLY;INTERVAL=1;BYDAY=-1SU;BYMONTH=3
END:DAYLIGHT
BEGIN:STANDARD
TZOFFSETFROM:+0200
TZOFFSETTO:+0100
TZNAME:CET
DTSTART;TZID=Europe/Berlin:19701025T030000
RRULE:FREQ=YEARLY;INTERVAL=1;BYDAY=-1SU;BYMONTH=10
END:STANDARD
END:VTIMEZONE
BEGIN:VEVENT
DTSTAMP:20260419T175554
DTSTART;TZID=Europe/Berlin:20260223T161500
DTEND;TZID=Europe/Berlin:20260223T171500
UID:HM31481-20260223T161500@VHSMETZINGEN
SUMMARY:Yoga am Nachmittag (HM31481) 
LOCATION:Haus der VHS, Gymnastikraum, Innere Heerstr. 6, 72555 Metzingen
END:VEVENT
BEGIN:VEVENT
DTSTAMP:20260419T175554
DTSTART;TZID=Europe/Berlin:20260302T161500
DTEND;TZID=Europe/Berlin:20260302T171500
UID:HM31481-20260302T161500@VHSMETZINGEN
SUMMARY:Yoga am Nachmittag (HM31481) 
LOCATION:Haus der VHS, Gymnastikraum, Innere Heerstr. 6, 72555 Metzingen
END:VEVENT
BEGIN:VEVENT
DTSTAMP:20260419T175554
DTSTART;TZID=Europe/Berlin:20260309T161500
DTEND;TZID=Europe/Berlin:20260309T171500
UID:HM31481-20260309T161500@VHSMETZINGEN
SUMMARY:Yoga am Nachmittag (HM31481) 
LOCATION:Haus der VHS, Gymnastikraum, Innere Heerstr. 6, 72555 Metzingen
END:VEVENT
BEGIN:VEVENT
DTSTAMP:20260419T175554
DTSTART;TZID=Europe/Berlin:20260316T161500
DTEND;TZID=Europe/Berlin:20260316T171500
UID:HM31481-20260316T161500@VHSMETZINGEN
SUMMARY:Yoga am Nachmittag (HM31481) 
LOCATION:Haus der VHS, Gymnastikraum, Innere Heerstr. 6, 72555 Metzingen
END:VEVENT
BEGIN:VEVENT
DTSTAMP:20260419T175554
DTSTART;TZID=Europe/Berlin:20260420T161500
DTEND;TZID=Europe/Berlin:20260420T171500
UID:HM31481-20260420T161500@VHSMETZINGEN
SUMMARY:Yoga am Nachmittag (HM31481) 
LOCATION:Haus der VHS, Gymnastikraum, Innere Heerstr. 6, 72555 Metzingen
END:VEVENT
BEGIN:VEVENT
DTSTAMP:20260419T175554
DTSTART;TZID=Europe/Berlin:20260427T161500
DTEND;TZID=Europe/Berlin:20260427T171500
UID:HM31481-20260427T161500@VHSMETZINGEN
SUMMARY:Yoga am Nachmittag (HM31481) 
LOCATION:Haus der VHS, Gymnastikraum, Innere Heerstr. 6, 72555 Metzingen
END:VEVENT
BEGIN:VEVENT
DTSTAMP:20260419T175554
DTSTART;TZID=Europe/Berlin:20260504T161500
DTEND;TZID=Europe/Berlin:20260504T171500
UID:HM31481-20260504T161500@VHSMETZINGEN
SUMMARY:Yoga am Nachmittag (HM31481) 
LOCATION:Haus der VHS, Gymnastikraum, Innere Heerstr. 6, 72555 Metzingen
END:VEVENT
BEGIN:VEVENT
DTSTAMP:20260419T175554
DTSTART;TZID=Europe/Berlin:20260511T161500
DTEND;TZID=Europe/Berlin:20260511T171500
UID:HM31481-20260511T161500@VHSMETZINGEN
SUMMARY:Yoga am Nachmittag (HM31481) 
LOCATION:Haus der VHS, Gymnastikraum, Innere Heerstr. 6, 72555 Metzingen
END:VEVENT
BEGIN:VEVENT
DTSTAMP:20260419T175554
DTSTART;TZID=Europe/Berlin:20260615T161500
DTEND;TZID=Europe/Berlin:20260615T171500
UID:HM31481-20260615T161500@VHSMETZINGEN
DESCRIPTION:Ersatz für Ausfall am 23.03.2026
Ersatz für Ausfall am 18.05.2026
SUMMARY:Yoga am Nachmittag (HM31481) 
LOCATION:Haus der VHS, Gymnastikraum, Innere Heerstr. 6, 72555 Metzingen
END:VEVENT
BEGIN:VEVENT
DTSTAMP:20260419T175554
DTSTART;TZID=Europe/Berlin:20260622T161500
DTEND;TZID=Europe/Berlin:20260622T171500
UID:HM31481-20260622T161500@VHSMETZINGEN
DESCRIPTION:Ersatz für Ausfall am 13.04.2026
Ersatz für Ausfall am 08.06.2026
SUMMARY:Yoga am Nachmittag (HM31481) 
LOCATION:Haus der VHS, Gymnastikraum, Innere Heerstr. 6, 72555 Metzingen
END:VEVENT
END:VCALENDAR