BEGIN:VCALENDAR
VERSION:2.0
PRODID:http://www.kufer.de/kuferweb / DE
METHOD:PUBLISH
CALSCALE:GREGORIAN
X-WR-TIMEZONE:Europe/Berlin
BEGIN:VTIMEZONE
TZID:Europe/Berlin
X-LIC-LOCATION:Europe/Berlin
BEGIN:DAYLIGHT
TZOFFSETFROM:+0100
TZOFFSETTO:+0200
TZNAME:CEST
DTSTART;TZID=Europe/Berlin:19700329T020000
RRULE:FREQ=YEARLY;INTERVAL=1;BYDAY=-1SU;BYMONTH=3
END:DAYLIGHT
BEGIN:STANDARD
TZOFFSETFROM:+0200
TZOFFSETTO:+0100
TZNAME:CET
DTSTART;TZID=Europe/Berlin:19701025T030000
RRULE:FREQ=YEARLY;INTERVAL=1;BYDAY=-1SU;BYMONTH=10
END:STANDARD
END:VTIMEZONE
BEGIN:VEVENT
DTSTAMP:20260420T181511
DTSTART;TZID=Europe/Berlin:20260226T194500
DTEND;TZID=Europe/Berlin:20260226T210000
UID:HM31417-20260226T194500@VHSMETZINGEN
SUMMARY:Hatha Yoga Relax (HM31417) 
LOCATION:Haus der VHS, Raum Atelier, Innere Heerstr. 6, 72555 Metzingen
END:VEVENT
BEGIN:VEVENT
DTSTAMP:20260420T181511
DTSTART;TZID=Europe/Berlin:20260305T194500
DTEND;TZID=Europe/Berlin:20260305T210000
UID:HM31417-20260305T194500@VHSMETZINGEN
SUMMARY:Hatha Yoga Relax (HM31417) 
LOCATION:Haus der VHS, Raum Atelier, Innere Heerstr. 6, 72555 Metzingen
END:VEVENT
BEGIN:VEVENT
DTSTAMP:20260420T181511
DTSTART;TZID=Europe/Berlin:20260312T194500
DTEND;TZID=Europe/Berlin:20260312T210000
UID:HM31417-20260312T194500@VHSMETZINGEN
SUMMARY:Hatha Yoga Relax (HM31417) 
LOCATION:Haus der VHS, Raum Atelier, Innere Heerstr. 6, 72555 Metzingen
END:VEVENT
BEGIN:VEVENT
DTSTAMP:20260420T181511
DTSTART;TZID=Europe/Berlin:20260319T194500
DTEND;TZID=Europe/Berlin:20260319T210000
UID:HM31417-20260319T194500@VHSMETZINGEN
SUMMARY:Hatha Yoga Relax (HM31417) 
LOCATION:Haus der VHS, Raum Atelier, Innere Heerstr. 6, 72555 Metzingen
END:VEVENT
BEGIN:VEVENT
DTSTAMP:20260420T181511
DTSTART;TZID=Europe/Berlin:20260326T194500
DTEND;TZID=Europe/Berlin:20260326T210000
UID:HM31417-20260326T194500@VHSMETZINGEN
SUMMARY:Hatha Yoga Relax (HM31417) 
LOCATION:Haus der VHS, Raum Atelier, Innere Heerstr. 6, 72555 Metzingen
END:VEVENT
BEGIN:VEVENT
DTSTAMP:20260420T181511
DTSTART;TZID=Europe/Berlin:20260416T194500
DTEND;TZID=Europe/Berlin:20260416T210000
UID:HM31417-20260416T194500@VHSMETZINGEN
SUMMARY:Hatha Yoga Relax (HM31417) 
LOCATION:Haus der VHS, Raum Atelier, Innere Heerstr. 6, 72555 Metzingen
END:VEVENT
BEGIN:VEVENT
DTSTAMP:20260420T181511
DTSTART;TZID=Europe/Berlin:20260423T194500
DTEND;TZID=Europe/Berlin:20260423T210000
UID:HM31417-20260423T194500@VHSMETZINGEN
SUMMARY:Hatha Yoga Relax (HM31417) 
LOCATION:Haus der VHS, Raum Atelier, Innere Heerstr. 6, 72555 Metzingen
END:VEVENT
BEGIN:VEVENT
DTSTAMP:20260420T181511
DTSTART;TZID=Europe/Berlin:20260430T194500
DTEND;TZID=Europe/Berlin:20260430T210000
UID:HM31417-20260430T194500@VHSMETZINGEN
SUMMARY:Hatha Yoga Relax (HM31417) 
LOCATION:Haus der VHS, Raum Atelier, Innere Heerstr. 6, 72555 Metzingen
END:VEVENT
BEGIN:VEVENT
DTSTAMP:20260420T181511
DTSTART;TZID=Europe/Berlin:20260507T194500
DTEND;TZID=Europe/Berlin:20260507T210000
UID:HM31417-20260507T194500@VHSMETZINGEN
SUMMARY:Hatha Yoga Relax (HM31417) 
LOCATION:Haus der VHS, Raum Atelier, Innere Heerstr. 6, 72555 Metzingen
END:VEVENT
BEGIN:VEVENT
DTSTAMP:20260420T181511
DTSTART;TZID=Europe/Berlin:20260521T194500
DTEND;TZID=Europe/Berlin:20260521T210000
UID:HM31417-20260521T194500@VHSMETZINGEN
SUMMARY:Hatha Yoga Relax (HM31417) 
LOCATION:Haus der VHS, Raum Atelier, Innere Heerstr. 6, 72555 Metzingen
END:VEVENT
BEGIN:VEVENT
DTSTAMP:20260420T181511
DTSTART;TZID=Europe/Berlin:20260611T194500
DTEND;TZID=Europe/Berlin:20260611T210000
UID:HM31417-20260611T194500@VHSMETZINGEN
SUMMARY:Hatha Yoga Relax (HM31417) 
LOCATION:Haus der VHS, Raum Atelier, Innere Heerstr. 6, 72555 Metzingen
END:VEVENT
BEGIN:VEVENT
DTSTAMP:20260420T181511
DTSTART;TZID=Europe/Berlin:20260618T194500
DTEND;TZID=Europe/Berlin:20260618T210000
UID:HM31417-20260618T194500@VHSMETZINGEN
SUMMARY:Hatha Yoga Relax (HM31417) 
LOCATION:Haus der VHS, Raum Atelier, Innere Heerstr. 6, 72555 Metzingen
END:VEVENT
BEGIN:VEVENT
DTSTAMP:20260420T181511
DTSTART;TZID=Europe/Berlin:20260625T194500
DTEND;TZID=Europe/Berlin:20260625T210000
UID:HM31417-20260625T194500@VHSMETZINGEN
SUMMARY:Hatha Yoga Relax (HM31417) 
LOCATION:Haus der VHS, Raum Atelier, Innere Heerstr. 6, 72555 Metzingen
END:VEVENT
BEGIN:VEVENT
DTSTAMP:20260420T181511
DTSTART;TZID=Europe/Berlin:20260702T194500
DTEND;TZID=Europe/Berlin:20260702T210000
UID:HM31417-20260702T194500@VHSMETZINGEN
SUMMARY:Hatha Yoga Relax (HM31417) 
LOCATION:Haus der VHS, Raum Atelier, Innere Heerstr. 6, 72555 Metzingen
END:VEVENT
BEGIN:VEVENT
DTSTAMP:20260420T181511
DTSTART;TZID=Europe/Berlin:20260709T194500
DTEND;TZID=Europe/Berlin:20260709T210000
UID:HM31417-20260709T194500@VHSMETZINGEN
SUMMARY:Hatha Yoga Relax (HM31417) 
LOCATION:Haus der VHS, Raum Atelier, Innere Heerstr. 6, 72555 Metzingen
END:VEVENT
BEGIN:VEVENT
DTSTAMP:20260420T181511
DTSTART;TZID=Europe/Berlin:20260716T194500
DTEND;TZID=Europe/Berlin:20260716T210000
UID:HM31417-20260716T194500@VHSMETZINGEN
SUMMARY:Hatha Yoga Relax (HM31417) 
LOCATION:Haus der VHS, Raum Atelier, Innere Heerstr. 6, 72555 Metzingen
END:VEVENT
END:VCALENDAR