BEGIN:VCALENDAR
VERSION:2.0
PRODID:http://www.kufer.de/kuferweb / DE
METHOD:PUBLISH
CALSCALE:GREGORIAN
X-WR-TIMEZONE:Europe/Berlin
BEGIN:VTIMEZONE
TZID:Europe/Berlin
X-LIC-LOCATION:Europe/Berlin
BEGIN:DAYLIGHT
TZOFFSETFROM:+0100
TZOFFSETTO:+0200
TZNAME:CEST
DTSTART;TZID=Europe/Berlin:19700329T020000
RRULE:FREQ=YEARLY;INTERVAL=1;BYDAY=-1SU;BYMONTH=3
END:DAYLIGHT
BEGIN:STANDARD
TZOFFSETFROM:+0200
TZOFFSETTO:+0100
TZNAME:CET
DTSTART;TZID=Europe/Berlin:19701025T030000
RRULE:FREQ=YEARLY;INTERVAL=1;BYDAY=-1SU;BYMONTH=10
END:STANDARD
END:VTIMEZONE
BEGIN:VEVENT
DTSTAMP:20260420T152512
DTSTART;TZID=Europe/Berlin:20260226T181500
DTEND;TZID=Europe/Berlin:20260226T193000
UID:HM31412-20260226T181500@VHSMETZINGEN
SUMMARY:Yoga für Anfänger/innen und Fortgeschrittene (HM31412) 
LOCATION:Haus der VHS, Gymnastikraum, Innere Heerstr. 6, 72555 Metzingen
END:VEVENT
BEGIN:VEVENT
DTSTAMP:20260420T152512
DTSTART;TZID=Europe/Berlin:20260305T181500
DTEND;TZID=Europe/Berlin:20260305T193000
UID:HM31412-20260305T181500@VHSMETZINGEN
SUMMARY:Yoga für Anfänger/innen und Fortgeschrittene (HM31412) 
LOCATION:Haus der VHS, Gymnastikraum, Innere Heerstr. 6, 72555 Metzingen
END:VEVENT
BEGIN:VEVENT
DTSTAMP:20260420T152512
DTSTART;TZID=Europe/Berlin:20260312T181500
DTEND;TZID=Europe/Berlin:20260312T193000
UID:HM31412-20260312T181500@VHSMETZINGEN
SUMMARY:Yoga für Anfänger/innen und Fortgeschrittene (HM31412) 
LOCATION:Haus der VHS, Gymnastikraum, Innere Heerstr. 6, 72555 Metzingen
END:VEVENT
BEGIN:VEVENT
DTSTAMP:20260420T152512
DTSTART;TZID=Europe/Berlin:20260319T181500
DTEND;TZID=Europe/Berlin:20260319T193000
UID:HM31412-20260319T181500@VHSMETZINGEN
SUMMARY:Yoga für Anfänger/innen und Fortgeschrittene (HM31412) 
LOCATION:Haus der VHS, Gymnastikraum, Innere Heerstr. 6, 72555 Metzingen
END:VEVENT
BEGIN:VEVENT
DTSTAMP:20260420T152512
DTSTART;TZID=Europe/Berlin:20260416T181500
DTEND;TZID=Europe/Berlin:20260416T193000
UID:HM31412-20260416T181500@VHSMETZINGEN
SUMMARY:Yoga für Anfänger/innen und Fortgeschrittene (HM31412) 
LOCATION:Haus der VHS, Gymnastikraum, Innere Heerstr. 6, 72555 Metzingen
END:VEVENT
BEGIN:VEVENT
DTSTAMP:20260420T152512
DTSTART;TZID=Europe/Berlin:20260423T181500
DTEND;TZID=Europe/Berlin:20260423T193000
UID:HM31412-20260423T181500@VHSMETZINGEN
SUMMARY:Yoga für Anfänger/innen und Fortgeschrittene (HM31412) 
LOCATION:Haus der VHS, Gymnastikraum, Innere Heerstr. 6, 72555 Metzingen
END:VEVENT
BEGIN:VEVENT
DTSTAMP:20260420T152512
DTSTART;TZID=Europe/Berlin:20260430T181500
DTEND;TZID=Europe/Berlin:20260430T193000
UID:HM31412-20260430T181500@VHSMETZINGEN
SUMMARY:Yoga für Anfänger/innen und Fortgeschrittene (HM31412) 
LOCATION:Haus der VHS, Gymnastikraum, Innere Heerstr. 6, 72555 Metzingen
END:VEVENT
BEGIN:VEVENT
DTSTAMP:20260420T152512
DTSTART;TZID=Europe/Berlin:20260507T181500
DTEND;TZID=Europe/Berlin:20260507T193000
UID:HM31412-20260507T181500@VHSMETZINGEN
SUMMARY:Yoga für Anfänger/innen und Fortgeschrittene (HM31412) 
LOCATION:Haus der VHS, Gymnastikraum, Innere Heerstr. 6, 72555 Metzingen
END:VEVENT
BEGIN:VEVENT
DTSTAMP:20260420T152512
DTSTART;TZID=Europe/Berlin:20260625T181500
DTEND;TZID=Europe/Berlin:20260625T193000
UID:HM31412-20260625T181500@VHSMETZINGEN
SUMMARY:Yoga für Anfänger/innen und Fortgeschrittene (HM31412) 
LOCATION:Haus der VHS, Gymnastikraum, Innere Heerstr. 6, 72555 Metzingen
END:VEVENT
BEGIN:VEVENT
DTSTAMP:20260420T152512
DTSTART;TZID=Europe/Berlin:20260702T181500
DTEND;TZID=Europe/Berlin:20260702T193000
UID:HM31412-20260702T181500@VHSMETZINGEN
SUMMARY:Yoga für Anfänger/innen und Fortgeschrittene (HM31412) 
LOCATION:Haus der VHS, Gymnastikraum, Innere Heerstr. 6, 72555 Metzingen
END:VEVENT
BEGIN:VEVENT
DTSTAMP:20260420T152512
DTSTART;TZID=Europe/Berlin:20260709T181500
DTEND;TZID=Europe/Berlin:20260709T193000
UID:HM31412-20260709T181500@VHSMETZINGEN
DESCRIPTION:Ersatz für Ausfall am 21.05.2026
SUMMARY:Yoga für Anfänger/innen und Fortgeschrittene (HM31412) 
LOCATION:Haus der VHS, Gymnastikraum, Innere Heerstr. 6, 72555 Metzingen
END:VEVENT
BEGIN:VEVENT
DTSTAMP:20260420T152512
DTSTART;TZID=Europe/Berlin:20260716T181500
DTEND;TZID=Europe/Berlin:20260716T193000
UID:HM31412-20260716T181500@VHSMETZINGEN
DESCRIPTION:Ersatz für Ausfall am 11.06.2026
SUMMARY:Yoga für Anfänger/innen und Fortgeschrittene (HM31412) 
LOCATION:Haus der VHS, Gymnastikraum, Innere Heerstr. 6, 72555 Metzingen
END:VEVENT
BEGIN:VEVENT
DTSTAMP:20260420T152512
DTSTART;TZID=Europe/Berlin:20260723T181500
DTEND;TZID=Europe/Berlin:20260723T193000
UID:HM31412-20260723T181500@VHSMETZINGEN
DESCRIPTION:Ersatz für Ausfall am 18.06.2026
SUMMARY:Yoga für Anfänger/innen und Fortgeschrittene (HM31412) 
LOCATION:Haus der VHS, Gymnastikraum, Innere Heerstr. 6, 72555 Metzingen
END:VEVENT
END:VCALENDAR