BEGIN:VCALENDAR
VERSION:2.0
PRODID:http://www.kufer.de/kuferweb / DE
METHOD:PUBLISH
CALSCALE:GREGORIAN
X-WR-TIMEZONE:Europe/Berlin
BEGIN:VTIMEZONE
TZID:Europe/Berlin
X-LIC-LOCATION:Europe/Berlin
BEGIN:DAYLIGHT
TZOFFSETFROM:+0100
TZOFFSETTO:+0200
TZNAME:CEST
DTSTART;TZID=Europe/Berlin:19700329T020000
RRULE:FREQ=YEARLY;INTERVAL=1;BYDAY=-1SU;BYMONTH=3
END:DAYLIGHT
BEGIN:STANDARD
TZOFFSETFROM:+0200
TZOFFSETTO:+0100
TZNAME:CET
DTSTART;TZID=Europe/Berlin:19701025T030000
RRULE:FREQ=YEARLY;INTERVAL=1;BYDAY=-1SU;BYMONTH=10
END:STANDARD
END:VTIMEZONE
BEGIN:VEVENT
DTSTAMP:20260420T150512
DTSTART;TZID=Europe/Berlin:20260224T180000
DTEND;TZID=Europe/Berlin:20260224T190000
UID:HM31409-20260224T180000@VHSMETZINGEN
SUMMARY:Yoga für Anfänger/innen und Fortgeschrittene (HM31409) 
LOCATION:Haus der VHS, Gymnastikraum, Innere Heerstr. 6, 72555 Metzingen
END:VEVENT
BEGIN:VEVENT
DTSTAMP:20260420T150512
DTSTART;TZID=Europe/Berlin:20260303T180000
DTEND;TZID=Europe/Berlin:20260303T190000
UID:HM31409-20260303T180000@VHSMETZINGEN
SUMMARY:Yoga für Anfänger/innen und Fortgeschrittene (HM31409) 
LOCATION:Haus der VHS, Gymnastikraum, Innere Heerstr. 6, 72555 Metzingen
END:VEVENT
BEGIN:VEVENT
DTSTAMP:20260420T150512
DTSTART;TZID=Europe/Berlin:20260310T180000
DTEND;TZID=Europe/Berlin:20260310T190000
UID:HM31409-20260310T180000@VHSMETZINGEN
SUMMARY:Yoga für Anfänger/innen und Fortgeschrittene (HM31409) 
LOCATION:Haus der VHS, Gymnastikraum, Innere Heerstr. 6, 72555 Metzingen
END:VEVENT
BEGIN:VEVENT
DTSTAMP:20260420T150512
DTSTART;TZID=Europe/Berlin:20260317T180000
DTEND;TZID=Europe/Berlin:20260317T190000
UID:HM31409-20260317T180000@VHSMETZINGEN
SUMMARY:Yoga für Anfänger/innen und Fortgeschrittene (HM31409) 
LOCATION:Haus der VHS, Gymnastikraum, Innere Heerstr. 6, 72555 Metzingen
END:VEVENT
BEGIN:VEVENT
DTSTAMP:20260420T150512
DTSTART;TZID=Europe/Berlin:20260324T180000
DTEND;TZID=Europe/Berlin:20260324T190000
UID:HM31409-20260324T180000@VHSMETZINGEN
SUMMARY:Yoga für Anfänger/innen und Fortgeschrittene (HM31409) 
LOCATION:Haus der VHS, Gymnastikraum, Innere Heerstr. 6, 72555 Metzingen
END:VEVENT
BEGIN:VEVENT
DTSTAMP:20260420T150512
DTSTART;TZID=Europe/Berlin:20260414T180000
DTEND;TZID=Europe/Berlin:20260414T190000
UID:HM31409-20260414T180000@VHSMETZINGEN
SUMMARY:Yoga für Anfänger/innen und Fortgeschrittene (HM31409) 
LOCATION:Haus der VHS, Gymnastikraum, Innere Heerstr. 6, 72555 Metzingen
END:VEVENT
BEGIN:VEVENT
DTSTAMP:20260420T150512
DTSTART;TZID=Europe/Berlin:20260421T180000
DTEND;TZID=Europe/Berlin:20260421T190000
UID:HM31409-20260421T180000@VHSMETZINGEN
SUMMARY:Yoga für Anfänger/innen und Fortgeschrittene (HM31409) 
LOCATION:Haus der VHS, Gymnastikraum, Innere Heerstr. 6, 72555 Metzingen
END:VEVENT
BEGIN:VEVENT
DTSTAMP:20260420T150512
DTSTART;TZID=Europe/Berlin:20260428T180000
DTEND;TZID=Europe/Berlin:20260428T190000
UID:HM31409-20260428T180000@VHSMETZINGEN
SUMMARY:Yoga für Anfänger/innen und Fortgeschrittene (HM31409) 
LOCATION:Haus der VHS, Gymnastikraum, Innere Heerstr. 6, 72555 Metzingen
END:VEVENT
BEGIN:VEVENT
DTSTAMP:20260420T150512
DTSTART;TZID=Europe/Berlin:20260505T180000
DTEND;TZID=Europe/Berlin:20260505T190000
UID:HM31409-20260505T180000@VHSMETZINGEN
SUMMARY:Yoga für Anfänger/innen und Fortgeschrittene (HM31409) 
LOCATION:Haus der VHS, Gymnastikraum, Innere Heerstr. 6, 72555 Metzingen
END:VEVENT
BEGIN:VEVENT
DTSTAMP:20260420T150512
DTSTART;TZID=Europe/Berlin:20260512T180000
DTEND;TZID=Europe/Berlin:20260512T190000
UID:HM31409-20260512T180000@VHSMETZINGEN
SUMMARY:Yoga für Anfänger/innen und Fortgeschrittene (HM31409) 
LOCATION:Haus der VHS, Gymnastikraum, Innere Heerstr. 6, 72555 Metzingen
END:VEVENT
BEGIN:VEVENT
DTSTAMP:20260420T150512
DTSTART;TZID=Europe/Berlin:20260623T180000
DTEND;TZID=Europe/Berlin:20260623T190000
UID:HM31409-20260623T180000@VHSMETZINGEN
SUMMARY:Yoga für Anfänger/innen und Fortgeschrittene (HM31409) 
LOCATION:Haus der VHS, Gymnastikraum, Innere Heerstr. 6, 72555 Metzingen
END:VEVENT
BEGIN:VEVENT
DTSTAMP:20260420T150512
DTSTART;TZID=Europe/Berlin:20260630T180000
DTEND;TZID=Europe/Berlin:20260630T190000
UID:HM31409-20260630T180000@VHSMETZINGEN
SUMMARY:Yoga für Anfänger/innen und Fortgeschrittene (HM31409) 
LOCATION:Haus der VHS, Gymnastikraum, Innere Heerstr. 6, 72555 Metzingen
END:VEVENT
BEGIN:VEVENT
DTSTAMP:20260420T150512
DTSTART;TZID=Europe/Berlin:20260707T180000
DTEND;TZID=Europe/Berlin:20260707T190000
UID:HM31409-20260707T180000@VHSMETZINGEN
DESCRIPTION:Ersatz für Ausfall am 14.04.2026
SUMMARY:Yoga für Anfänger/innen und Fortgeschrittene (HM31409) 
LOCATION:Haus der VHS, Gymnastikraum, Innere Heerstr. 6, 72555 Metzingen
END:VEVENT
BEGIN:VEVENT
DTSTAMP:20260420T150512
DTSTART;TZID=Europe/Berlin:20260714T180000
DTEND;TZID=Europe/Berlin:20260714T190000
UID:HM31409-20260714T180000@VHSMETZINGEN
DESCRIPTION:Ersatz für Ausfall am 19.05.2026
SUMMARY:Yoga für Anfänger/innen und Fortgeschrittene (HM31409) 
LOCATION:Haus der VHS, Gymnastikraum, Innere Heerstr. 6, 72555 Metzingen
END:VEVENT
BEGIN:VEVENT
DTSTAMP:20260420T150512
DTSTART;TZID=Europe/Berlin:20260721T180000
DTEND;TZID=Europe/Berlin:20260721T190000
UID:HM31409-20260721T180000@VHSMETZINGEN
DESCRIPTION:Ersatz für Ausfall am 09.06.2026
SUMMARY:Yoga für Anfänger/innen und Fortgeschrittene (HM31409) 
LOCATION:Haus der VHS, Gymnastikraum, Innere Heerstr. 6, 72555 Metzingen
END:VEVENT
END:VCALENDAR