BEGIN:VCALENDAR
VERSION:2.0
PRODID:http://www.kufer.de/kuferweb / DE
METHOD:PUBLISH
CALSCALE:GREGORIAN
X-WR-TIMEZONE:Europe/Berlin
BEGIN:VTIMEZONE
TZID:Europe/Berlin
X-LIC-LOCATION:Europe/Berlin
BEGIN:DAYLIGHT
TZOFFSETFROM:+0100
TZOFFSETTO:+0200
TZNAME:CEST
DTSTART;TZID=Europe/Berlin:19700329T020000
RRULE:FREQ=YEARLY;INTERVAL=1;BYDAY=-1SU;BYMONTH=3
END:DAYLIGHT
BEGIN:STANDARD
TZOFFSETFROM:+0200
TZOFFSETTO:+0100
TZNAME:CET
DTSTART;TZID=Europe/Berlin:19701025T030000
RRULE:FREQ=YEARLY;INTERVAL=1;BYDAY=-1SU;BYMONTH=10
END:STANDARD
END:VTIMEZONE
BEGIN:VEVENT
DTSTAMP:20260420T181511
DTSTART;TZID=Europe/Berlin:20260227T070000
DTEND;TZID=Europe/Berlin:20260227T080000
UID:HM31404-20260227T070000@VHSMETZINGEN
SUMMARY:Yoga für Frühaufsteher/innen (HM31404) 
LOCATION:Haus der VHS, Gymnastikraum, Innere Heerstr. 6, 72555 Metzingen
END:VEVENT
BEGIN:VEVENT
DTSTAMP:20260420T181511
DTSTART;TZID=Europe/Berlin:20260306T070000
DTEND;TZID=Europe/Berlin:20260306T080000
UID:HM31404-20260306T070000@VHSMETZINGEN
SUMMARY:Yoga für Frühaufsteher/innen (HM31404) 
LOCATION:Haus der VHS, Gymnastikraum, Innere Heerstr. 6, 72555 Metzingen
END:VEVENT
BEGIN:VEVENT
DTSTAMP:20260420T181511
DTSTART;TZID=Europe/Berlin:20260313T070000
DTEND;TZID=Europe/Berlin:20260313T080000
UID:HM31404-20260313T070000@VHSMETZINGEN
SUMMARY:Yoga für Frühaufsteher/innen (HM31404) 
LOCATION:Haus der VHS, Gymnastikraum, Innere Heerstr. 6, 72555 Metzingen
END:VEVENT
BEGIN:VEVENT
DTSTAMP:20260420T181511
DTSTART;TZID=Europe/Berlin:20260320T070000
DTEND;TZID=Europe/Berlin:20260320T080000
UID:HM31404-20260320T070000@VHSMETZINGEN
SUMMARY:Yoga für Frühaufsteher/innen (HM31404) 
LOCATION:Haus der VHS, Gymnastikraum, Innere Heerstr. 6, 72555 Metzingen
END:VEVENT
BEGIN:VEVENT
DTSTAMP:20260420T181511
DTSTART;TZID=Europe/Berlin:20260327T070000
DTEND;TZID=Europe/Berlin:20260327T080000
UID:HM31404-20260327T070000@VHSMETZINGEN
SUMMARY:Yoga für Frühaufsteher/innen (HM31404) 
LOCATION:Haus der VHS, Gymnastikraum, Innere Heerstr. 6, 72555 Metzingen
END:VEVENT
BEGIN:VEVENT
DTSTAMP:20260420T181511
DTSTART;TZID=Europe/Berlin:20260417T070000
DTEND;TZID=Europe/Berlin:20260417T080000
UID:HM31404-20260417T070000@VHSMETZINGEN
SUMMARY:Yoga für Frühaufsteher/innen (HM31404) 
LOCATION:Haus der VHS, Gymnastikraum, Innere Heerstr. 6, 72555 Metzingen
END:VEVENT
BEGIN:VEVENT
DTSTAMP:20260420T181511
DTSTART;TZID=Europe/Berlin:20260424T070000
DTEND;TZID=Europe/Berlin:20260424T080000
UID:HM31404-20260424T070000@VHSMETZINGEN
SUMMARY:Yoga für Frühaufsteher/innen (HM31404) 
LOCATION:Haus der VHS, Gymnastikraum, Innere Heerstr. 6, 72555 Metzingen
END:VEVENT
BEGIN:VEVENT
DTSTAMP:20260420T181511
DTSTART;TZID=Europe/Berlin:20260508T070000
DTEND;TZID=Europe/Berlin:20260508T080000
UID:HM31404-20260508T070000@VHSMETZINGEN
SUMMARY:Yoga für Frühaufsteher/innen (HM31404) 
LOCATION:Haus der VHS, Gymnastikraum, Innere Heerstr. 6, 72555 Metzingen
END:VEVENT
BEGIN:VEVENT
DTSTAMP:20260420T181511
DTSTART;TZID=Europe/Berlin:20260522T070000
DTEND;TZID=Europe/Berlin:20260522T080000
UID:HM31404-20260522T070000@VHSMETZINGEN
SUMMARY:Yoga für Frühaufsteher/innen (HM31404) 
LOCATION:Haus der VHS, Gymnastikraum, Innere Heerstr. 6, 72555 Metzingen
END:VEVENT
BEGIN:VEVENT
DTSTAMP:20260420T181511
DTSTART;TZID=Europe/Berlin:20260612T070000
DTEND;TZID=Europe/Berlin:20260612T080000
UID:HM31404-20260612T070000@VHSMETZINGEN
SUMMARY:Yoga für Frühaufsteher/innen (HM31404) 
LOCATION:Haus der VHS, Gymnastikraum, Innere Heerstr. 6, 72555 Metzingen
END:VEVENT
END:VCALENDAR