BEGIN:VCALENDAR
VERSION:2.0
PRODID:http://www.kufer.de/kuferweb / DE
METHOD:PUBLISH
CALSCALE:GREGORIAN
X-WR-TIMEZONE:Europe/Berlin
BEGIN:VTIMEZONE
TZID:Europe/Berlin
X-LIC-LOCATION:Europe/Berlin
BEGIN:DAYLIGHT
TZOFFSETFROM:+0100
TZOFFSETTO:+0200
TZNAME:CEST
DTSTART;TZID=Europe/Berlin:19700329T020000
RRULE:FREQ=YEARLY;INTERVAL=1;BYDAY=-1SU;BYMONTH=3
END:DAYLIGHT
BEGIN:STANDARD
TZOFFSETFROM:+0200
TZOFFSETTO:+0100
TZNAME:CET
DTSTART;TZID=Europe/Berlin:19701025T030000
RRULE:FREQ=YEARLY;INTERVAL=1;BYDAY=-1SU;BYMONTH=10
END:STANDARD
END:VTIMEZONE
BEGIN:VEVENT
DTSTAMP:20260420T164136
DTSTART;TZID=Europe/Berlin:20260324T190000
DTEND;TZID=Europe/Berlin:20260324T210000
UID:HM20100-20260324T190000@VHSMETZINGEN
SUMMARY:Fotoclub (HM20100) 
LOCATION:Haus der VHS, Raum Schönbein, Innere Heerstr. 6, 72555 Metzingen
END:VEVENT
BEGIN:VEVENT
DTSTAMP:20260420T164136
DTSTART;TZID=Europe/Berlin:20260407T190000
DTEND;TZID=Europe/Berlin:20260407T210000
UID:HM20100-20260407T190000@VHSMETZINGEN
SUMMARY:Fotoclub (HM20100) 
LOCATION:Haus der VHS, Raum Sprandel, Innere Heerstr. 6, 72555 Metzingen
END:VEVENT
BEGIN:VEVENT
DTSTAMP:20260420T164136
DTSTART;TZID=Europe/Berlin:20260421T190000
DTEND;TZID=Europe/Berlin:20260421T210000
UID:HM20100-20260421T190000@VHSMETZINGEN
SUMMARY:Fotoclub (HM20100) 
LOCATION:Haus der VHS, Raum Schönbein, Innere Heerstr. 6, 72555 Metzingen
END:VEVENT
BEGIN:VEVENT
DTSTAMP:20260420T164136
DTSTART;TZID=Europe/Berlin:20260505T190000
DTEND;TZID=Europe/Berlin:20260505T210000
UID:HM20100-20260505T190000@VHSMETZINGEN
SUMMARY:Fotoclub (HM20100) 
LOCATION:Haus der VHS, Raum Schönbein, Innere Heerstr. 6, 72555 Metzingen
END:VEVENT
BEGIN:VEVENT
DTSTAMP:20260420T164136
DTSTART;TZID=Europe/Berlin:20260519T190000
DTEND;TZID=Europe/Berlin:20260519T210000
UID:HM20100-20260519T190000@VHSMETZINGEN
SUMMARY:Fotoclub (HM20100) 
LOCATION:Haus der VHS, Raum Schönbein, Innere Heerstr. 6, 72555 Metzingen
END:VEVENT
BEGIN:VEVENT
DTSTAMP:20260420T164136
DTSTART;TZID=Europe/Berlin:20260602T190000
DTEND;TZID=Europe/Berlin:20260602T210000
UID:HM20100-20260602T190000@VHSMETZINGEN
SUMMARY:Fotoclub (HM20100) 
LOCATION:Haus der VHS, Raum Schönbein, Innere Heerstr. 6, 72555 Metzingen
END:VEVENT
BEGIN:VEVENT
DTSTAMP:20260420T164136
DTSTART;TZID=Europe/Berlin:20260616T190000
DTEND;TZID=Europe/Berlin:20260616T210000
UID:HM20100-20260616T190000@VHSMETZINGEN
SUMMARY:Fotoclub (HM20100) 
LOCATION:Haus der VHS, Raum Schönbein, Innere Heerstr. 6, 72555 Metzingen
END:VEVENT
BEGIN:VEVENT
DTSTAMP:20260420T164136
DTSTART;TZID=Europe/Berlin:20260630T190000
DTEND;TZID=Europe/Berlin:20260630T210000
UID:HM20100-20260630T190000@VHSMETZINGEN
SUMMARY:Fotoclub (HM20100) 
LOCATION:Haus der VHS, Raum Schönbein, Innere Heerstr. 6, 72555 Metzingen
END:VEVENT
BEGIN:VEVENT
DTSTAMP:20260420T164136
DTSTART;TZID=Europe/Berlin:20260714T190000
DTEND;TZID=Europe/Berlin:20260714T210000
UID:HM20100-20260714T190000@VHSMETZINGEN
SUMMARY:Fotoclub (HM20100) 
LOCATION:Haus der VHS, Raum Schönbein, Innere Heerstr. 6, 72555 Metzingen
END:VEVENT
BEGIN:VEVENT
DTSTAMP:20260420T164136
DTSTART;TZID=Europe/Berlin:20260728T190000
DTEND;TZID=Europe/Berlin:20260728T210000
UID:HM20100-20260728T190000@VHSMETZINGEN
SUMMARY:Fotoclub (HM20100) 
LOCATION:Haus der VHS, Raum Schönbein, Innere Heerstr. 6, 72555 Metzingen
END:VEVENT
END:VCALENDAR