BEGIN:VCALENDAR
VERSION:2.0
PRODID:http://www.kufer.de/kuferweb / DE
METHOD:PUBLISH
CALSCALE:GREGORIAN
X-WR-TIMEZONE:Europe/Berlin
BEGIN:VTIMEZONE
TZID:Europe/Berlin
X-LIC-LOCATION:Europe/Berlin
BEGIN:DAYLIGHT
TZOFFSETFROM:+0100
TZOFFSETTO:+0200
TZNAME:CEST
DTSTART;TZID=Europe/Berlin:19700329T020000
RRULE:FREQ=YEARLY;INTERVAL=1;BYDAY=-1SU;BYMONTH=3
END:DAYLIGHT
BEGIN:STANDARD
TZOFFSETFROM:+0200
TZOFFSETTO:+0100
TZNAME:CET
DTSTART;TZID=Europe/Berlin:19701025T030000
RRULE:FREQ=YEARLY;INTERVAL=1;BYDAY=-1SU;BYMONTH=10
END:STANDARD
END:VTIMEZONE
BEGIN:VEVENT
DTSTAMP:20260420T183247
DTSTART;TZID=Europe/Berlin:20260225T171500
DTEND;TZID=Europe/Berlin:20260225T180000
UID:HM16422-20260225T171500@VHSMETZINGEN
SUMMARY:Zumba® - Fitness-Kids von 7 - 11 Jahren (HM16422) 
LOCATION:Haus der VHS, Raum Atelier, Innere Heerstr. 6, 72555 Metzingen
END:VEVENT
BEGIN:VEVENT
DTSTAMP:20260420T183247
DTSTART;TZID=Europe/Berlin:20260304T171500
DTEND;TZID=Europe/Berlin:20260304T180000
UID:HM16422-20260304T171500@VHSMETZINGEN
SUMMARY:Zumba® - Fitness-Kids von 7 - 11 Jahren (HM16422) 
LOCATION:Haus der VHS, Raum Atelier, Innere Heerstr. 6, 72555 Metzingen
END:VEVENT
BEGIN:VEVENT
DTSTAMP:20260420T183247
DTSTART;TZID=Europe/Berlin:20260311T171500
DTEND;TZID=Europe/Berlin:20260311T180000
UID:HM16422-20260311T171500@VHSMETZINGEN
SUMMARY:Zumba® - Fitness-Kids von 7 - 11 Jahren (HM16422) 
LOCATION:Haus der VHS, Gymnastikraum, Innere Heerstr. 6, 72555 Metzingen
END:VEVENT
BEGIN:VEVENT
DTSTAMP:20260420T183247
DTSTART;TZID=Europe/Berlin:20260318T171500
DTEND;TZID=Europe/Berlin:20260318T180000
UID:HM16422-20260318T171500@VHSMETZINGEN
SUMMARY:Zumba® - Fitness-Kids von 7 - 11 Jahren (HM16422) 
LOCATION:Haus der VHS, Gymnastikraum, Innere Heerstr. 6, 72555 Metzingen
END:VEVENT
BEGIN:VEVENT
DTSTAMP:20260420T183247
DTSTART;TZID=Europe/Berlin:20260325T171500
DTEND;TZID=Europe/Berlin:20260325T180000
UID:HM16422-20260325T171500@VHSMETZINGEN
SUMMARY:Zumba® - Fitness-Kids von 7 - 11 Jahren (HM16422) 
LOCATION:Haus der VHS, Gymnastikraum, Innere Heerstr. 6, 72555 Metzingen
END:VEVENT
BEGIN:VEVENT
DTSTAMP:20260420T183247
DTSTART;TZID=Europe/Berlin:20260415T171500
DTEND;TZID=Europe/Berlin:20260415T180000
UID:HM16422-20260415T171500@VHSMETZINGEN
SUMMARY:Zumba® - Fitness-Kids von 7 - 11 Jahren (HM16422) 
LOCATION:Haus der VHS, Gymnastikraum, Innere Heerstr. 6, 72555 Metzingen
END:VEVENT
BEGIN:VEVENT
DTSTAMP:20260420T183247
DTSTART;TZID=Europe/Berlin:20260520T171500
DTEND;TZID=Europe/Berlin:20260520T180000
UID:HM16422-20260520T171500@VHSMETZINGEN
SUMMARY:Zumba® - Fitness-Kids von 7 - 11 Jahren (HM16422) 
LOCATION:Haus der VHS, Raum Atelier, Innere Heerstr. 6, 72555 Metzingen
END:VEVENT
BEGIN:VEVENT
DTSTAMP:20260420T183247
DTSTART;TZID=Europe/Berlin:20260610T171500
DTEND;TZID=Europe/Berlin:20260610T180000
UID:HM16422-20260610T171500@VHSMETZINGEN
SUMMARY:Zumba® - Fitness-Kids von 7 - 11 Jahren (HM16422) 
LOCATION:Haus der VHS, Gymnastikraum, Innere Heerstr. 6, 72555 Metzingen
END:VEVENT
BEGIN:VEVENT
DTSTAMP:20260420T183247
DTSTART;TZID=Europe/Berlin:20260617T171500
DTEND;TZID=Europe/Berlin:20260617T180000
UID:HM16422-20260617T171500@VHSMETZINGEN
SUMMARY:Zumba® - Fitness-Kids von 7 - 11 Jahren (HM16422) 
LOCATION:Haus der VHS, Gymnastikraum, Innere Heerstr. 6, 72555 Metzingen
END:VEVENT
BEGIN:VEVENT
DTSTAMP:20260420T183247
DTSTART;TZID=Europe/Berlin:20260624T171500
DTEND;TZID=Europe/Berlin:20260624T180000
UID:HM16422-20260624T171500@VHSMETZINGEN
SUMMARY:Zumba® - Fitness-Kids von 7 - 11 Jahren (HM16422) 
LOCATION:Haus der VHS, Gymnastikraum, Innere Heerstr. 6, 72555 Metzingen
END:VEVENT
BEGIN:VEVENT
DTSTAMP:20260420T183247
DTSTART;TZID=Europe/Berlin:20260701T171500
DTEND;TZID=Europe/Berlin:20260701T180000
UID:HM16422-20260701T171500@VHSMETZINGEN
SUMMARY:Zumba® - Fitness-Kids von 7 - 11 Jahren (HM16422) 
LOCATION:Haus der VHS, Gymnastikraum, Innere Heerstr. 6, 72555 Metzingen
END:VEVENT
BEGIN:VEVENT
DTSTAMP:20260420T183247
DTSTART;TZID=Europe/Berlin:20260708T171500
DTEND;TZID=Europe/Berlin:20260708T180000
UID:HM16422-20260708T171500@VHSMETZINGEN
SUMMARY:Zumba® - Fitness-Kids von 7 - 11 Jahren (HM16422) 
LOCATION:Haus der VHS, Gymnastikraum, Innere Heerstr. 6, 72555 Metzingen
END:VEVENT
BEGIN:VEVENT
DTSTAMP:20260420T183247
DTSTART;TZID=Europe/Berlin:20260715T171500
DTEND;TZID=Europe/Berlin:20260715T180000
UID:HM16422-20260715T171500@VHSMETZINGEN
SUMMARY:Zumba® - Fitness-Kids von 7 - 11 Jahren (HM16422) 
LOCATION:Haus der VHS, Gymnastikraum, Innere Heerstr. 6, 72555 Metzingen
END:VEVENT
BEGIN:VEVENT
DTSTAMP:20260420T183247
DTSTART;TZID=Europe/Berlin:20260722T171500
DTEND;TZID=Europe/Berlin:20260722T180000
UID:HM16422-20260722T171500@VHSMETZINGEN
SUMMARY:Zumba® - Fitness-Kids von 7 - 11 Jahren (HM16422) 
LOCATION:Haus der VHS, Gymnastikraum, Innere Heerstr. 6, 72555 Metzingen
END:VEVENT
BEGIN:VEVENT
DTSTAMP:20260420T183247
DTSTART;TZID=Europe/Berlin:20260729T171500
DTEND;TZID=Europe/Berlin:20260729T180000
UID:HM16422-20260729T171500@VHSMETZINGEN
SUMMARY:Zumba® - Fitness-Kids von 7 - 11 Jahren (HM16422) 
LOCATION:Haus der VHS, Gymnastikraum, Innere Heerstr. 6, 72555 Metzingen
END:VEVENT
END:VCALENDAR