BEGIN:VCALENDAR
VERSION:2.0
PRODID:http://www.kufer.de/kuferweb / DE
METHOD:PUBLISH
CALSCALE:GREGORIAN
X-WR-TIMEZONE:Europe/Berlin
BEGIN:VTIMEZONE
TZID:Europe/Berlin
X-LIC-LOCATION:Europe/Berlin
BEGIN:DAYLIGHT
TZOFFSETFROM:+0100
TZOFFSETTO:+0200
TZNAME:CEST
DTSTART;TZID=Europe/Berlin:19700329T020000
RRULE:FREQ=YEARLY;INTERVAL=1;BYDAY=-1SU;BYMONTH=3
END:DAYLIGHT
BEGIN:STANDARD
TZOFFSETFROM:+0200
TZOFFSETTO:+0100
TZNAME:CET
DTSTART;TZID=Europe/Berlin:19701025T030000
RRULE:FREQ=YEARLY;INTERVAL=1;BYDAY=-1SU;BYMONTH=10
END:STANDARD
END:VTIMEZONE
BEGIN:VEVENT
DTSTAMP:20260420T215315
DTSTART;TZID=Europe/Berlin:20260522T150000
DTEND;TZID=Europe/Berlin:20260522T154500
UID:HM16421-20260522T150000@VHSMETZINGEN
SUMMARY:Zumba® - Fitness-Kids von 3 bis 6 Jahren (HM16421) 
LOCATION:Haus der VHS, Gymnastikraum, Innere Heerstr. 6, 72555 Metzingen
END:VEVENT
BEGIN:VEVENT
DTSTAMP:20260420T215315
DTSTART;TZID=Europe/Berlin:20260612T150000
DTEND;TZID=Europe/Berlin:20260612T154500
UID:HM16421-20260612T150000@VHSMETZINGEN
SUMMARY:Zumba® - Fitness-Kids von 3 bis 6 Jahren (HM16421) 
LOCATION:Haus der VHS, Gymnastikraum, Innere Heerstr. 6, 72555 Metzingen
END:VEVENT
BEGIN:VEVENT
DTSTAMP:20260420T215315
DTSTART;TZID=Europe/Berlin:20260619T150000
DTEND;TZID=Europe/Berlin:20260619T154500
UID:HM16421-20260619T150000@VHSMETZINGEN
SUMMARY:Zumba® - Fitness-Kids von 3 bis 6 Jahren (HM16421) 
LOCATION:Haus der VHS, Gymnastikraum, Innere Heerstr. 6, 72555 Metzingen
END:VEVENT
BEGIN:VEVENT
DTSTAMP:20260420T215315
DTSTART;TZID=Europe/Berlin:20260626T150000
DTEND;TZID=Europe/Berlin:20260626T154500
UID:HM16421-20260626T150000@VHSMETZINGEN
SUMMARY:Zumba® - Fitness-Kids von 3 bis 6 Jahren (HM16421) 
LOCATION:Haus der VHS, Gymnastikraum, Innere Heerstr. 6, 72555 Metzingen
END:VEVENT
BEGIN:VEVENT
DTSTAMP:20260420T215315
DTSTART;TZID=Europe/Berlin:20260703T150000
DTEND;TZID=Europe/Berlin:20260703T154500
UID:HM16421-20260703T150000@VHSMETZINGEN
SUMMARY:Zumba® - Fitness-Kids von 3 bis 6 Jahren (HM16421) 
LOCATION:Haus der VHS, Gymnastikraum, Innere Heerstr. 6, 72555 Metzingen
END:VEVENT
BEGIN:VEVENT
DTSTAMP:20260420T215315
DTSTART;TZID=Europe/Berlin:20260710T150000
DTEND;TZID=Europe/Berlin:20260710T154500
UID:HM16421-20260710T150000@VHSMETZINGEN
SUMMARY:Zumba® - Fitness-Kids von 3 bis 6 Jahren (HM16421) 
LOCATION:Haus der VHS, Gymnastikraum, Innere Heerstr. 6, 72555 Metzingen
END:VEVENT
BEGIN:VEVENT
DTSTAMP:20260420T215315
DTSTART;TZID=Europe/Berlin:20260717T150000
DTEND;TZID=Europe/Berlin:20260717T154500
UID:HM16421-20260717T150000@VHSMETZINGEN
SUMMARY:Zumba® - Fitness-Kids von 3 bis 6 Jahren (HM16421) 
LOCATION:Haus der VHS, Gymnastikraum, Innere Heerstr. 6, 72555 Metzingen
END:VEVENT
BEGIN:VEVENT
DTSTAMP:20260420T215315
DTSTART;TZID=Europe/Berlin:20260724T150000
DTEND;TZID=Europe/Berlin:20260724T154500
UID:HM16421-20260724T150000@VHSMETZINGEN
SUMMARY:Zumba® - Fitness-Kids von 3 bis 6 Jahren (HM16421) 
LOCATION:Haus der VHS, Gymnastikraum, Innere Heerstr. 6, 72555 Metzingen
END:VEVENT
END:VCALENDAR