BEGIN:VCALENDAR
VERSION:2.0
PRODID:http://www.kufer.de/kuferweb / DE
METHOD:PUBLISH
CALSCALE:GREGORIAN
X-WR-TIMEZONE:Europe/Berlin
BEGIN:VTIMEZONE
TZID:Europe/Berlin
X-LIC-LOCATION:Europe/Berlin
BEGIN:DAYLIGHT
TZOFFSETFROM:+0100
TZOFFSETTO:+0200
TZNAME:CEST
DTSTART;TZID=Europe/Berlin:19700329T020000
RRULE:FREQ=YEARLY;INTERVAL=1;BYDAY=-1SU;BYMONTH=3
END:DAYLIGHT
BEGIN:STANDARD
TZOFFSETFROM:+0200
TZOFFSETTO:+0100
TZNAME:CET
DTSTART;TZID=Europe/Berlin:19701025T030000
RRULE:FREQ=YEARLY;INTERVAL=1;BYDAY=-1SU;BYMONTH=10
END:STANDARD
END:VTIMEZONE
BEGIN:VEVENT
DTSTAMP:20260420T150510
DTSTART;TZID=Europe/Berlin:20260612T140000
DTEND;TZID=Europe/Berlin:20260612T170000
UID:HM16101-20260612T140000@VHSMETZINGEN
SUMMARY:Kindernähkurs für Anfänger und Geübte Für Kinder ab 9 Jahren (HM16101) 
LOCATION:Familienzentrum/Pfleghof/Pfleghofstr. 41, Medienraum, Pfleghofstrasse 41, 72555 Metzingen
END:VEVENT
BEGIN:VEVENT
DTSTAMP:20260420T150510
DTSTART;TZID=Europe/Berlin:20260619T140000
DTEND;TZID=Europe/Berlin:20260619T170000
UID:HM16101-20260619T140000@VHSMETZINGEN
SUMMARY:Kindernähkurs für Anfänger und Geübte Für Kinder ab 9 Jahren (HM16101) 
LOCATION:Familienzentrum/Pfleghof/Pfleghofstr. 41, Medienraum, Pfleghofstrasse 41, 72555 Metzingen
END:VEVENT
END:VCALENDAR