BEGIN:VCALENDAR
VERSION:2.0
PRODID:http://www.kufer.de/kuferweb / DE
METHOD:PUBLISH
CALSCALE:GREGORIAN
X-WR-TIMEZONE:Europe/Berlin
BEGIN:VTIMEZONE
TZID:Europe/Berlin
X-LIC-LOCATION:Europe/Berlin
BEGIN:DAYLIGHT
TZOFFSETFROM:+0100
TZOFFSETTO:+0200
TZNAME:CEST
DTSTART;TZID=Europe/Berlin:19700329T020000
RRULE:FREQ=YEARLY;INTERVAL=1;BYDAY=-1SU;BYMONTH=3
END:DAYLIGHT
BEGIN:STANDARD
TZOFFSETFROM:+0200
TZOFFSETTO:+0100
TZNAME:CET
DTSTART;TZID=Europe/Berlin:19701025T030000
RRULE:FREQ=YEARLY;INTERVAL=1;BYDAY=-1SU;BYMONTH=10
END:STANDARD
END:VTIMEZONE
BEGIN:VEVENT
DTSTAMP:20260420T150559
DTSTART;TZID=Europe/Berlin:20260701T140000
DTEND;TZID=Europe/Berlin:20260701T190000
UID:HM10510-20260701T140000@VHSMETZINGEN
SUMMARY:Einkommensteuererklärung speziell für Ruheständler  In diesem Kurs werden Sie mit den Besonderheiten der Einkommensteuererklärung im Alter vertraut gemacht. Wer ist abgabepflichtig? In welche Formulare trage ich meine Renten/Pension ein? Muss ich dies überhaupt? Für welche Einkünfte erhalte ich einen Altersentlastungsbetrag? Wie hoch ist meine zumutbare Belastung bei Krankheitskosten und Pflegekosten? Was ist der Rentenanpassungsbetrag und zu welchen besteuerbaren Einkünften führt meine Bruttorente? Wie kann ich mit „Mein ELSTER“ innerhalb kürzester Zeit überprüfen, ob meine Alterseinkünfte eine Einkommensteuerschuld auslösen? Der Dozent geht auf individuelle Fragestellungen mit angemessener Geschwindigkeit und Witz ein und wird Ihnen vermitteln, dass eine Steuererklärung auch Freude bereiten kann, vor allem dann, wenn man sich selbst auskennt. Inwieweit die Kursgebühren steuerlich absetzbar sind, wird im Kurs besprochen.  Dozent: Volker Riechert, Diplom-Kaufmann, Bilanzbuchhalt (HM10510) 
LOCATION:Haus der VHS, Raum Küßner, Innere Heerstr. 6, 72555 Metzingen
END:VEVENT
END:VCALENDAR