BEGIN:VCALENDAR
VERSION:2.0
PRODID:http://www.kufer.de/kuferweb / DE
METHOD:PUBLISH
CALSCALE:GREGORIAN
X-WR-TIMEZONE:Europe/Berlin
BEGIN:VTIMEZONE
TZID:Europe/Berlin
X-LIC-LOCATION:Europe/Berlin
BEGIN:DAYLIGHT
TZOFFSETFROM:+0100
TZOFFSETTO:+0200
TZNAME:CEST
DTSTART;TZID=Europe/Berlin:19700329T020000
RRULE:FREQ=YEARLY;INTERVAL=1;BYDAY=-1SU;BYMONTH=3
END:DAYLIGHT
BEGIN:STANDARD
TZOFFSETFROM:+0200
TZOFFSETTO:+0100
TZNAME:CET
DTSTART;TZID=Europe/Berlin:19701025T030000
RRULE:FREQ=YEARLY;INTERVAL=1;BYDAY=-1SU;BYMONTH=10
END:STANDARD
END:VTIMEZONE
BEGIN:VEVENT
DTSTAMP:20260420T150558
DTSTART;TZID=Europe/Berlin:20260226T170000
DTEND;TZID=Europe/Berlin:20260226T180000
UID:HG31496-20260226T170000@VHSMETZINGEN
SUMMARY:Strala Yoga (HG31496) 
LOCATION:Rienzbühlhalle, Hermann-Bader-Raum, , 72661 Grafenberg
END:VEVENT
BEGIN:VEVENT
DTSTAMP:20260420T150558
DTSTART;TZID=Europe/Berlin:20260305T170000
DTEND;TZID=Europe/Berlin:20260305T180000
UID:HG31496-20260305T170000@VHSMETZINGEN
SUMMARY:Strala Yoga (HG31496) 
LOCATION:Rienzbühlhalle, Hermann-Bader-Raum, , 72661 Grafenberg
END:VEVENT
BEGIN:VEVENT
DTSTAMP:20260420T150558
DTSTART;TZID=Europe/Berlin:20260312T170000
DTEND;TZID=Europe/Berlin:20260312T180000
UID:HG31496-20260312T170000@VHSMETZINGEN
SUMMARY:Strala Yoga (HG31496) 
LOCATION:Rienzbühlhalle, Hermann-Bader-Raum, , 72661 Grafenberg
END:VEVENT
BEGIN:VEVENT
DTSTAMP:20260420T150558
DTSTART;TZID=Europe/Berlin:20260319T170000
DTEND;TZID=Europe/Berlin:20260319T180000
UID:HG31496-20260319T170000@VHSMETZINGEN
SUMMARY:Strala Yoga (HG31496) 
LOCATION:Rienzbühlhalle, Hermann-Bader-Raum, , 72661 Grafenberg
END:VEVENT
BEGIN:VEVENT
DTSTAMP:20260420T150558
DTSTART;TZID=Europe/Berlin:20260326T170000
DTEND;TZID=Europe/Berlin:20260326T180000
UID:HG31496-20260326T170000@VHSMETZINGEN
SUMMARY:Strala Yoga (HG31496) 
LOCATION:Rienzbühlhalle, Hermann-Bader-Raum, , 72661 Grafenberg
END:VEVENT
BEGIN:VEVENT
DTSTAMP:20260420T150558
DTSTART;TZID=Europe/Berlin:20260416T170000
DTEND;TZID=Europe/Berlin:20260416T180000
UID:HG31496-20260416T170000@VHSMETZINGEN
SUMMARY:Strala Yoga (HG31496) 
LOCATION:Rienzbühlhalle, Hermann-Bader-Raum, , 72661 Grafenberg
END:VEVENT
BEGIN:VEVENT
DTSTAMP:20260420T150558
DTSTART;TZID=Europe/Berlin:20260423T170000
DTEND;TZID=Europe/Berlin:20260423T180000
UID:HG31496-20260423T170000@VHSMETZINGEN
SUMMARY:Strala Yoga (HG31496) 
LOCATION:Rienzbühlhalle, Hermann-Bader-Raum, , 72661 Grafenberg
END:VEVENT
BEGIN:VEVENT
DTSTAMP:20260420T150558
DTSTART;TZID=Europe/Berlin:20260430T170000
DTEND;TZID=Europe/Berlin:20260430T180000
UID:HG31496-20260430T170000@VHSMETZINGEN
SUMMARY:Strala Yoga (HG31496) 
LOCATION:Rienzbühlhalle, Hermann-Bader-Raum, , 72661 Grafenberg
END:VEVENT
BEGIN:VEVENT
DTSTAMP:20260420T150558
DTSTART;TZID=Europe/Berlin:20260507T170000
DTEND;TZID=Europe/Berlin:20260507T180000
UID:HG31496-20260507T170000@VHSMETZINGEN
SUMMARY:Strala Yoga (HG31496) 
LOCATION:Rienzbühlhalle, Hermann-Bader-Raum, , 72661 Grafenberg
END:VEVENT
BEGIN:VEVENT
DTSTAMP:20260420T150558
DTSTART;TZID=Europe/Berlin:20260611T170000
DTEND;TZID=Europe/Berlin:20260611T180000
UID:HG31496-20260611T170000@VHSMETZINGEN
SUMMARY:Strala Yoga (HG31496) 
LOCATION:Rienzbühlhalle, Hermann-Bader-Raum, , 72661 Grafenberg
END:VEVENT
BEGIN:VEVENT
DTSTAMP:20260420T150558
DTSTART;TZID=Europe/Berlin:20260618T170000
DTEND;TZID=Europe/Berlin:20260618T180000
UID:HG31496-20260618T170000@VHSMETZINGEN
SUMMARY:Strala Yoga (HG31496) 
LOCATION:Rienzbühlhalle, Hermann-Bader-Raum, , 72661 Grafenberg
END:VEVENT
BEGIN:VEVENT
DTSTAMP:20260420T150558
DTSTART;TZID=Europe/Berlin:20260625T170000
DTEND;TZID=Europe/Berlin:20260625T180000
UID:HG31496-20260625T170000@VHSMETZINGEN
DESCRIPTION:Ersatz für Ausfall am 21.05.2026
SUMMARY:Strala Yoga (HG31496) 
LOCATION:Rienzbühlhalle, Hermann-Bader-Raum, , 72661 Grafenberg
END:VEVENT
END:VCALENDAR