BEGIN:VCALENDAR
VERSION:2.0
PRODID:http://www.kufer.de/kuferweb / DE
METHOD:PUBLISH
CALSCALE:GREGORIAN
X-WR-TIMEZONE:Europe/Berlin
BEGIN:VTIMEZONE
TZID:Europe/Berlin
X-LIC-LOCATION:Europe/Berlin
BEGIN:DAYLIGHT
TZOFFSETFROM:+0100
TZOFFSETTO:+0200
TZNAME:CEST
DTSTART;TZID=Europe/Berlin:19700329T020000
RRULE:FREQ=YEARLY;INTERVAL=1;BYDAY=-1SU;BYMONTH=3
END:DAYLIGHT
BEGIN:STANDARD
TZOFFSETFROM:+0200
TZOFFSETTO:+0100
TZNAME:CET
DTSTART;TZID=Europe/Berlin:19701025T030000
RRULE:FREQ=YEARLY;INTERVAL=1;BYDAY=-1SU;BYMONTH=10
END:STANDARD
END:VTIMEZONE
BEGIN:VEVENT
DTSTAMP:20260420T103247
DTSTART;TZID=Europe/Berlin:20250915T090000
DTEND;TZID=Europe/Berlin:20250915T100000
UID:GV38755-20250915T090000@VHSMETZINGEN
SUMMARY:Bauch-Beine-Po + Rücken + Step (GV38755) 
LOCATION:Kohllöffel-Areal, Raum I, Nürtinger Str. 77, 72555 Metzingen
END:VEVENT
BEGIN:VEVENT
DTSTAMP:20260420T103247
DTSTART;TZID=Europe/Berlin:20250922T090000
DTEND;TZID=Europe/Berlin:20250922T100000
UID:GV38755-20250922T090000@VHSMETZINGEN
SUMMARY:Bauch-Beine-Po + Rücken + Step (GV38755) 
LOCATION:Kohllöffel-Areal, Raum I, Nürtinger Str. 77, 72555 Metzingen
END:VEVENT
BEGIN:VEVENT
DTSTAMP:20260420T103247
DTSTART;TZID=Europe/Berlin:20250929T090000
DTEND;TZID=Europe/Berlin:20250929T100000
UID:GV38755-20250929T090000@VHSMETZINGEN
SUMMARY:Bauch-Beine-Po + Rücken + Step (GV38755) 
LOCATION:Kohllöffel-Areal, Raum I, Nürtinger Str. 77, 72555 Metzingen
END:VEVENT
BEGIN:VEVENT
DTSTAMP:20260420T103247
DTSTART;TZID=Europe/Berlin:20251006T090000
DTEND;TZID=Europe/Berlin:20251006T100000
UID:GV38755-20251006T090000@VHSMETZINGEN
SUMMARY:Bauch-Beine-Po + Rücken + Step (GV38755) 
LOCATION:Kohllöffel-Areal, Raum I, Nürtinger Str. 77, 72555 Metzingen
END:VEVENT
BEGIN:VEVENT
DTSTAMP:20260420T103247
DTSTART;TZID=Europe/Berlin:20251013T090000
DTEND;TZID=Europe/Berlin:20251013T100000
UID:GV38755-20251013T090000@VHSMETZINGEN
SUMMARY:Bauch-Beine-Po + Rücken + Step (GV38755) 
LOCATION:Kohllöffel-Areal, Raum I, Nürtinger Str. 77, 72555 Metzingen
END:VEVENT
BEGIN:VEVENT
DTSTAMP:20260420T103247
DTSTART;TZID=Europe/Berlin:20251020T090000
DTEND;TZID=Europe/Berlin:20251020T100000
UID:GV38755-20251020T090000@VHSMETZINGEN
SUMMARY:Bauch-Beine-Po + Rücken + Step (GV38755) 
LOCATION:Kohllöffel-Areal, Raum I, Nürtinger Str. 77, 72555 Metzingen
END:VEVENT
BEGIN:VEVENT
DTSTAMP:20260420T103247
DTSTART;TZID=Europe/Berlin:20251027T090000
DTEND;TZID=Europe/Berlin:20251027T100000
UID:GV38755-20251027T090000@VHSMETZINGEN
SUMMARY:Bauch-Beine-Po + Rücken + Step (GV38755) 
LOCATION:Kohllöffel-Areal, Raum I, Nürtinger Str. 77, 72555 Metzingen
END:VEVENT
BEGIN:VEVENT
DTSTAMP:20260420T103247
DTSTART;TZID=Europe/Berlin:20251103T090000
DTEND;TZID=Europe/Berlin:20251103T100000
UID:GV38755-20251103T090000@VHSMETZINGEN
SUMMARY:Bauch-Beine-Po + Rücken + Step (GV38755) 
LOCATION:Kohllöffel-Areal, Raum I, Nürtinger Str. 77, 72555 Metzingen
END:VEVENT
BEGIN:VEVENT
DTSTAMP:20260420T103247
DTSTART;TZID=Europe/Berlin:20251110T090000
DTEND;TZID=Europe/Berlin:20251110T100000
UID:GV38755-20251110T090000@VHSMETZINGEN
SUMMARY:Bauch-Beine-Po + Rücken + Step (GV38755) 
LOCATION:Kohllöffel-Areal, Raum I, Nürtinger Str. 77, 72555 Metzingen
END:VEVENT
BEGIN:VEVENT
DTSTAMP:20260420T103247
DTSTART;TZID=Europe/Berlin:20251117T090000
DTEND;TZID=Europe/Berlin:20251117T100000
UID:GV38755-20251117T090000@VHSMETZINGEN
SUMMARY:Bauch-Beine-Po + Rücken + Step (GV38755) 
LOCATION:Kohllöffel-Areal, Raum I, Nürtinger Str. 77, 72555 Metzingen
END:VEVENT
BEGIN:VEVENT
DTSTAMP:20260420T103247
DTSTART;TZID=Europe/Berlin:20251124T090000
DTEND;TZID=Europe/Berlin:20251124T100000
UID:GV38755-20251124T090000@VHSMETZINGEN
SUMMARY:Bauch-Beine-Po + Rücken + Step (GV38755) 
LOCATION:Kohllöffel-Areal, Raum I, Nürtinger Str. 77, 72555 Metzingen
END:VEVENT
BEGIN:VEVENT
DTSTAMP:20260420T103247
DTSTART;TZID=Europe/Berlin:20251201T090000
DTEND;TZID=Europe/Berlin:20251201T100000
UID:GV38755-20251201T090000@VHSMETZINGEN
SUMMARY:Bauch-Beine-Po + Rücken + Step (GV38755) 
LOCATION:Kohllöffel-Areal, Raum I, Nürtinger Str. 77, 72555 Metzingen
END:VEVENT
BEGIN:VEVENT
DTSTAMP:20260420T103247
DTSTART;TZID=Europe/Berlin:20251208T090000
DTEND;TZID=Europe/Berlin:20251208T100000
UID:GV38755-20251208T090000@VHSMETZINGEN
SUMMARY:Bauch-Beine-Po + Rücken + Step (GV38755) 
LOCATION:Kohllöffel-Areal, Raum I, Nürtinger Str. 77, 72555 Metzingen
END:VEVENT
BEGIN:VEVENT
DTSTAMP:20260420T103247
DTSTART;TZID=Europe/Berlin:20251215T090000
DTEND;TZID=Europe/Berlin:20251215T100000
UID:GV38755-20251215T090000@VHSMETZINGEN
SUMMARY:Bauch-Beine-Po + Rücken + Step (GV38755) 
LOCATION:Kohllöffel-Areal, Raum I, Nürtinger Str. 77, 72555 Metzingen
END:VEVENT
BEGIN:VEVENT
DTSTAMP:20260420T103247
DTSTART;TZID=Europe/Berlin:20251222T090000
DTEND;TZID=Europe/Berlin:20251222T100000
UID:GV38755-20251222T090000@VHSMETZINGEN
SUMMARY:Bauch-Beine-Po + Rücken + Step (GV38755) 
LOCATION:Kohllöffel-Areal, Raum I, Nürtinger Str. 77, 72555 Metzingen
END:VEVENT
BEGIN:VEVENT
DTSTAMP:20260420T103247
DTSTART;TZID=Europe/Berlin:20251229T090000
DTEND;TZID=Europe/Berlin:20251229T100000
UID:GV38755-20251229T090000@VHSMETZINGEN
SUMMARY:Bauch-Beine-Po + Rücken + Step (GV38755) 
LOCATION:Kohllöffel-Areal, Raum I, Nürtinger Str. 77, 72555 Metzingen
END:VEVENT
BEGIN:VEVENT
DTSTAMP:20260420T103247
DTSTART;TZID=Europe/Berlin:20260105T090000
DTEND;TZID=Europe/Berlin:20260105T100000
UID:GV38755-20260105T090000@VHSMETZINGEN
SUMMARY:Bauch-Beine-Po + Rücken + Step (GV38755) 
LOCATION:Kohllöffel-Areal, Raum I, Nürtinger Str. 77, 72555 Metzingen
END:VEVENT
END:VCALENDAR