BEGIN:VCALENDAR
VERSION:2.0
PRODID:http://www.kufer.de/kuferweb / DE
METHOD:PUBLISH
CALSCALE:GREGORIAN
X-WR-TIMEZONE:Europe/Berlin
BEGIN:VTIMEZONE
TZID:Europe/Berlin
X-LIC-LOCATION:Europe/Berlin
BEGIN:DAYLIGHT
TZOFFSETFROM:+0100
TZOFFSETTO:+0200
TZNAME:CEST
DTSTART;TZID=Europe/Berlin:19700329T020000
RRULE:FREQ=YEARLY;INTERVAL=1;BYDAY=-1SU;BYMONTH=3
END:DAYLIGHT
BEGIN:STANDARD
TZOFFSETFROM:+0200
TZOFFSETTO:+0100
TZNAME:CET
DTSTART;TZID=Europe/Berlin:19701025T030000
RRULE:FREQ=YEARLY;INTERVAL=1;BYDAY=-1SU;BYMONTH=10
END:STANDARD
END:VTIMEZONE
BEGIN:VEVENT
DTSTAMP:20260421T121208
DTSTART;TZID=Europe/Berlin:20250916T180000
DTEND;TZID=Europe/Berlin:20250916T193000
UID:GU38728-20250916T180000@VHSMETZINGEN
SUMMARY:Fit durch den Winter: Winterlauf-Training (GU38728) 
LOCATION:Ösch-Sportzentrum, Parkplatz, Noyon-Allee 6, 72555 Metzingen
END:VEVENT
BEGIN:VEVENT
DTSTAMP:20260421T121208
DTSTART;TZID=Europe/Berlin:20250923T180000
DTEND;TZID=Europe/Berlin:20250923T193000
UID:GU38728-20250923T180000@VHSMETZINGEN
SUMMARY:Fit durch den Winter: Winterlauf-Training (GU38728) 
LOCATION:Ösch-Sportzentrum, Parkplatz, Noyon-Allee 6, 72555 Metzingen
END:VEVENT
BEGIN:VEVENT
DTSTAMP:20260421T121208
DTSTART;TZID=Europe/Berlin:20250930T180000
DTEND;TZID=Europe/Berlin:20250930T193000
UID:GU38728-20250930T180000@VHSMETZINGEN
SUMMARY:Fit durch den Winter: Winterlauf-Training (GU38728) 
LOCATION:Ösch-Sportzentrum, Parkplatz, Noyon-Allee 6, 72555 Metzingen
END:VEVENT
BEGIN:VEVENT
DTSTAMP:20260421T121208
DTSTART;TZID=Europe/Berlin:20251007T180000
DTEND;TZID=Europe/Berlin:20251007T193000
UID:GU38728-20251007T180000@VHSMETZINGEN
SUMMARY:Fit durch den Winter: Winterlauf-Training (GU38728) 
LOCATION:Ösch-Sportzentrum, Parkplatz, Noyon-Allee 6, 72555 Metzingen
END:VEVENT
BEGIN:VEVENT
DTSTAMP:20260421T121208
DTSTART;TZID=Europe/Berlin:20251014T180000
DTEND;TZID=Europe/Berlin:20251014T193000
UID:GU38728-20251014T180000@VHSMETZINGEN
SUMMARY:Fit durch den Winter: Winterlauf-Training (GU38728) 
LOCATION:Ösch-Sportzentrum, Parkplatz, Noyon-Allee 6, 72555 Metzingen
END:VEVENT
BEGIN:VEVENT
DTSTAMP:20260421T121208
DTSTART;TZID=Europe/Berlin:20251021T180000
DTEND;TZID=Europe/Berlin:20251021T193000
UID:GU38728-20251021T180000@VHSMETZINGEN
SUMMARY:Fit durch den Winter: Winterlauf-Training (GU38728) 
LOCATION:Ösch-Sportzentrum, Parkplatz, Noyon-Allee 6, 72555 Metzingen
END:VEVENT
BEGIN:VEVENT
DTSTAMP:20260421T121208
DTSTART;TZID=Europe/Berlin:20251104T180000
DTEND;TZID=Europe/Berlin:20251104T193000
UID:GU38728-20251104T180000@VHSMETZINGEN
SUMMARY:Fit durch den Winter: Winterlauf-Training (GU38728) 
LOCATION:Ösch-Sportzentrum, Parkplatz, Noyon-Allee 6, 72555 Metzingen
END:VEVENT
BEGIN:VEVENT
DTSTAMP:20260421T121208
DTSTART;TZID=Europe/Berlin:20251111T180000
DTEND;TZID=Europe/Berlin:20251111T193000
UID:GU38728-20251111T180000@VHSMETZINGEN
SUMMARY:Fit durch den Winter: Winterlauf-Training (GU38728) 
LOCATION:Ösch-Sportzentrum, Parkplatz, Noyon-Allee 6, 72555 Metzingen
END:VEVENT
BEGIN:VEVENT
DTSTAMP:20260421T121208
DTSTART;TZID=Europe/Berlin:20251118T180000
DTEND;TZID=Europe/Berlin:20251118T193000
UID:GU38728-20251118T180000@VHSMETZINGEN
SUMMARY:Fit durch den Winter: Winterlauf-Training (GU38728) 
LOCATION:Ösch-Sportzentrum, Parkplatz, Noyon-Allee 6, 72555 Metzingen
END:VEVENT
BEGIN:VEVENT
DTSTAMP:20260421T121208
DTSTART;TZID=Europe/Berlin:20251125T180000
DTEND;TZID=Europe/Berlin:20251125T193000
UID:GU38728-20251125T180000@VHSMETZINGEN
SUMMARY:Fit durch den Winter: Winterlauf-Training (GU38728) 
LOCATION:Ösch-Sportzentrum, Parkplatz, Noyon-Allee 6, 72555 Metzingen
END:VEVENT
BEGIN:VEVENT
DTSTAMP:20260421T121208
DTSTART;TZID=Europe/Berlin:20251202T180000
DTEND;TZID=Europe/Berlin:20251202T193000
UID:GU38728-20251202T180000@VHSMETZINGEN
SUMMARY:Fit durch den Winter: Winterlauf-Training (GU38728) 
LOCATION:Ösch-Sportzentrum, Parkplatz, Noyon-Allee 6, 72555 Metzingen
END:VEVENT
BEGIN:VEVENT
DTSTAMP:20260421T121208
DTSTART;TZID=Europe/Berlin:20251209T180000
DTEND;TZID=Europe/Berlin:20251209T193000
UID:GU38728-20251209T180000@VHSMETZINGEN
SUMMARY:Fit durch den Winter: Winterlauf-Training (GU38728) 
LOCATION:Ösch-Sportzentrum, Parkplatz, Noyon-Allee 6, 72555 Metzingen
END:VEVENT
BEGIN:VEVENT
DTSTAMP:20260421T121208
DTSTART;TZID=Europe/Berlin:20251216T180000
DTEND;TZID=Europe/Berlin:20251216T193000
UID:GU38728-20251216T180000@VHSMETZINGEN
SUMMARY:Fit durch den Winter: Winterlauf-Training (GU38728) 
LOCATION:Ösch-Sportzentrum, Parkplatz, Noyon-Allee 6, 72555 Metzingen
END:VEVENT
BEGIN:VEVENT
DTSTAMP:20260421T121208
DTSTART;TZID=Europe/Berlin:20251223T180000
DTEND;TZID=Europe/Berlin:20251223T193000
UID:GU38728-20251223T180000@VHSMETZINGEN
SUMMARY:Fit durch den Winter: Winterlauf-Training (GU38728) 
LOCATION:Ösch-Sportzentrum, Parkplatz, Noyon-Allee 6, 72555 Metzingen
END:VEVENT
BEGIN:VEVENT
DTSTAMP:20260421T121208
DTSTART;TZID=Europe/Berlin:20260113T180000
DTEND;TZID=Europe/Berlin:20260113T193000
UID:GU38728-20260113T180000@VHSMETZINGEN
SUMMARY:Fit durch den Winter: Winterlauf-Training (GU38728) 
LOCATION:Ösch-Sportzentrum, Parkplatz, Noyon-Allee 6, 72555 Metzingen
END:VEVENT
BEGIN:VEVENT
DTSTAMP:20260421T121208
DTSTART;TZID=Europe/Berlin:20260120T180000
DTEND;TZID=Europe/Berlin:20260120T193000
UID:GU38728-20260120T180000@VHSMETZINGEN
SUMMARY:Fit durch den Winter: Winterlauf-Training (GU38728) 
LOCATION:Ösch-Sportzentrum, Parkplatz, Noyon-Allee 6, 72555 Metzingen
END:VEVENT
BEGIN:VEVENT
DTSTAMP:20260421T121208
DTSTART;TZID=Europe/Berlin:20260127T180000
DTEND;TZID=Europe/Berlin:20260127T193000
UID:GU38728-20260127T180000@VHSMETZINGEN
SUMMARY:Fit durch den Winter: Winterlauf-Training (GU38728) 
LOCATION:Ösch-Sportzentrum, Parkplatz, Noyon-Allee 6, 72555 Metzingen
END:VEVENT
BEGIN:VEVENT
DTSTAMP:20260421T121208
DTSTART;TZID=Europe/Berlin:20260203T180000
DTEND;TZID=Europe/Berlin:20260203T193000
UID:GU38728-20260203T180000@VHSMETZINGEN
SUMMARY:Fit durch den Winter: Winterlauf-Training (GU38728) 
LOCATION:Ösch-Sportzentrum, Parkplatz, Noyon-Allee 6, 72555 Metzingen
END:VEVENT
BEGIN:VEVENT
DTSTAMP:20260421T121208
DTSTART;TZID=Europe/Berlin:20260210T180000
DTEND;TZID=Europe/Berlin:20260210T193000
UID:GU38728-20260210T180000@VHSMETZINGEN
SUMMARY:Fit durch den Winter: Winterlauf-Training (GU38728) 
LOCATION:Ösch-Sportzentrum, Parkplatz, Noyon-Allee 6, 72555 Metzingen
END:VEVENT
BEGIN:VEVENT
DTSTAMP:20260421T121208
DTSTART;TZID=Europe/Berlin:20260217T180000
DTEND;TZID=Europe/Berlin:20260217T193000
UID:GU38728-20260217T180000@VHSMETZINGEN
SUMMARY:Fit durch den Winter: Winterlauf-Training (GU38728) 
LOCATION:Ösch-Sportzentrum, Parkplatz, Noyon-Allee 6, 72555 Metzingen
END:VEVENT
BEGIN:VEVENT
DTSTAMP:20260421T121208
DTSTART;TZID=Europe/Berlin:20260224T180000
DTEND;TZID=Europe/Berlin:20260224T193000
UID:GU38728-20260224T180000@VHSMETZINGEN
SUMMARY:Fit durch den Winter: Winterlauf-Training (GU38728) 
LOCATION:Ösch-Sportzentrum, Parkplatz, Noyon-Allee 6, 72555 Metzingen
END:VEVENT
BEGIN:VEVENT
DTSTAMP:20260421T121208
DTSTART;TZID=Europe/Berlin:20260310T180000
DTEND;TZID=Europe/Berlin:20260310T193000
UID:GU38728-20260310T180000@VHSMETZINGEN
SUMMARY:Fit durch den Winter: Winterlauf-Training (GU38728) 
LOCATION:Ösch-Sportzentrum, Parkplatz, Noyon-Allee 6, 72555 Metzingen
END:VEVENT
END:VCALENDAR