BEGIN:VCALENDAR
VERSION:2.0
PRODID:http://www.kufer.de/kuferweb / DE
METHOD:PUBLISH
CALSCALE:GREGORIAN
X-WR-TIMEZONE:Europe/Berlin
BEGIN:VTIMEZONE
TZID:Europe/Berlin
X-LIC-LOCATION:Europe/Berlin
BEGIN:DAYLIGHT
TZOFFSETFROM:+0100
TZOFFSETTO:+0200
TZNAME:CEST
DTSTART;TZID=Europe/Berlin:19700329T020000
RRULE:FREQ=YEARLY;INTERVAL=1;BYDAY=-1SU;BYMONTH=3
END:DAYLIGHT
BEGIN:STANDARD
TZOFFSETFROM:+0200
TZOFFSETTO:+0100
TZNAME:CET
DTSTART;TZID=Europe/Berlin:19701025T030000
RRULE:FREQ=YEARLY;INTERVAL=1;BYDAY=-1SU;BYMONTH=10
END:STANDARD
END:VTIMEZONE
BEGIN:VEVENT
DTSTAMP:20260420T114447
DTSTART;TZID=Europe/Berlin:20250916T183000
DTEND;TZID=Europe/Berlin:20250916T193000
UID:GU38719-20250916T183000@VHSMETZINGEN
SUMMARY:Indoor-Cycling: Ausdauertraining auf dem Standrad für Menschen 50+ (GU38719) 
LOCATION:Ösch-Sportzentrum, Gymnastikraum, Noyonallee 20, 72555 Metzingen
END:VEVENT
BEGIN:VEVENT
DTSTAMP:20260420T114447
DTSTART;TZID=Europe/Berlin:20250923T183000
DTEND;TZID=Europe/Berlin:20250923T193000
UID:GU38719-20250923T183000@VHSMETZINGEN
SUMMARY:Indoor-Cycling: Ausdauertraining auf dem Standrad für Menschen 50+ (GU38719) 
LOCATION:Ösch-Sportzentrum, Gymnastikraum, Noyonallee 20, 72555 Metzingen
END:VEVENT
BEGIN:VEVENT
DTSTAMP:20260420T114447
DTSTART;TZID=Europe/Berlin:20250930T183000
DTEND;TZID=Europe/Berlin:20250930T193000
UID:GU38719-20250930T183000@VHSMETZINGEN
SUMMARY:Indoor-Cycling: Ausdauertraining auf dem Standrad für Menschen 50+ (GU38719) 
LOCATION:Ösch-Sportzentrum, Gymnastikraum, Noyonallee 20, 72555 Metzingen
END:VEVENT
BEGIN:VEVENT
DTSTAMP:20260420T114447
DTSTART;TZID=Europe/Berlin:20251007T183000
DTEND;TZID=Europe/Berlin:20251007T193000
UID:GU38719-20251007T183000@VHSMETZINGEN
SUMMARY:Indoor-Cycling: Ausdauertraining auf dem Standrad für Menschen 50+ (GU38719) 
LOCATION:Ösch-Sportzentrum, Gymnastikraum, Noyonallee 20, 72555 Metzingen
END:VEVENT
BEGIN:VEVENT
DTSTAMP:20260420T114447
DTSTART;TZID=Europe/Berlin:20251014T183000
DTEND;TZID=Europe/Berlin:20251014T193000
UID:GU38719-20251014T183000@VHSMETZINGEN
SUMMARY:Indoor-Cycling: Ausdauertraining auf dem Standrad für Menschen 50+ (GU38719) 
LOCATION:Ösch-Sportzentrum, Gymnastikraum, Noyonallee 20, 72555 Metzingen
END:VEVENT
BEGIN:VEVENT
DTSTAMP:20260420T114447
DTSTART;TZID=Europe/Berlin:20251021T183000
DTEND;TZID=Europe/Berlin:20251021T193000
UID:GU38719-20251021T183000@VHSMETZINGEN
SUMMARY:Indoor-Cycling: Ausdauertraining auf dem Standrad für Menschen 50+ (GU38719) 
LOCATION:Ösch-Sportzentrum, Gymnastikraum, Noyonallee 20, 72555 Metzingen
END:VEVENT
BEGIN:VEVENT
DTSTAMP:20260420T114447
DTSTART;TZID=Europe/Berlin:20251104T183000
DTEND;TZID=Europe/Berlin:20251104T193000
UID:GU38719-20251104T183000@VHSMETZINGEN
SUMMARY:Indoor-Cycling: Ausdauertraining auf dem Standrad für Menschen 50+ (GU38719) 
LOCATION:Ösch-Sportzentrum, Gymnastikraum, Noyonallee 20, 72555 Metzingen
END:VEVENT
BEGIN:VEVENT
DTSTAMP:20260420T114447
DTSTART;TZID=Europe/Berlin:20251111T183000
DTEND;TZID=Europe/Berlin:20251111T193000
UID:GU38719-20251111T183000@VHSMETZINGEN
SUMMARY:Indoor-Cycling: Ausdauertraining auf dem Standrad für Menschen 50+ (GU38719) 
LOCATION:Ösch-Sportzentrum, Gymnastikraum, Noyonallee 20, 72555 Metzingen
END:VEVENT
BEGIN:VEVENT
DTSTAMP:20260420T114447
DTSTART;TZID=Europe/Berlin:20251118T183000
DTEND;TZID=Europe/Berlin:20251118T193000
UID:GU38719-20251118T183000@VHSMETZINGEN
SUMMARY:Indoor-Cycling: Ausdauertraining auf dem Standrad für Menschen 50+ (GU38719) 
LOCATION:Ösch-Sportzentrum, Gymnastikraum, Noyonallee 20, 72555 Metzingen
END:VEVENT
BEGIN:VEVENT
DTSTAMP:20260420T114447
DTSTART;TZID=Europe/Berlin:20251125T183000
DTEND;TZID=Europe/Berlin:20251125T193000
UID:GU38719-20251125T183000@VHSMETZINGEN
SUMMARY:Indoor-Cycling: Ausdauertraining auf dem Standrad für Menschen 50+ (GU38719) 
LOCATION:Ösch-Sportzentrum, Gymnastikraum, Noyonallee 20, 72555 Metzingen
END:VEVENT
BEGIN:VEVENT
DTSTAMP:20260420T114447
DTSTART;TZID=Europe/Berlin:20251202T183000
DTEND;TZID=Europe/Berlin:20251202T193000
UID:GU38719-20251202T183000@VHSMETZINGEN
SUMMARY:Indoor-Cycling: Ausdauertraining auf dem Standrad für Menschen 50+ (GU38719) 
LOCATION:Ösch-Sportzentrum, Gymnastikraum, Noyonallee 20, 72555 Metzingen
END:VEVENT
BEGIN:VEVENT
DTSTAMP:20260420T114447
DTSTART;TZID=Europe/Berlin:20251209T183000
DTEND;TZID=Europe/Berlin:20251209T193000
UID:GU38719-20251209T183000@VHSMETZINGEN
SUMMARY:Indoor-Cycling: Ausdauertraining auf dem Standrad für Menschen 50+ (GU38719) 
LOCATION:Ösch-Sportzentrum, Gymnastikraum, Noyonallee 20, 72555 Metzingen
END:VEVENT
BEGIN:VEVENT
DTSTAMP:20260420T114447
DTSTART;TZID=Europe/Berlin:20251216T183000
DTEND;TZID=Europe/Berlin:20251216T193000
UID:GU38719-20251216T183000@VHSMETZINGEN
SUMMARY:Indoor-Cycling: Ausdauertraining auf dem Standrad für Menschen 50+ (GU38719) 
LOCATION:Ösch-Sportzentrum, Gymnastikraum, Noyonallee 20, 72555 Metzingen
END:VEVENT
BEGIN:VEVENT
DTSTAMP:20260420T114447
DTSTART;TZID=Europe/Berlin:20260113T183000
DTEND;TZID=Europe/Berlin:20260113T193000
UID:GU38719-20260113T183000@VHSMETZINGEN
SUMMARY:Indoor-Cycling: Ausdauertraining auf dem Standrad für Menschen 50+ (GU38719) 
LOCATION:Ösch-Sportzentrum, Gymnastikraum, Noyonallee 20, 72555 Metzingen
END:VEVENT
BEGIN:VEVENT
DTSTAMP:20260420T114447
DTSTART;TZID=Europe/Berlin:20260120T183000
DTEND;TZID=Europe/Berlin:20260120T193000
UID:GU38719-20260120T183000@VHSMETZINGEN
SUMMARY:Indoor-Cycling: Ausdauertraining auf dem Standrad für Menschen 50+ (GU38719) 
LOCATION:Ösch-Sportzentrum, Gymnastikraum, Noyonallee 20, 72555 Metzingen
END:VEVENT
BEGIN:VEVENT
DTSTAMP:20260420T114447
DTSTART;TZID=Europe/Berlin:20260127T183000
DTEND;TZID=Europe/Berlin:20260127T193000
UID:GU38719-20260127T183000@VHSMETZINGEN
SUMMARY:Indoor-Cycling: Ausdauertraining auf dem Standrad für Menschen 50+ (GU38719) 
LOCATION:Ösch-Sportzentrum, Gymnastikraum, Noyonallee 20, 72555 Metzingen
END:VEVENT
END:VCALENDAR