BEGIN:VCALENDAR
VERSION:2.0
PRODID:http://www.kufer.de/kuferweb / DE
METHOD:PUBLISH
CALSCALE:GREGORIAN
X-WR-TIMEZONE:Europe/Berlin
BEGIN:VTIMEZONE
TZID:Europe/Berlin
X-LIC-LOCATION:Europe/Berlin
BEGIN:DAYLIGHT
TZOFFSETFROM:+0100
TZOFFSETTO:+0200
TZNAME:CEST
DTSTART;TZID=Europe/Berlin:19700329T020000
RRULE:FREQ=YEARLY;INTERVAL=1;BYDAY=-1SU;BYMONTH=3
END:DAYLIGHT
BEGIN:STANDARD
TZOFFSETFROM:+0200
TZOFFSETTO:+0100
TZNAME:CET
DTSTART;TZID=Europe/Berlin:19701025T030000
RRULE:FREQ=YEARLY;INTERVAL=1;BYDAY=-1SU;BYMONTH=10
END:STANDARD
END:VTIMEZONE
BEGIN:VEVENT
DTSTAMP:20260420T171224
DTSTART;TZID=Europe/Berlin:20250917T090000
DTEND;TZID=Europe/Berlin:20250917T100000
UID:GU38712-20250917T090000@VHSMETZINGEN
SUMMARY:Indoor-Cycling: Ausdauertraining auf dem Standrad (GU38712) 
LOCATION:Ösch-Sportzentrum, Gymnastikraum, Noyonallee 20, 72555 Metzingen
END:VEVENT
BEGIN:VEVENT
DTSTAMP:20260420T171224
DTSTART;TZID=Europe/Berlin:20250924T090000
DTEND;TZID=Europe/Berlin:20250924T100000
UID:GU38712-20250924T090000@VHSMETZINGEN
SUMMARY:Indoor-Cycling: Ausdauertraining auf dem Standrad (GU38712) 
LOCATION:Ösch-Sportzentrum, Gymnastikraum, Noyonallee 20, 72555 Metzingen
END:VEVENT
BEGIN:VEVENT
DTSTAMP:20260420T171224
DTSTART;TZID=Europe/Berlin:20251001T090000
DTEND;TZID=Europe/Berlin:20251001T100000
UID:GU38712-20251001T090000@VHSMETZINGEN
SUMMARY:Indoor-Cycling: Ausdauertraining auf dem Standrad (GU38712) 
LOCATION:Ösch-Sportzentrum, Gymnastikraum, Noyonallee 20, 72555 Metzingen
END:VEVENT
BEGIN:VEVENT
DTSTAMP:20260420T171224
DTSTART;TZID=Europe/Berlin:20251008T090000
DTEND;TZID=Europe/Berlin:20251008T100000
UID:GU38712-20251008T090000@VHSMETZINGEN
SUMMARY:Indoor-Cycling: Ausdauertraining auf dem Standrad (GU38712) 
LOCATION:Ösch-Sportzentrum, Gymnastikraum, Noyonallee 20, 72555 Metzingen
END:VEVENT
BEGIN:VEVENT
DTSTAMP:20260420T171224
DTSTART;TZID=Europe/Berlin:20251015T090000
DTEND;TZID=Europe/Berlin:20251015T100000
UID:GU38712-20251015T090000@VHSMETZINGEN
SUMMARY:Indoor-Cycling: Ausdauertraining auf dem Standrad (GU38712) 
LOCATION:Ösch-Sportzentrum, Gymnastikraum, Noyonallee 20, 72555 Metzingen
END:VEVENT
BEGIN:VEVENT
DTSTAMP:20260420T171224
DTSTART;TZID=Europe/Berlin:20251022T090000
DTEND;TZID=Europe/Berlin:20251022T100000
UID:GU38712-20251022T090000@VHSMETZINGEN
SUMMARY:Indoor-Cycling: Ausdauertraining auf dem Standrad (GU38712) 
LOCATION:Ösch-Sportzentrum, Gymnastikraum, Noyonallee 20, 72555 Metzingen
END:VEVENT
BEGIN:VEVENT
DTSTAMP:20260420T171224
DTSTART;TZID=Europe/Berlin:20251105T090000
DTEND;TZID=Europe/Berlin:20251105T100000
UID:GU38712-20251105T090000@VHSMETZINGEN
SUMMARY:Indoor-Cycling: Ausdauertraining auf dem Standrad (GU38712) 
LOCATION:Ösch-Sportzentrum, Gymnastikraum, Noyonallee 20, 72555 Metzingen
END:VEVENT
BEGIN:VEVENT
DTSTAMP:20260420T171224
DTSTART;TZID=Europe/Berlin:20251112T090000
DTEND;TZID=Europe/Berlin:20251112T100000
UID:GU38712-20251112T090000@VHSMETZINGEN
SUMMARY:Indoor-Cycling: Ausdauertraining auf dem Standrad (GU38712) 
LOCATION:Ösch-Sportzentrum, Gymnastikraum, Noyonallee 20, 72555 Metzingen
END:VEVENT
BEGIN:VEVENT
DTSTAMP:20260420T171224
DTSTART;TZID=Europe/Berlin:20251119T090000
DTEND;TZID=Europe/Berlin:20251119T100000
UID:GU38712-20251119T090000@VHSMETZINGEN
SUMMARY:Indoor-Cycling: Ausdauertraining auf dem Standrad (GU38712) 
LOCATION:Ösch-Sportzentrum, Gymnastikraum, Noyonallee 20, 72555 Metzingen
END:VEVENT
BEGIN:VEVENT
DTSTAMP:20260420T171224
DTSTART;TZID=Europe/Berlin:20251126T090000
DTEND;TZID=Europe/Berlin:20251126T100000
UID:GU38712-20251126T090000@VHSMETZINGEN
SUMMARY:Indoor-Cycling: Ausdauertraining auf dem Standrad (GU38712) 
LOCATION:Ösch-Sportzentrum, Gymnastikraum, Noyonallee 20, 72555 Metzingen
END:VEVENT
BEGIN:VEVENT
DTSTAMP:20260420T171224
DTSTART;TZID=Europe/Berlin:20251203T090000
DTEND;TZID=Europe/Berlin:20251203T100000
UID:GU38712-20251203T090000@VHSMETZINGEN
SUMMARY:Indoor-Cycling: Ausdauertraining auf dem Standrad (GU38712) 
LOCATION:Ösch-Sportzentrum, Gymnastikraum, Noyonallee 20, 72555 Metzingen
END:VEVENT
BEGIN:VEVENT
DTSTAMP:20260420T171224
DTSTART;TZID=Europe/Berlin:20251210T090000
DTEND;TZID=Europe/Berlin:20251210T100000
UID:GU38712-20251210T090000@VHSMETZINGEN
SUMMARY:Indoor-Cycling: Ausdauertraining auf dem Standrad (GU38712) 
LOCATION:Ösch-Sportzentrum, Gymnastikraum, Noyonallee 20, 72555 Metzingen
END:VEVENT
BEGIN:VEVENT
DTSTAMP:20260420T171224
DTSTART;TZID=Europe/Berlin:20251217T090000
DTEND;TZID=Europe/Berlin:20251217T100000
UID:GU38712-20251217T090000@VHSMETZINGEN
SUMMARY:Indoor-Cycling: Ausdauertraining auf dem Standrad (GU38712) 
LOCATION:Ösch-Sportzentrum, Gymnastikraum, Noyonallee 20, 72555 Metzingen
END:VEVENT
BEGIN:VEVENT
DTSTAMP:20260420T171224
DTSTART;TZID=Europe/Berlin:20260107T090000
DTEND;TZID=Europe/Berlin:20260107T100000
UID:GU38712-20260107T090000@VHSMETZINGEN
SUMMARY:Indoor-Cycling: Ausdauertraining auf dem Standrad (GU38712) 
LOCATION:Ösch-Sportzentrum, Gymnastikraum, Noyonallee 20, 72555 Metzingen
END:VEVENT
BEGIN:VEVENT
DTSTAMP:20260420T171224
DTSTART;TZID=Europe/Berlin:20260114T090000
DTEND;TZID=Europe/Berlin:20260114T100000
UID:GU38712-20260114T090000@VHSMETZINGEN
SUMMARY:Indoor-Cycling: Ausdauertraining auf dem Standrad (GU38712) 
LOCATION:Ösch-Sportzentrum, Gymnastikraum, Noyonallee 20, 72555 Metzingen
END:VEVENT
BEGIN:VEVENT
DTSTAMP:20260420T171224
DTSTART;TZID=Europe/Berlin:20260121T090000
DTEND;TZID=Europe/Berlin:20260121T100000
UID:GU38712-20260121T090000@VHSMETZINGEN
SUMMARY:Indoor-Cycling: Ausdauertraining auf dem Standrad (GU38712) 
LOCATION:Ösch-Sportzentrum, Gymnastikraum, Noyonallee 20, 72555 Metzingen
END:VEVENT
END:VCALENDAR