BEGIN:VCALENDAR
VERSION:2.0
PRODID:http://www.kufer.de/kuferweb / DE
METHOD:PUBLISH
CALSCALE:GREGORIAN
X-WR-TIMEZONE:Europe/Berlin
BEGIN:VTIMEZONE
TZID:Europe/Berlin
X-LIC-LOCATION:Europe/Berlin
BEGIN:DAYLIGHT
TZOFFSETFROM:+0100
TZOFFSETTO:+0200
TZNAME:CEST
DTSTART;TZID=Europe/Berlin:19700329T020000
RRULE:FREQ=YEARLY;INTERVAL=1;BYDAY=-1SU;BYMONTH=3
END:DAYLIGHT
BEGIN:STANDARD
TZOFFSETFROM:+0200
TZOFFSETTO:+0100
TZNAME:CET
DTSTART;TZID=Europe/Berlin:19701025T030000
RRULE:FREQ=YEARLY;INTERVAL=1;BYDAY=-1SU;BYMONTH=10
END:STANDARD
END:VTIMEZONE
BEGIN:VEVENT
DTSTAMP:20260419T110752
DTSTART;TZID=Europe/Berlin:20250915T163000
DTEND;TZID=Europe/Berlin:20250915T173000
UID:GU38614-20250915T163000@VHSMETZINGEN
SUMMARY:Fitness-Mix (GU38614) 
LOCATION:Ösch-Sportzentrum, Gymnastikraum, Noyonallee 20, 72555 Metzingen
END:VEVENT
BEGIN:VEVENT
DTSTAMP:20260419T110752
DTSTART;TZID=Europe/Berlin:20250922T163000
DTEND;TZID=Europe/Berlin:20250922T173000
UID:GU38614-20250922T163000@VHSMETZINGEN
SUMMARY:Fitness-Mix (GU38614) 
LOCATION:Ösch-Sportzentrum, Gymnastikraum, Noyonallee 20, 72555 Metzingen
END:VEVENT
BEGIN:VEVENT
DTSTAMP:20260419T110752
DTSTART;TZID=Europe/Berlin:20250929T163000
DTEND;TZID=Europe/Berlin:20250929T173000
UID:GU38614-20250929T163000@VHSMETZINGEN
SUMMARY:Fitness-Mix (GU38614) 
LOCATION:Ösch-Sportzentrum, Gymnastikraum, Noyonallee 20, 72555 Metzingen
END:VEVENT
BEGIN:VEVENT
DTSTAMP:20260419T110752
DTSTART;TZID=Europe/Berlin:20251006T163000
DTEND;TZID=Europe/Berlin:20251006T173000
UID:GU38614-20251006T163000@VHSMETZINGEN
SUMMARY:Fitness-Mix (GU38614) 
LOCATION:Ösch-Sportzentrum, Gymnastikraum, Noyonallee 20, 72555 Metzingen
END:VEVENT
BEGIN:VEVENT
DTSTAMP:20260419T110752
DTSTART;TZID=Europe/Berlin:20251013T163000
DTEND;TZID=Europe/Berlin:20251013T173000
UID:GU38614-20251013T163000@VHSMETZINGEN
SUMMARY:Fitness-Mix (GU38614) 
LOCATION:Ösch-Sportzentrum, Gymnastikraum, Noyonallee 20, 72555 Metzingen
END:VEVENT
BEGIN:VEVENT
DTSTAMP:20260419T110752
DTSTART;TZID=Europe/Berlin:20251020T163000
DTEND;TZID=Europe/Berlin:20251020T173000
UID:GU38614-20251020T163000@VHSMETZINGEN
SUMMARY:Fitness-Mix (GU38614) 
LOCATION:Ösch-Sportzentrum, Gymnastikraum, Noyonallee 20, 72555 Metzingen
END:VEVENT
BEGIN:VEVENT
DTSTAMP:20260419T110752
DTSTART;TZID=Europe/Berlin:20251103T163000
DTEND;TZID=Europe/Berlin:20251103T173000
UID:GU38614-20251103T163000@VHSMETZINGEN
SUMMARY:Fitness-Mix (GU38614) 
LOCATION:Ösch-Sportzentrum, Gymnastikraum, Noyonallee 20, 72555 Metzingen
END:VEVENT
BEGIN:VEVENT
DTSTAMP:20260419T110752
DTSTART;TZID=Europe/Berlin:20251110T163000
DTEND;TZID=Europe/Berlin:20251110T173000
UID:GU38614-20251110T163000@VHSMETZINGEN
SUMMARY:Fitness-Mix (GU38614) 
LOCATION:Ösch-Sportzentrum, Gymnastikraum, Noyonallee 20, 72555 Metzingen
END:VEVENT
BEGIN:VEVENT
DTSTAMP:20260419T110752
DTSTART;TZID=Europe/Berlin:20251117T163000
DTEND;TZID=Europe/Berlin:20251117T173000
UID:GU38614-20251117T163000@VHSMETZINGEN
SUMMARY:Fitness-Mix (GU38614) 
LOCATION:Ösch-Sportzentrum, Gymnastikraum, Noyonallee 20, 72555 Metzingen
END:VEVENT
BEGIN:VEVENT
DTSTAMP:20260419T110752
DTSTART;TZID=Europe/Berlin:20251124T163000
DTEND;TZID=Europe/Berlin:20251124T173000
UID:GU38614-20251124T163000@VHSMETZINGEN
SUMMARY:Fitness-Mix (GU38614) 
LOCATION:Ösch-Sportzentrum, Gymnastikraum, Noyonallee 20, 72555 Metzingen
END:VEVENT
BEGIN:VEVENT
DTSTAMP:20260419T110752
DTSTART;TZID=Europe/Berlin:20251201T163000
DTEND;TZID=Europe/Berlin:20251201T173000
UID:GU38614-20251201T163000@VHSMETZINGEN
SUMMARY:Fitness-Mix (GU38614) 
LOCATION:Ösch-Sportzentrum, Gymnastikraum, Noyonallee 20, 72555 Metzingen
END:VEVENT
BEGIN:VEVENT
DTSTAMP:20260419T110752
DTSTART;TZID=Europe/Berlin:20251208T163000
DTEND;TZID=Europe/Berlin:20251208T173000
UID:GU38614-20251208T163000@VHSMETZINGEN
SUMMARY:Fitness-Mix (GU38614) 
LOCATION:Ösch-Sportzentrum, Gymnastikraum, Noyonallee 20, 72555 Metzingen
END:VEVENT
BEGIN:VEVENT
DTSTAMP:20260419T110752
DTSTART;TZID=Europe/Berlin:20251215T163000
DTEND;TZID=Europe/Berlin:20251215T173000
UID:GU38614-20251215T163000@VHSMETZINGEN
SUMMARY:Fitness-Mix (GU38614) 
LOCATION:Ösch-Sportzentrum, Gymnastikraum, Noyonallee 20, 72555 Metzingen
END:VEVENT
BEGIN:VEVENT
DTSTAMP:20260419T110752
DTSTART;TZID=Europe/Berlin:20260112T163000
DTEND;TZID=Europe/Berlin:20260112T173000
UID:GU38614-20260112T163000@VHSMETZINGEN
SUMMARY:Fitness-Mix (GU38614) 
LOCATION:Ösch-Sportzentrum, Gymnastikraum, Noyonallee 20, 72555 Metzingen
END:VEVENT
BEGIN:VEVENT
DTSTAMP:20260419T110752
DTSTART;TZID=Europe/Berlin:20260119T163000
DTEND;TZID=Europe/Berlin:20260119T173000
UID:GU38614-20260119T163000@VHSMETZINGEN
SUMMARY:Fitness-Mix (GU38614) 
LOCATION:Ösch-Sportzentrum, Gymnastikraum, Noyonallee 20, 72555 Metzingen
END:VEVENT
BEGIN:VEVENT
DTSTAMP:20260419T110752
DTSTART;TZID=Europe/Berlin:20260126T163000
DTEND;TZID=Europe/Berlin:20260126T173000
UID:GU38614-20260126T163000@VHSMETZINGEN
SUMMARY:Fitness-Mix (GU38614) 
LOCATION:Ösch-Sportzentrum, Gymnastikraum, Noyonallee 20, 72555 Metzingen
END:VEVENT
END:VCALENDAR