BEGIN:VCALENDAR
VERSION:2.0
PRODID:http://www.kufer.de/kuferweb / DE
METHOD:PUBLISH
CALSCALE:GREGORIAN
X-WR-TIMEZONE:Europe/Berlin
BEGIN:VTIMEZONE
TZID:Europe/Berlin
X-LIC-LOCATION:Europe/Berlin
BEGIN:DAYLIGHT
TZOFFSETFROM:+0100
TZOFFSETTO:+0200
TZNAME:CEST
DTSTART;TZID=Europe/Berlin:19700329T020000
RRULE:FREQ=YEARLY;INTERVAL=1;BYDAY=-1SU;BYMONTH=3
END:DAYLIGHT
BEGIN:STANDARD
TZOFFSETFROM:+0200
TZOFFSETTO:+0100
TZNAME:CET
DTSTART;TZID=Europe/Berlin:19701025T030000
RRULE:FREQ=YEARLY;INTERVAL=1;BYDAY=-1SU;BYMONTH=10
END:STANDARD
END:VTIMEZONE
BEGIN:VEVENT
DTSTAMP:20260421T103651
DTSTART;TZID=Europe/Berlin:20250915T180000
DTEND;TZID=Europe/Berlin:20250915T190000
UID:GU38101-20250915T180000@VHSMETZINGEN
SUMMARY:Qi Gong / Tai Ji (GU38101) 
LOCATION:7-Keltern-Schule, Turnhalle, , 72555 Metzingen
END:VEVENT
BEGIN:VEVENT
DTSTAMP:20260421T103651
DTSTART;TZID=Europe/Berlin:20250929T180000
DTEND;TZID=Europe/Berlin:20250929T190000
UID:GU38101-20250929T180000@VHSMETZINGEN
SUMMARY:Qi Gong / Tai Ji (GU38101) 
LOCATION:7-Keltern-Schule, Turnhalle, , 72555 Metzingen
END:VEVENT
BEGIN:VEVENT
DTSTAMP:20260421T103651
DTSTART;TZID=Europe/Berlin:20251006T180000
DTEND;TZID=Europe/Berlin:20251006T190000
UID:GU38101-20251006T180000@VHSMETZINGEN
SUMMARY:Qi Gong / Tai Ji (GU38101) 
LOCATION:7-Keltern-Schule, Turnhalle, , 72555 Metzingen
END:VEVENT
BEGIN:VEVENT
DTSTAMP:20260421T103651
DTSTART;TZID=Europe/Berlin:20251013T180000
DTEND;TZID=Europe/Berlin:20251013T190000
UID:GU38101-20251013T180000@VHSMETZINGEN
SUMMARY:Qi Gong / Tai Ji (GU38101) 
LOCATION:7-Keltern-Schule, Turnhalle, , 72555 Metzingen
END:VEVENT
BEGIN:VEVENT
DTSTAMP:20260421T103651
DTSTART;TZID=Europe/Berlin:20251110T180000
DTEND;TZID=Europe/Berlin:20251110T190000
UID:GU38101-20251110T180000@VHSMETZINGEN
SUMMARY:Qi Gong / Tai Ji (GU38101) 
LOCATION:7-Keltern-Schule, Turnhalle, , 72555 Metzingen
END:VEVENT
BEGIN:VEVENT
DTSTAMP:20260421T103651
DTSTART;TZID=Europe/Berlin:20251117T180000
DTEND;TZID=Europe/Berlin:20251117T190000
UID:GU38101-20251117T180000@VHSMETZINGEN
SUMMARY:Qi Gong / Tai Ji (GU38101) 
LOCATION:7-Keltern-Schule, Turnhalle, , 72555 Metzingen
END:VEVENT
BEGIN:VEVENT
DTSTAMP:20260421T103651
DTSTART;TZID=Europe/Berlin:20251124T180000
DTEND;TZID=Europe/Berlin:20251124T190000
UID:GU38101-20251124T180000@VHSMETZINGEN
SUMMARY:Qi Gong / Tai Ji (GU38101) 
LOCATION:7-Keltern-Schule, Turnhalle, , 72555 Metzingen
END:VEVENT
BEGIN:VEVENT
DTSTAMP:20260421T103651
DTSTART;TZID=Europe/Berlin:20251201T180000
DTEND;TZID=Europe/Berlin:20251201T190000
UID:GU38101-20251201T180000@VHSMETZINGEN
SUMMARY:Qi Gong / Tai Ji (GU38101) 
LOCATION:7-Keltern-Schule, Turnhalle, , 72555 Metzingen
END:VEVENT
BEGIN:VEVENT
DTSTAMP:20260421T103651
DTSTART;TZID=Europe/Berlin:20251208T180000
DTEND;TZID=Europe/Berlin:20251208T190000
UID:GU38101-20251208T180000@VHSMETZINGEN
SUMMARY:Qi Gong / Tai Ji (GU38101) 
LOCATION:7-Keltern-Schule, Turnhalle, , 72555 Metzingen
END:VEVENT
BEGIN:VEVENT
DTSTAMP:20260421T103651
DTSTART;TZID=Europe/Berlin:20251215T180000
DTEND;TZID=Europe/Berlin:20251215T190000
UID:GU38101-20251215T180000@VHSMETZINGEN
DESCRIPTION:Ersatz für Ausfall am 22.09.2025
SUMMARY:Qi Gong / Tai Ji (GU38101) 
LOCATION:7-Keltern-Schule, Turnhalle, , 72555 Metzingen
END:VEVENT
BEGIN:VEVENT
DTSTAMP:20260421T103651
DTSTART;TZID=Europe/Berlin:20260112T180000
DTEND;TZID=Europe/Berlin:20260112T190000
UID:GU38101-20260112T180000@VHSMETZINGEN
DESCRIPTION:Ersatz für Ausfall am 20.10.2025
SUMMARY:Qi Gong / Tai Ji (GU38101) 
LOCATION:7-Keltern-Schule, Turnhalle, , 72555 Metzingen
END:VEVENT
BEGIN:VEVENT
DTSTAMP:20260421T103651
DTSTART;TZID=Europe/Berlin:20260119T180000
DTEND;TZID=Europe/Berlin:20260119T190000
UID:GU38101-20260119T180000@VHSMETZINGEN
DESCRIPTION:Ersatz für Ausfall am 03.11.2025
SUMMARY:Qi Gong / Tai Ji (GU38101) 
LOCATION:7-Keltern-Schule, Turnhalle, , 72555 Metzingen
END:VEVENT
END:VCALENDAR