BEGIN:VCALENDAR
VERSION:2.0
PRODID:http://www.kufer.de/kuferweb / DE
METHOD:PUBLISH
CALSCALE:GREGORIAN
X-WR-TIMEZONE:Europe/Berlin
BEGIN:VTIMEZONE
TZID:Europe/Berlin
X-LIC-LOCATION:Europe/Berlin
BEGIN:DAYLIGHT
TZOFFSETFROM:+0100
TZOFFSETTO:+0200
TZNAME:CEST
DTSTART;TZID=Europe/Berlin:19700329T020000
RRULE:FREQ=YEARLY;INTERVAL=1;BYDAY=-1SU;BYMONTH=3
END:DAYLIGHT
BEGIN:STANDARD
TZOFFSETFROM:+0200
TZOFFSETTO:+0100
TZNAME:CET
DTSTART;TZID=Europe/Berlin:19701025T030000
RRULE:FREQ=YEARLY;INTERVAL=1;BYDAY=-1SU;BYMONTH=10
END:STANDARD
END:VTIMEZONE
BEGIN:VEVENT
DTSTAMP:20260419T165109
DTSTART;TZID=Europe/Berlin:20250922T194500
DTEND;TZID=Europe/Berlin:20250922T211500
UID:GM40907-20250922T194500@VHSMETZINGEN
SUMMARY:Italienisch (B1) Grundstufe 8 (GM40907) 
LOCATION:Haus der VHS, Raum Sprandel, Innere Heerstr. 6, 72555 Metzingen
END:VEVENT
BEGIN:VEVENT
DTSTAMP:20260419T165109
DTSTART;TZID=Europe/Berlin:20251006T194500
DTEND;TZID=Europe/Berlin:20251006T211500
UID:GM40907-20251006T194500@VHSMETZINGEN
SUMMARY:Italienisch (B1) Grundstufe 8 (GM40907) 
LOCATION:Haus der VHS, Raum Sprandel, Innere Heerstr. 6, 72555 Metzingen
END:VEVENT
BEGIN:VEVENT
DTSTAMP:20260419T165109
DTSTART;TZID=Europe/Berlin:20251013T194500
DTEND;TZID=Europe/Berlin:20251013T211500
UID:GM40907-20251013T194500@VHSMETZINGEN
SUMMARY:Italienisch (B1) Grundstufe 8 (GM40907) 
LOCATION:Haus der VHS, Raum Sprandel, Innere Heerstr. 6, 72555 Metzingen
END:VEVENT
BEGIN:VEVENT
DTSTAMP:20260419T165109
DTSTART;TZID=Europe/Berlin:20251020T194500
DTEND;TZID=Europe/Berlin:20251020T211500
UID:GM40907-20251020T194500@VHSMETZINGEN
SUMMARY:Italienisch (B1) Grundstufe 8 (GM40907) 
LOCATION:Haus der VHS, Raum Sprandel, Innere Heerstr. 6, 72555 Metzingen
END:VEVENT
BEGIN:VEVENT
DTSTAMP:20260419T165109
DTSTART;TZID=Europe/Berlin:20251103T194500
DTEND;TZID=Europe/Berlin:20251103T211500
UID:GM40907-20251103T194500@VHSMETZINGEN
SUMMARY:Italienisch (B1) Grundstufe 8 (GM40907) 
LOCATION:Haus der VHS, Raum Sprandel, Innere Heerstr. 6, 72555 Metzingen
END:VEVENT
BEGIN:VEVENT
DTSTAMP:20260419T165109
DTSTART;TZID=Europe/Berlin:20251110T194500
DTEND;TZID=Europe/Berlin:20251110T211500
UID:GM40907-20251110T194500@VHSMETZINGEN
SUMMARY:Italienisch (B1) Grundstufe 8 (GM40907) 
LOCATION:Haus der VHS, Raum Sprandel, Innere Heerstr. 6, 72555 Metzingen
END:VEVENT
BEGIN:VEVENT
DTSTAMP:20260419T165109
DTSTART;TZID=Europe/Berlin:20251117T194500
DTEND;TZID=Europe/Berlin:20251117T211500
UID:GM40907-20251117T194500@VHSMETZINGEN
SUMMARY:Italienisch (B1) Grundstufe 8 (GM40907) 
LOCATION:Haus der VHS, Raum Sprandel, Innere Heerstr. 6, 72555 Metzingen
END:VEVENT
BEGIN:VEVENT
DTSTAMP:20260419T165109
DTSTART;TZID=Europe/Berlin:20251124T194500
DTEND;TZID=Europe/Berlin:20251124T211500
UID:GM40907-20251124T194500@VHSMETZINGEN
SUMMARY:Italienisch (B1) Grundstufe 8 (GM40907) 
LOCATION:Haus der VHS, Raum Sprandel, Innere Heerstr. 6, 72555 Metzingen
END:VEVENT
BEGIN:VEVENT
DTSTAMP:20260419T165109
DTSTART;TZID=Europe/Berlin:20251201T194500
DTEND;TZID=Europe/Berlin:20251201T211500
UID:GM40907-20251201T194500@VHSMETZINGEN
SUMMARY:Italienisch (B1) Grundstufe 8 (GM40907) 
LOCATION:Haus der VHS, Raum Sprandel, Innere Heerstr. 6, 72555 Metzingen
END:VEVENT
BEGIN:VEVENT
DTSTAMP:20260419T165109
DTSTART;TZID=Europe/Berlin:20251208T194500
DTEND;TZID=Europe/Berlin:20251208T211500
UID:GM40907-20251208T194500@VHSMETZINGEN
SUMMARY:Italienisch (B1) Grundstufe 8 (GM40907) 
LOCATION:Haus der VHS, Raum Sprandel, Innere Heerstr. 6, 72555 Metzingen
END:VEVENT
BEGIN:VEVENT
DTSTAMP:20260419T165109
DTSTART;TZID=Europe/Berlin:20251215T194500
DTEND;TZID=Europe/Berlin:20251215T211500
UID:GM40907-20251215T194500@VHSMETZINGEN
SUMMARY:Italienisch (B1) Grundstufe 8 (GM40907) 
LOCATION:Haus der VHS, Raum Sprandel, Innere Heerstr. 6, 72555 Metzingen
END:VEVENT
BEGIN:VEVENT
DTSTAMP:20260419T165109
DTSTART;TZID=Europe/Berlin:20260112T194500
DTEND;TZID=Europe/Berlin:20260112T211500
UID:GM40907-20260112T194500@VHSMETZINGEN
SUMMARY:Italienisch (B1) Grundstufe 8 (GM40907) 
LOCATION:Haus der VHS, Raum Sprandel, Innere Heerstr. 6, 72555 Metzingen
END:VEVENT
END:VCALENDAR