BEGIN:VCALENDAR
VERSION:2.0
PRODID:http://www.kufer.de/kuferweb / DE
METHOD:PUBLISH
CALSCALE:GREGORIAN
X-WR-TIMEZONE:Europe/Berlin
BEGIN:VTIMEZONE
TZID:Europe/Berlin
X-LIC-LOCATION:Europe/Berlin
BEGIN:DAYLIGHT
TZOFFSETFROM:+0100
TZOFFSETTO:+0200
TZNAME:CEST
DTSTART;TZID=Europe/Berlin:19700329T020000
RRULE:FREQ=YEARLY;INTERVAL=1;BYDAY=-1SU;BYMONTH=3
END:DAYLIGHT
BEGIN:STANDARD
TZOFFSETFROM:+0200
TZOFFSETTO:+0100
TZNAME:CET
DTSTART;TZID=Europe/Berlin:19701025T030000
RRULE:FREQ=YEARLY;INTERVAL=1;BYDAY=-1SU;BYMONTH=10
END:STANDARD
END:VTIMEZONE
BEGIN:VEVENT
DTSTAMP:20260420T153520
DTSTART;TZID=Europe/Berlin:20250923T194500
DTEND;TZID=Europe/Berlin:20250923T211500
UID:GM40903-20250923T194500@VHSMETZINGEN
SUMMARY:Italienisch mit Spaß (B1) Grundstufe 7 (GM40903) 
LOCATION:Haus der VHS, Raum Sprandel, Innere Heerstr. 6, 72555 Metzingen
END:VEVENT
BEGIN:VEVENT
DTSTAMP:20260420T153520
DTSTART;TZID=Europe/Berlin:20251007T194500
DTEND;TZID=Europe/Berlin:20251007T211500
UID:GM40903-20251007T194500@VHSMETZINGEN
SUMMARY:Italienisch mit Spaß (B1) Grundstufe 7 (GM40903) 
LOCATION:Haus der VHS, Raum Sprandel, Innere Heerstr. 6, 72555 Metzingen
END:VEVENT
BEGIN:VEVENT
DTSTAMP:20260420T153520
DTSTART;TZID=Europe/Berlin:20251014T194500
DTEND;TZID=Europe/Berlin:20251014T211500
UID:GM40903-20251014T194500@VHSMETZINGEN
SUMMARY:Italienisch mit Spaß (B1) Grundstufe 7 (GM40903) 
LOCATION:Haus der VHS, Raum Sprandel, Innere Heerstr. 6, 72555 Metzingen
END:VEVENT
BEGIN:VEVENT
DTSTAMP:20260420T153520
DTSTART;TZID=Europe/Berlin:20251021T194500
DTEND;TZID=Europe/Berlin:20251021T211500
UID:GM40903-20251021T194500@VHSMETZINGEN
SUMMARY:Italienisch mit Spaß (B1) Grundstufe 7 (GM40903) 
LOCATION:Haus der VHS, Raum Sprandel, Innere Heerstr. 6, 72555 Metzingen
END:VEVENT
BEGIN:VEVENT
DTSTAMP:20260420T153520
DTSTART;TZID=Europe/Berlin:20251104T194500
DTEND;TZID=Europe/Berlin:20251104T211500
UID:GM40903-20251104T194500@VHSMETZINGEN
SUMMARY:Italienisch mit Spaß (B1) Grundstufe 7 (GM40903) 
LOCATION:Haus der VHS, Raum Sprandel, Innere Heerstr. 6, 72555 Metzingen
END:VEVENT
BEGIN:VEVENT
DTSTAMP:20260420T153520
DTSTART;TZID=Europe/Berlin:20251111T194500
DTEND;TZID=Europe/Berlin:20251111T211500
UID:GM40903-20251111T194500@VHSMETZINGEN
SUMMARY:Italienisch mit Spaß (B1) Grundstufe 7 (GM40903) 
LOCATION:Haus der VHS, Raum Sprandel, Innere Heerstr. 6, 72555 Metzingen
END:VEVENT
BEGIN:VEVENT
DTSTAMP:20260420T153520
DTSTART;TZID=Europe/Berlin:20251118T194500
DTEND;TZID=Europe/Berlin:20251118T211500
UID:GM40903-20251118T194500@VHSMETZINGEN
SUMMARY:Italienisch mit Spaß (B1) Grundstufe 7 (GM40903) 
LOCATION:Haus der VHS, Raum Sprandel, Innere Heerstr. 6, 72555 Metzingen
END:VEVENT
BEGIN:VEVENT
DTSTAMP:20260420T153520
DTSTART;TZID=Europe/Berlin:20251125T194500
DTEND;TZID=Europe/Berlin:20251125T211500
UID:GM40903-20251125T194500@VHSMETZINGEN
SUMMARY:Italienisch mit Spaß (B1) Grundstufe 7 (GM40903) 
LOCATION:Haus der VHS, Raum Sprandel, Innere Heerstr. 6, 72555 Metzingen
END:VEVENT
BEGIN:VEVENT
DTSTAMP:20260420T153520
DTSTART;TZID=Europe/Berlin:20251202T194500
DTEND;TZID=Europe/Berlin:20251202T211500
UID:GM40903-20251202T194500@VHSMETZINGEN
SUMMARY:Italienisch mit Spaß (B1) Grundstufe 7 (GM40903) 
LOCATION:Haus der VHS, Raum Sprandel, Innere Heerstr. 6, 72555 Metzingen
END:VEVENT
BEGIN:VEVENT
DTSTAMP:20260420T153520
DTSTART;TZID=Europe/Berlin:20251209T194500
DTEND;TZID=Europe/Berlin:20251209T211500
UID:GM40903-20251209T194500@VHSMETZINGEN
SUMMARY:Italienisch mit Spaß (B1) Grundstufe 7 (GM40903) 
LOCATION:Haus der VHS, Raum Sprandel, Innere Heerstr. 6, 72555 Metzingen
END:VEVENT
BEGIN:VEVENT
DTSTAMP:20260420T153520
DTSTART;TZID=Europe/Berlin:20251216T194500
DTEND;TZID=Europe/Berlin:20251216T211500
UID:GM40903-20251216T194500@VHSMETZINGEN
SUMMARY:Italienisch mit Spaß (B1) Grundstufe 7 (GM40903) 
LOCATION:Haus der VHS, Raum Sprandel, Innere Heerstr. 6, 72555 Metzingen
END:VEVENT
BEGIN:VEVENT
DTSTAMP:20260420T153520
DTSTART;TZID=Europe/Berlin:20260113T194500
DTEND;TZID=Europe/Berlin:20260113T211500
UID:GM40903-20260113T194500@VHSMETZINGEN
SUMMARY:Italienisch mit Spaß (B1) Grundstufe 7 (GM40903) 
LOCATION:Haus der VHS, Raum Sprandel, Innere Heerstr. 6, 72555 Metzingen
END:VEVENT
END:VCALENDAR