BEGIN:VCALENDAR
VERSION:2.0
PRODID:http://www.kufer.de/kuferweb / DE
METHOD:PUBLISH
CALSCALE:GREGORIAN
X-WR-TIMEZONE:Europe/Berlin
BEGIN:VTIMEZONE
TZID:Europe/Berlin
X-LIC-LOCATION:Europe/Berlin
BEGIN:DAYLIGHT
TZOFFSETFROM:+0100
TZOFFSETTO:+0200
TZNAME:CEST
DTSTART;TZID=Europe/Berlin:19700329T020000
RRULE:FREQ=YEARLY;INTERVAL=1;BYDAY=-1SU;BYMONTH=3
END:DAYLIGHT
BEGIN:STANDARD
TZOFFSETFROM:+0200
TZOFFSETTO:+0100
TZNAME:CET
DTSTART;TZID=Europe/Berlin:19701025T030000
RRULE:FREQ=YEARLY;INTERVAL=1;BYDAY=-1SU;BYMONTH=10
END:STANDARD
END:VTIMEZONE
BEGIN:VEVENT
DTSTAMP:20260420T215221
DTSTART;TZID=Europe/Berlin:20250924T083000
DTEND;TZID=Europe/Berlin:20250924T100000
UID:GM40625-20250924T083000@VHSMETZINGEN
SUMMARY:Englisch, Aufbaustufe (B2/C1) (GM40625) 
LOCATION:Haus der VHS, Raum Völter, Innere Heerstr. 6, 72555 Metzingen
END:VEVENT
BEGIN:VEVENT
DTSTAMP:20260420T215221
DTSTART;TZID=Europe/Berlin:20251001T083000
DTEND;TZID=Europe/Berlin:20251001T100000
UID:GM40625-20251001T083000@VHSMETZINGEN
SUMMARY:Englisch, Aufbaustufe (B2/C1) (GM40625) 
LOCATION:Haus der VHS, Raum Völter, Innere Heerstr. 6, 72555 Metzingen
END:VEVENT
BEGIN:VEVENT
DTSTAMP:20260420T215221
DTSTART;TZID=Europe/Berlin:20251008T083000
DTEND;TZID=Europe/Berlin:20251008T100000
UID:GM40625-20251008T083000@VHSMETZINGEN
SUMMARY:Englisch, Aufbaustufe (B2/C1) (GM40625) 
LOCATION:Haus der VHS, Raum Völter, Innere Heerstr. 6, 72555 Metzingen
END:VEVENT
BEGIN:VEVENT
DTSTAMP:20260420T215221
DTSTART;TZID=Europe/Berlin:20251015T083000
DTEND;TZID=Europe/Berlin:20251015T100000
UID:GM40625-20251015T083000@VHSMETZINGEN
SUMMARY:Englisch, Aufbaustufe (B2/C1) (GM40625) 
LOCATION:Haus der VHS, Raum Völter, Innere Heerstr. 6, 72555 Metzingen
END:VEVENT
BEGIN:VEVENT
DTSTAMP:20260420T215221
DTSTART;TZID=Europe/Berlin:20251022T083000
DTEND;TZID=Europe/Berlin:20251022T100000
UID:GM40625-20251022T083000@VHSMETZINGEN
SUMMARY:Englisch, Aufbaustufe (B2/C1) (GM40625) 
LOCATION:Haus der VHS, Raum Völter, Innere Heerstr. 6, 72555 Metzingen
END:VEVENT
BEGIN:VEVENT
DTSTAMP:20260420T215221
DTSTART;TZID=Europe/Berlin:20251105T083000
DTEND;TZID=Europe/Berlin:20251105T100000
UID:GM40625-20251105T083000@VHSMETZINGEN
SUMMARY:Englisch, Aufbaustufe (B2/C1) (GM40625) 
LOCATION:Haus der VHS, Raum Völter, Innere Heerstr. 6, 72555 Metzingen
END:VEVENT
BEGIN:VEVENT
DTSTAMP:20260420T215221
DTSTART;TZID=Europe/Berlin:20251112T083000
DTEND;TZID=Europe/Berlin:20251112T100000
UID:GM40625-20251112T083000@VHSMETZINGEN
SUMMARY:Englisch, Aufbaustufe (B2/C1) (GM40625) 
LOCATION:Haus der VHS, Raum Völter, Innere Heerstr. 6, 72555 Metzingen
END:VEVENT
BEGIN:VEVENT
DTSTAMP:20260420T215221
DTSTART;TZID=Europe/Berlin:20251119T083000
DTEND;TZID=Europe/Berlin:20251119T100000
UID:GM40625-20251119T083000@VHSMETZINGEN
SUMMARY:Englisch, Aufbaustufe (B2/C1) (GM40625) 
LOCATION:Haus der VHS, Raum Völter, Innere Heerstr. 6, 72555 Metzingen
END:VEVENT
BEGIN:VEVENT
DTSTAMP:20260420T215221
DTSTART;TZID=Europe/Berlin:20251126T083000
DTEND;TZID=Europe/Berlin:20251126T100000
UID:GM40625-20251126T083000@VHSMETZINGEN
SUMMARY:Englisch, Aufbaustufe (B2/C1) (GM40625) 
LOCATION:Haus der VHS, Raum Völter, Innere Heerstr. 6, 72555 Metzingen
END:VEVENT
BEGIN:VEVENT
DTSTAMP:20260420T215221
DTSTART;TZID=Europe/Berlin:20251203T083000
DTEND;TZID=Europe/Berlin:20251203T100000
UID:GM40625-20251203T083000@VHSMETZINGEN
SUMMARY:Englisch, Aufbaustufe (B2/C1) (GM40625) 
LOCATION:Haus der VHS, Raum Völter, Innere Heerstr. 6, 72555 Metzingen
END:VEVENT
BEGIN:VEVENT
DTSTAMP:20260420T215221
DTSTART;TZID=Europe/Berlin:20251210T083000
DTEND;TZID=Europe/Berlin:20251210T100000
UID:GM40625-20251210T083000@VHSMETZINGEN
SUMMARY:Englisch, Aufbaustufe (B2/C1) (GM40625) 
LOCATION:Haus der VHS, Raum Völter, Innere Heerstr. 6, 72555 Metzingen
END:VEVENT
BEGIN:VEVENT
DTSTAMP:20260420T215221
DTSTART;TZID=Europe/Berlin:20251217T083000
DTEND;TZID=Europe/Berlin:20251217T100000
UID:GM40625-20251217T083000@VHSMETZINGEN
SUMMARY:Englisch, Aufbaustufe (B2/C1) (GM40625) 
LOCATION:Haus der VHS, Raum Völter, Innere Heerstr. 6, 72555 Metzingen
END:VEVENT
END:VCALENDAR