BEGIN:VCALENDAR
VERSION:2.0
PRODID:http://www.kufer.de/kuferweb / DE
METHOD:PUBLISH
CALSCALE:GREGORIAN
X-WR-TIMEZONE:Europe/Berlin
BEGIN:VTIMEZONE
TZID:Europe/Berlin
X-LIC-LOCATION:Europe/Berlin
BEGIN:DAYLIGHT
TZOFFSETFROM:+0100
TZOFFSETTO:+0200
TZNAME:CEST
DTSTART;TZID=Europe/Berlin:19700329T020000
RRULE:FREQ=YEARLY;INTERVAL=1;BYDAY=-1SU;BYMONTH=3
END:DAYLIGHT
BEGIN:STANDARD
TZOFFSETFROM:+0200
TZOFFSETTO:+0100
TZNAME:CET
DTSTART;TZID=Europe/Berlin:19701025T030000
RRULE:FREQ=YEARLY;INTERVAL=1;BYDAY=-1SU;BYMONTH=10
END:STANDARD
END:VTIMEZONE
BEGIN:VEVENT
DTSTAMP:20260420T201518
DTSTART;TZID=Europe/Berlin:20250923T100500
DTEND;TZID=Europe/Berlin:20250923T113500
UID:GM40612-20250923T100500@VHSMETZINGEN
SUMMARY:Englisch, Aufbaustufe für Wiedereinsteigende (B2) (GM40612) 
LOCATION:Haus der VHS, Raum Völter, Innere Heerstr. 6, 72555 Metzingen
END:VEVENT
BEGIN:VEVENT
DTSTAMP:20260420T201518
DTSTART;TZID=Europe/Berlin:20250930T100500
DTEND;TZID=Europe/Berlin:20250930T113500
UID:GM40612-20250930T100500@VHSMETZINGEN
SUMMARY:Englisch, Aufbaustufe für Wiedereinsteigende (B2) (GM40612) 
LOCATION:Haus der VHS, Raum Völter, Innere Heerstr. 6, 72555 Metzingen
END:VEVENT
BEGIN:VEVENT
DTSTAMP:20260420T201518
DTSTART;TZID=Europe/Berlin:20251007T100500
DTEND;TZID=Europe/Berlin:20251007T113500
UID:GM40612-20251007T100500@VHSMETZINGEN
SUMMARY:Englisch, Aufbaustufe für Wiedereinsteigende (B2) (GM40612) 
LOCATION:Haus der VHS, Raum Völter, Innere Heerstr. 6, 72555 Metzingen
END:VEVENT
BEGIN:VEVENT
DTSTAMP:20260420T201518
DTSTART;TZID=Europe/Berlin:20251014T100500
DTEND;TZID=Europe/Berlin:20251014T113500
UID:GM40612-20251014T100500@VHSMETZINGEN
SUMMARY:Englisch, Aufbaustufe für Wiedereinsteigende (B2) (GM40612) 
LOCATION:Haus der VHS, Raum Völter, Innere Heerstr. 6, 72555 Metzingen
END:VEVENT
BEGIN:VEVENT
DTSTAMP:20260420T201518
DTSTART;TZID=Europe/Berlin:20251021T100500
DTEND;TZID=Europe/Berlin:20251021T113500
UID:GM40612-20251021T100500@VHSMETZINGEN
SUMMARY:Englisch, Aufbaustufe für Wiedereinsteigende (B2) (GM40612) 
LOCATION:Haus der VHS, Raum Völter, Innere Heerstr. 6, 72555 Metzingen
END:VEVENT
BEGIN:VEVENT
DTSTAMP:20260420T201518
DTSTART;TZID=Europe/Berlin:20251104T100500
DTEND;TZID=Europe/Berlin:20251104T113500
UID:GM40612-20251104T100500@VHSMETZINGEN
SUMMARY:Englisch, Aufbaustufe für Wiedereinsteigende (B2) (GM40612) 
LOCATION:Haus der VHS, Raum Völter, Innere Heerstr. 6, 72555 Metzingen
END:VEVENT
BEGIN:VEVENT
DTSTAMP:20260420T201518
DTSTART;TZID=Europe/Berlin:20251111T100500
DTEND;TZID=Europe/Berlin:20251111T113500
UID:GM40612-20251111T100500@VHSMETZINGEN
SUMMARY:Englisch, Aufbaustufe für Wiedereinsteigende (B2) (GM40612) 
LOCATION:Haus der VHS, Raum Völter, Innere Heerstr. 6, 72555 Metzingen
END:VEVENT
BEGIN:VEVENT
DTSTAMP:20260420T201518
DTSTART;TZID=Europe/Berlin:20251118T100500
DTEND;TZID=Europe/Berlin:20251118T113500
UID:GM40612-20251118T100500@VHSMETZINGEN
SUMMARY:Englisch, Aufbaustufe für Wiedereinsteigende (B2) (GM40612) 
LOCATION:Haus der VHS, Raum Völter, Innere Heerstr. 6, 72555 Metzingen
END:VEVENT
BEGIN:VEVENT
DTSTAMP:20260420T201518
DTSTART;TZID=Europe/Berlin:20251125T100500
DTEND;TZID=Europe/Berlin:20251125T113500
UID:GM40612-20251125T100500@VHSMETZINGEN
SUMMARY:Englisch, Aufbaustufe für Wiedereinsteigende (B2) (GM40612) 
LOCATION:Haus der VHS, Raum Völter, Innere Heerstr. 6, 72555 Metzingen
END:VEVENT
BEGIN:VEVENT
DTSTAMP:20260420T201518
DTSTART;TZID=Europe/Berlin:20251202T100500
DTEND;TZID=Europe/Berlin:20251202T113500
UID:GM40612-20251202T100500@VHSMETZINGEN
SUMMARY:Englisch, Aufbaustufe für Wiedereinsteigende (B2) (GM40612) 
LOCATION:Haus der VHS, Raum Völter, Innere Heerstr. 6, 72555 Metzingen
END:VEVENT
BEGIN:VEVENT
DTSTAMP:20260420T201518
DTSTART;TZID=Europe/Berlin:20251209T100500
DTEND;TZID=Europe/Berlin:20251209T113500
UID:GM40612-20251209T100500@VHSMETZINGEN
SUMMARY:Englisch, Aufbaustufe für Wiedereinsteigende (B2) (GM40612) 
LOCATION:Haus der VHS, Raum Völter, Innere Heerstr. 6, 72555 Metzingen
END:VEVENT
BEGIN:VEVENT
DTSTAMP:20260420T201518
DTSTART;TZID=Europe/Berlin:20251216T100500
DTEND;TZID=Europe/Berlin:20251216T113500
UID:GM40612-20251216T100500@VHSMETZINGEN
SUMMARY:Englisch, Aufbaustufe für Wiedereinsteigende (B2) (GM40612) 
LOCATION:Haus der VHS, Raum Völter, Innere Heerstr. 6, 72555 Metzingen
END:VEVENT
END:VCALENDAR