BEGIN:VCALENDAR
VERSION:2.0
PRODID:http://www.kufer.de/kuferweb / DE
METHOD:PUBLISH
CALSCALE:GREGORIAN
X-WR-TIMEZONE:Europe/Berlin
BEGIN:VTIMEZONE
TZID:Europe/Berlin
X-LIC-LOCATION:Europe/Berlin
BEGIN:DAYLIGHT
TZOFFSETFROM:+0100
TZOFFSETTO:+0200
TZNAME:CEST
DTSTART;TZID=Europe/Berlin:19700329T020000
RRULE:FREQ=YEARLY;INTERVAL=1;BYDAY=-1SU;BYMONTH=3
END:DAYLIGHT
BEGIN:STANDARD
TZOFFSETFROM:+0200
TZOFFSETTO:+0100
TZNAME:CET
DTSTART;TZID=Europe/Berlin:19701025T030000
RRULE:FREQ=YEARLY;INTERVAL=1;BYDAY=-1SU;BYMONTH=10
END:STANDARD
END:VTIMEZONE
BEGIN:VEVENT
DTSTAMP:20260422T074251
DTSTART;TZID=Europe/Berlin:20250924T181500
DTEND;TZID=Europe/Berlin:20250924T194500
UID:GM40603-20250924T181500@VHSMETZINGEN
SUMMARY:Englisch mit Grundkenntnissen (A2) (GM40603) 
LOCATION:Haus der VHS, Raum Schönbein, Innere Heerstr. 6, 72555 Metzingen
END:VEVENT
BEGIN:VEVENT
DTSTAMP:20260422T074251
DTSTART;TZID=Europe/Berlin:20251001T181500
DTEND;TZID=Europe/Berlin:20251001T194500
UID:GM40603-20251001T181500@VHSMETZINGEN
SUMMARY:Englisch mit Grundkenntnissen (A2) (GM40603) 
LOCATION:Haus der VHS, Raum Schönbein, Innere Heerstr. 6, 72555 Metzingen
END:VEVENT
BEGIN:VEVENT
DTSTAMP:20260422T074251
DTSTART;TZID=Europe/Berlin:20251008T181500
DTEND;TZID=Europe/Berlin:20251008T194500
UID:GM40603-20251008T181500@VHSMETZINGEN
SUMMARY:Englisch mit Grundkenntnissen (A2) (GM40603) 
LOCATION:Haus der VHS, Raum Schönbein, Innere Heerstr. 6, 72555 Metzingen
END:VEVENT
BEGIN:VEVENT
DTSTAMP:20260422T074251
DTSTART;TZID=Europe/Berlin:20251015T181500
DTEND;TZID=Europe/Berlin:20251015T194500
UID:GM40603-20251015T181500@VHSMETZINGEN
SUMMARY:Englisch mit Grundkenntnissen (A2) (GM40603) 
LOCATION:Haus der VHS, Raum Schönbein, Innere Heerstr. 6, 72555 Metzingen
END:VEVENT
BEGIN:VEVENT
DTSTAMP:20260422T074251
DTSTART;TZID=Europe/Berlin:20251022T181500
DTEND;TZID=Europe/Berlin:20251022T194500
UID:GM40603-20251022T181500@VHSMETZINGEN
SUMMARY:Englisch mit Grundkenntnissen (A2) (GM40603) 
LOCATION:Haus der VHS, Raum Schönbein, Innere Heerstr. 6, 72555 Metzingen
END:VEVENT
BEGIN:VEVENT
DTSTAMP:20260422T074251
DTSTART;TZID=Europe/Berlin:20251105T181500
DTEND;TZID=Europe/Berlin:20251105T194500
UID:GM40603-20251105T181500@VHSMETZINGEN
SUMMARY:Englisch mit Grundkenntnissen (A2) (GM40603) 
LOCATION:Haus der VHS, Raum Schönbein, Innere Heerstr. 6, 72555 Metzingen
END:VEVENT
BEGIN:VEVENT
DTSTAMP:20260422T074251
DTSTART;TZID=Europe/Berlin:20251112T181500
DTEND;TZID=Europe/Berlin:20251112T194500
UID:GM40603-20251112T181500@VHSMETZINGEN
SUMMARY:Englisch mit Grundkenntnissen (A2) (GM40603) 
LOCATION:Haus der VHS, Raum Schönbein, Innere Heerstr. 6, 72555 Metzingen
END:VEVENT
BEGIN:VEVENT
DTSTAMP:20260422T074251
DTSTART;TZID=Europe/Berlin:20251119T181500
DTEND;TZID=Europe/Berlin:20251119T194500
UID:GM40603-20251119T181500@VHSMETZINGEN
SUMMARY:Englisch mit Grundkenntnissen (A2) (GM40603) 
LOCATION:Haus der VHS, Raum Schönbein, Innere Heerstr. 6, 72555 Metzingen
END:VEVENT
BEGIN:VEVENT
DTSTAMP:20260422T074251
DTSTART;TZID=Europe/Berlin:20251126T181500
DTEND;TZID=Europe/Berlin:20251126T194500
UID:GM40603-20251126T181500@VHSMETZINGEN
SUMMARY:Englisch mit Grundkenntnissen (A2) (GM40603) 
LOCATION:Haus der VHS, Raum Schönbein, Innere Heerstr. 6, 72555 Metzingen
END:VEVENT
BEGIN:VEVENT
DTSTAMP:20260422T074251
DTSTART;TZID=Europe/Berlin:20251203T181500
DTEND;TZID=Europe/Berlin:20251203T194500
UID:GM40603-20251203T181500@VHSMETZINGEN
SUMMARY:Englisch mit Grundkenntnissen (A2) (GM40603) 
LOCATION:Haus der VHS, Raum Schönbein, Innere Heerstr. 6, 72555 Metzingen
END:VEVENT
BEGIN:VEVENT
DTSTAMP:20260422T074251
DTSTART;TZID=Europe/Berlin:20251210T181500
DTEND;TZID=Europe/Berlin:20251210T194500
UID:GM40603-20251210T181500@VHSMETZINGEN
SUMMARY:Englisch mit Grundkenntnissen (A2) (GM40603) 
LOCATION:Haus der VHS, Raum Schönbein, Innere Heerstr. 6, 72555 Metzingen
END:VEVENT
BEGIN:VEVENT
DTSTAMP:20260422T074251
DTSTART;TZID=Europe/Berlin:20251217T181500
DTEND;TZID=Europe/Berlin:20251217T194500
UID:GM40603-20251217T181500@VHSMETZINGEN
SUMMARY:Englisch mit Grundkenntnissen (A2) (GM40603) 
LOCATION:Haus der VHS, Raum Schönbein, Innere Heerstr. 6, 72555 Metzingen
END:VEVENT
END:VCALENDAR