BEGIN:VCALENDAR
VERSION:2.0
PRODID:http://www.kufer.de/kuferweb / DE
METHOD:PUBLISH
CALSCALE:GREGORIAN
X-WR-TIMEZONE:Europe/Berlin
BEGIN:VTIMEZONE
TZID:Europe/Berlin
X-LIC-LOCATION:Europe/Berlin
BEGIN:DAYLIGHT
TZOFFSETFROM:+0100
TZOFFSETTO:+0200
TZNAME:CEST
DTSTART;TZID=Europe/Berlin:19700329T020000
RRULE:FREQ=YEARLY;INTERVAL=1;BYDAY=-1SU;BYMONTH=3
END:DAYLIGHT
BEGIN:STANDARD
TZOFFSETFROM:+0200
TZOFFSETTO:+0100
TZNAME:CET
DTSTART;TZID=Europe/Berlin:19701025T030000
RRULE:FREQ=YEARLY;INTERVAL=1;BYDAY=-1SU;BYMONTH=10
END:STANDARD
END:VTIMEZONE
BEGIN:VEVENT
DTSTAMP:20260420T233551
DTSTART;TZID=Europe/Berlin:20250925T181500
DTEND;TZID=Europe/Berlin:20250925T194500
UID:GM40601-20250925T181500@VHSMETZINGEN
SUMMARY:Easy English (für AnfängerInnen und WiedereinsteigerInnen) (A1) (GM40601) 
LOCATION:D.-B.-Gymnasium, C003, Erdgeschoss, Öschweg 21, 72555 Metzingen
END:VEVENT
BEGIN:VEVENT
DTSTAMP:20260420T233551
DTSTART;TZID=Europe/Berlin:20251002T181500
DTEND;TZID=Europe/Berlin:20251002T194500
UID:GM40601-20251002T181500@VHSMETZINGEN
SUMMARY:Easy English (für AnfängerInnen und WiedereinsteigerInnen) (A1) (GM40601) 
LOCATION:D.-B.-Gymnasium, C003, Erdgeschoss, Öschweg 21, 72555 Metzingen
END:VEVENT
BEGIN:VEVENT
DTSTAMP:20260420T233551
DTSTART;TZID=Europe/Berlin:20251016T181500
DTEND;TZID=Europe/Berlin:20251016T194500
UID:GM40601-20251016T181500@VHSMETZINGEN
SUMMARY:Easy English (für AnfängerInnen und WiedereinsteigerInnen) (A1) (GM40601) 
LOCATION:D.-B.-Gymnasium, C003, Erdgeschoss, Öschweg 21, 72555 Metzingen
END:VEVENT
BEGIN:VEVENT
DTSTAMP:20260420T233551
DTSTART;TZID=Europe/Berlin:20251023T181500
DTEND;TZID=Europe/Berlin:20251023T194500
UID:GM40601-20251023T181500@VHSMETZINGEN
SUMMARY:Easy English (für AnfängerInnen und WiedereinsteigerInnen) (A1) (GM40601) 
LOCATION:D.-B.-Gymnasium, C003, Erdgeschoss, Öschweg 21, 72555 Metzingen
END:VEVENT
BEGIN:VEVENT
DTSTAMP:20260420T233551
DTSTART;TZID=Europe/Berlin:20251106T181500
DTEND;TZID=Europe/Berlin:20251106T194500
UID:GM40601-20251106T181500@VHSMETZINGEN
SUMMARY:Easy English (für AnfängerInnen und WiedereinsteigerInnen) (A1) (GM40601) 
LOCATION:D.-B.-Gymnasium, C003, Erdgeschoss, Öschweg 21, 72555 Metzingen
END:VEVENT
BEGIN:VEVENT
DTSTAMP:20260420T233551
DTSTART;TZID=Europe/Berlin:20251113T181500
DTEND;TZID=Europe/Berlin:20251113T194500
UID:GM40601-20251113T181500@VHSMETZINGEN
SUMMARY:Easy English (für AnfängerInnen und WiedereinsteigerInnen) (A1) (GM40601) 
LOCATION:D.-B.-Gymnasium, C003, Erdgeschoss, Öschweg 21, 72555 Metzingen
END:VEVENT
BEGIN:VEVENT
DTSTAMP:20260420T233551
DTSTART;TZID=Europe/Berlin:20251120T181500
DTEND;TZID=Europe/Berlin:20251120T194500
UID:GM40601-20251120T181500@VHSMETZINGEN
SUMMARY:Easy English (für AnfängerInnen und WiedereinsteigerInnen) (A1) (GM40601) 
LOCATION:D.-B.-Gymnasium, C003, Erdgeschoss, Öschweg 21, 72555 Metzingen
END:VEVENT
BEGIN:VEVENT
DTSTAMP:20260420T233551
DTSTART;TZID=Europe/Berlin:20251127T181500
DTEND;TZID=Europe/Berlin:20251127T194500
UID:GM40601-20251127T181500@VHSMETZINGEN
SUMMARY:Easy English (für AnfängerInnen und WiedereinsteigerInnen) (A1) (GM40601) 
LOCATION:D.-B.-Gymnasium, C003, Erdgeschoss, Öschweg 21, 72555 Metzingen
END:VEVENT
BEGIN:VEVENT
DTSTAMP:20260420T233551
DTSTART;TZID=Europe/Berlin:20251204T181500
DTEND;TZID=Europe/Berlin:20251204T194500
UID:GM40601-20251204T181500@VHSMETZINGEN
SUMMARY:Easy English (für AnfängerInnen und WiedereinsteigerInnen) (A1) (GM40601) 
LOCATION:D.-B.-Gymnasium, C003, Erdgeschoss, Öschweg 21, 72555 Metzingen
END:VEVENT
BEGIN:VEVENT
DTSTAMP:20260420T233551
DTSTART;TZID=Europe/Berlin:20251211T181500
DTEND;TZID=Europe/Berlin:20251211T194500
UID:GM40601-20251211T181500@VHSMETZINGEN
SUMMARY:Easy English (für AnfängerInnen und WiedereinsteigerInnen) (A1) (GM40601) 
LOCATION:D.-B.-Gymnasium, C003, Erdgeschoss, Öschweg 21, 72555 Metzingen
END:VEVENT
BEGIN:VEVENT
DTSTAMP:20260420T233551
DTSTART;TZID=Europe/Berlin:20251218T181500
DTEND;TZID=Europe/Berlin:20251218T194500
UID:GM40601-20251218T181500@VHSMETZINGEN
SUMMARY:Easy English (für AnfängerInnen und WiedereinsteigerInnen) (A1) (GM40601) 
LOCATION:Haus der VHS, Raum Sprandel, Innere Heerstr. 6, 72555 Metzingen
END:VEVENT
BEGIN:VEVENT
DTSTAMP:20260420T233551
DTSTART;TZID=Europe/Berlin:20260115T181500
DTEND;TZID=Europe/Berlin:20260115T194500
UID:GM40601-20260115T181500@VHSMETZINGEN
SUMMARY:Easy English (für AnfängerInnen und WiedereinsteigerInnen) (A1) (GM40601) 
LOCATION:Haus der VHS, Raum Sprandel, Innere Heerstr. 6, 72555 Metzingen
END:VEVENT
END:VCALENDAR