BEGIN:VCALENDAR
VERSION:2.0
PRODID:http://www.kufer.de/kuferweb / DE
METHOD:PUBLISH
CALSCALE:GREGORIAN
X-WR-TIMEZONE:Europe/Berlin
BEGIN:VTIMEZONE
TZID:Europe/Berlin
X-LIC-LOCATION:Europe/Berlin
BEGIN:DAYLIGHT
TZOFFSETFROM:+0100
TZOFFSETTO:+0200
TZNAME:CEST
DTSTART;TZID=Europe/Berlin:19700329T020000
RRULE:FREQ=YEARLY;INTERVAL=1;BYDAY=-1SU;BYMONTH=3
END:DAYLIGHT
BEGIN:STANDARD
TZOFFSETFROM:+0200
TZOFFSETTO:+0100
TZNAME:CET
DTSTART;TZID=Europe/Berlin:19701025T030000
RRULE:FREQ=YEARLY;INTERVAL=1;BYDAY=-1SU;BYMONTH=10
END:STANDARD
END:VTIMEZONE
BEGIN:VEVENT
DTSTAMP:20260420T233550
DTSTART;TZID=Europe/Berlin:20250930T171500
DTEND;TZID=Europe/Berlin:20250930T184500
UID:GM40421-20250930T171500@VHSMETZINGEN
SUMMARY:Deutsch für Anfänger/innen  (A1.1) (GM40421) 
LOCATION:Haus der VHS, Raum Küßner, Innere Heerstr. 6, 72555 Metzingen
END:VEVENT
BEGIN:VEVENT
DTSTAMP:20260420T233550
DTSTART;TZID=Europe/Berlin:20251001T171500
DTEND;TZID=Europe/Berlin:20251001T184500
UID:GM40421-20251001T171500@VHSMETZINGEN
SUMMARY:Deutsch für Anfänger/innen  (A1.1) (GM40421) 
LOCATION:Haus der VHS, Raum Küßner, Innere Heerstr. 6, 72555 Metzingen
END:VEVENT
BEGIN:VEVENT
DTSTAMP:20260420T233550
DTSTART;TZID=Europe/Berlin:20251007T171500
DTEND;TZID=Europe/Berlin:20251007T184500
UID:GM40421-20251007T171500@VHSMETZINGEN
SUMMARY:Deutsch für Anfänger/innen  (A1.1) (GM40421) 
LOCATION:Haus der VHS, Raum Küßner, Innere Heerstr. 6, 72555 Metzingen
END:VEVENT
BEGIN:VEVENT
DTSTAMP:20260420T233550
DTSTART;TZID=Europe/Berlin:20251008T171500
DTEND;TZID=Europe/Berlin:20251008T184500
UID:GM40421-20251008T171500@VHSMETZINGEN
SUMMARY:Deutsch für Anfänger/innen  (A1.1) (GM40421) 
LOCATION:Haus der VHS, Raum Küßner, Innere Heerstr. 6, 72555 Metzingen
END:VEVENT
BEGIN:VEVENT
DTSTAMP:20260420T233550
DTSTART;TZID=Europe/Berlin:20251014T171500
DTEND;TZID=Europe/Berlin:20251014T184500
UID:GM40421-20251014T171500@VHSMETZINGEN
SUMMARY:Deutsch für Anfänger/innen  (A1.1) (GM40421) 
LOCATION:Haus der VHS, Raum Küßner, Innere Heerstr. 6, 72555 Metzingen
END:VEVENT
BEGIN:VEVENT
DTSTAMP:20260420T233550
DTSTART;TZID=Europe/Berlin:20251015T171500
DTEND;TZID=Europe/Berlin:20251015T184500
UID:GM40421-20251015T171500@VHSMETZINGEN
SUMMARY:Deutsch für Anfänger/innen  (A1.1) (GM40421) 
LOCATION:Haus der VHS, Raum Küßner, Innere Heerstr. 6, 72555 Metzingen
END:VEVENT
BEGIN:VEVENT
DTSTAMP:20260420T233550
DTSTART;TZID=Europe/Berlin:20251021T171500
DTEND;TZID=Europe/Berlin:20251021T184500
UID:GM40421-20251021T171500@VHSMETZINGEN
SUMMARY:Deutsch für Anfänger/innen  (A1.1) (GM40421) 
LOCATION:Haus der VHS, Raum Küßner, Innere Heerstr. 6, 72555 Metzingen
END:VEVENT
BEGIN:VEVENT
DTSTAMP:20260420T233550
DTSTART;TZID=Europe/Berlin:20251022T171500
DTEND;TZID=Europe/Berlin:20251022T184500
UID:GM40421-20251022T171500@VHSMETZINGEN
SUMMARY:Deutsch für Anfänger/innen  (A1.1) (GM40421) 
LOCATION:Haus der VHS, Raum Küßner, Innere Heerstr. 6, 72555 Metzingen
END:VEVENT
BEGIN:VEVENT
DTSTAMP:20260420T233550
DTSTART;TZID=Europe/Berlin:20251104T171500
DTEND;TZID=Europe/Berlin:20251104T184500
UID:GM40421-20251104T171500@VHSMETZINGEN
SUMMARY:Deutsch für Anfänger/innen  (A1.1) (GM40421) 
LOCATION:Haus der VHS, Raum Küßner, Innere Heerstr. 6, 72555 Metzingen
END:VEVENT
BEGIN:VEVENT
DTSTAMP:20260420T233550
DTSTART;TZID=Europe/Berlin:20251105T171500
DTEND;TZID=Europe/Berlin:20251105T184500
UID:GM40421-20251105T171500@VHSMETZINGEN
SUMMARY:Deutsch für Anfänger/innen  (A1.1) (GM40421) 
LOCATION:Haus der VHS, Raum Küßner, Innere Heerstr. 6, 72555 Metzingen
END:VEVENT
BEGIN:VEVENT
DTSTAMP:20260420T233550
DTSTART;TZID=Europe/Berlin:20251111T171500
DTEND;TZID=Europe/Berlin:20251111T184500
UID:GM40421-20251111T171500@VHSMETZINGEN
SUMMARY:Deutsch für Anfänger/innen  (A1.1) (GM40421) 
LOCATION:Haus der VHS, Raum Küßner, Innere Heerstr. 6, 72555 Metzingen
END:VEVENT
BEGIN:VEVENT
DTSTAMP:20260420T233550
DTSTART;TZID=Europe/Berlin:20251112T171500
DTEND;TZID=Europe/Berlin:20251112T184500
UID:GM40421-20251112T171500@VHSMETZINGEN
SUMMARY:Deutsch für Anfänger/innen  (A1.1) (GM40421) 
LOCATION:Haus der VHS, Raum Küßner, Innere Heerstr. 6, 72555 Metzingen
END:VEVENT
BEGIN:VEVENT
DTSTAMP:20260420T233550
DTSTART;TZID=Europe/Berlin:20251118T171500
DTEND;TZID=Europe/Berlin:20251118T184500
UID:GM40421-20251118T171500@VHSMETZINGEN
SUMMARY:Deutsch für Anfänger/innen  (A1.1) (GM40421) 
LOCATION:Haus der VHS, Raum Küßner, Innere Heerstr. 6, 72555 Metzingen
END:VEVENT
BEGIN:VEVENT
DTSTAMP:20260420T233550
DTSTART;TZID=Europe/Berlin:20251119T171500
DTEND;TZID=Europe/Berlin:20251119T184500
UID:GM40421-20251119T171500@VHSMETZINGEN
SUMMARY:Deutsch für Anfänger/innen  (A1.1) (GM40421) 
LOCATION:Haus der VHS, Raum Küßner, Innere Heerstr. 6, 72555 Metzingen
END:VEVENT
BEGIN:VEVENT
DTSTAMP:20260420T233550
DTSTART;TZID=Europe/Berlin:20251125T171500
DTEND;TZID=Europe/Berlin:20251125T184500
UID:GM40421-20251125T171500@VHSMETZINGEN
SUMMARY:Deutsch für Anfänger/innen  (A1.1) (GM40421) 
LOCATION:Haus der VHS, Raum Küßner, Innere Heerstr. 6, 72555 Metzingen
END:VEVENT
BEGIN:VEVENT
DTSTAMP:20260420T233550
DTSTART;TZID=Europe/Berlin:20251126T171500
DTEND;TZID=Europe/Berlin:20251126T184500
UID:GM40421-20251126T171500@VHSMETZINGEN
SUMMARY:Deutsch für Anfänger/innen  (A1.1) (GM40421) 
LOCATION:Haus der VHS, Raum Küßner, Innere Heerstr. 6, 72555 Metzingen
END:VEVENT
BEGIN:VEVENT
DTSTAMP:20260420T233550
DTSTART;TZID=Europe/Berlin:20251202T171500
DTEND;TZID=Europe/Berlin:20251202T184500
UID:GM40421-20251202T171500@VHSMETZINGEN
SUMMARY:Deutsch für Anfänger/innen  (A1.1) (GM40421) 
LOCATION:Haus der VHS, Raum Küßner, Innere Heerstr. 6, 72555 Metzingen
END:VEVENT
BEGIN:VEVENT
DTSTAMP:20260420T233550
DTSTART;TZID=Europe/Berlin:20251209T171500
DTEND;TZID=Europe/Berlin:20251209T184500
UID:GM40421-20251209T171500@VHSMETZINGEN
SUMMARY:Deutsch für Anfänger/innen  (A1.1) (GM40421) 
LOCATION:Haus der VHS, Raum Küßner, Innere Heerstr. 6, 72555 Metzingen
END:VEVENT
BEGIN:VEVENT
DTSTAMP:20260420T233550
DTSTART;TZID=Europe/Berlin:20251210T171500
DTEND;TZID=Europe/Berlin:20251210T184500
UID:GM40421-20251210T171500@VHSMETZINGEN
SUMMARY:Deutsch für Anfänger/innen  (A1.1) (GM40421) 
LOCATION:Haus der VHS, Raum Küßner, Innere Heerstr. 6, 72555 Metzingen
END:VEVENT
BEGIN:VEVENT
DTSTAMP:20260420T233550
DTSTART;TZID=Europe/Berlin:20260107T171500
DTEND;TZID=Europe/Berlin:20260107T184500
UID:GM40421-20260107T171500@VHSMETZINGEN
SUMMARY:Deutsch für Anfänger/innen  (A1.1) (GM40421) 
LOCATION:Haus der VHS, Raum Küßner, Innere Heerstr. 6, 72555 Metzingen
END:VEVENT
BEGIN:VEVENT
DTSTAMP:20260420T233550
DTSTART;TZID=Europe/Berlin:20260113T171500
DTEND;TZID=Europe/Berlin:20260113T184500
UID:GM40421-20260113T171500@VHSMETZINGEN
SUMMARY:Deutsch für Anfänger/innen  (A1.1) (GM40421) 
LOCATION:Haus der VHS, Raum Küßner, Innere Heerstr. 6, 72555 Metzingen
END:VEVENT
BEGIN:VEVENT
DTSTAMP:20260420T233550
DTSTART;TZID=Europe/Berlin:20260114T171500
DTEND;TZID=Europe/Berlin:20260114T184500
UID:GM40421-20260114T171500@VHSMETZINGEN
SUMMARY:Deutsch für Anfänger/innen  (A1.1) (GM40421) 
LOCATION:Haus der VHS, Raum Küßner, Innere Heerstr. 6, 72555 Metzingen
END:VEVENT
BEGIN:VEVENT
DTSTAMP:20260420T233550
DTSTART;TZID=Europe/Berlin:20260120T171500
DTEND;TZID=Europe/Berlin:20260120T184500
UID:GM40421-20260120T171500@VHSMETZINGEN
SUMMARY:Deutsch für Anfänger/innen  (A1.1) (GM40421) 
LOCATION:Haus der VHS, Raum Küßner, Innere Heerstr. 6, 72555 Metzingen
END:VEVENT
BEGIN:VEVENT
DTSTAMP:20260420T233550
DTSTART;TZID=Europe/Berlin:20260121T171500
DTEND;TZID=Europe/Berlin:20260121T184500
UID:GM40421-20260121T171500@VHSMETZINGEN
DESCRIPTION:Ersatz für Ausfall am 16.12.2025
SUMMARY:Deutsch für Anfänger/innen  (A1.1) (GM40421) 
LOCATION:Haus der VHS, Raum Küßner, Innere Heerstr. 6, 72555 Metzingen
END:VEVENT
BEGIN:VEVENT
DTSTAMP:20260420T233550
DTSTART;TZID=Europe/Berlin:20260127T171500
DTEND;TZID=Europe/Berlin:20260127T184500
UID:GM40421-20260127T171500@VHSMETZINGEN
DESCRIPTION:Ersatz für Ausfall am 17.12.2025
SUMMARY:Deutsch für Anfänger/innen  (A1.1) (GM40421) 
LOCATION:Haus der VHS, Raum Küßner, Innere Heerstr. 6, 72555 Metzingen
END:VEVENT
BEGIN:VEVENT
DTSTAMP:20260420T233550
DTSTART;TZID=Europe/Berlin:20260208T110000
DTEND;TZID=Europe/Berlin:20260208T131500
UID:GM40421-20260208T110000@VHSMETZINGEN
SUMMARY:Deutsch für Anfänger/innen  (A1.1) (GM40421) 
LOCATION:Haus der VHS, Raum Küßner, Innere Heerstr. 6, 72555 Metzingen
END:VEVENT
END:VCALENDAR