BEGIN:VCALENDAR
VERSION:2.0
PRODID:http://www.kufer.de/kuferweb / DE
METHOD:PUBLISH
CALSCALE:GREGORIAN
X-WR-TIMEZONE:Europe/Berlin
BEGIN:VTIMEZONE
TZID:Europe/Berlin
X-LIC-LOCATION:Europe/Berlin
BEGIN:DAYLIGHT
TZOFFSETFROM:+0100
TZOFFSETTO:+0200
TZNAME:CEST
DTSTART;TZID=Europe/Berlin:19700329T020000
RRULE:FREQ=YEARLY;INTERVAL=1;BYDAY=-1SU;BYMONTH=3
END:DAYLIGHT
BEGIN:STANDARD
TZOFFSETFROM:+0200
TZOFFSETTO:+0100
TZNAME:CET
DTSTART;TZID=Europe/Berlin:19701025T030000
RRULE:FREQ=YEARLY;INTERVAL=1;BYDAY=-1SU;BYMONTH=10
END:STANDARD
END:VTIMEZONE
BEGIN:VEVENT
DTSTAMP:20260421T010727
DTSTART;TZID=Europe/Berlin:20250924T190000
DTEND;TZID=Europe/Berlin:20250924T200000
UID:GM33100-20250924T190000@VHSMETZINGEN
SUMMARY:Bauch, Beine, Po in Topform (GM33100) 
LOCATION:Haus der VHS, Raum Atelier, Innere Heerstr. 6, 72555 Metzingen
END:VEVENT
BEGIN:VEVENT
DTSTAMP:20260421T010727
DTSTART;TZID=Europe/Berlin:20251001T190000
DTEND;TZID=Europe/Berlin:20251001T200000
UID:GM33100-20251001T190000@VHSMETZINGEN
SUMMARY:Bauch, Beine, Po in Topform (GM33100) 
LOCATION:Haus der VHS, Raum Atelier, Innere Heerstr. 6, 72555 Metzingen
END:VEVENT
BEGIN:VEVENT
DTSTAMP:20260421T010727
DTSTART;TZID=Europe/Berlin:20251008T190000
DTEND;TZID=Europe/Berlin:20251008T200000
UID:GM33100-20251008T190000@VHSMETZINGEN
SUMMARY:Bauch, Beine, Po in Topform (GM33100) 
LOCATION:Haus der VHS, Raum Atelier, Innere Heerstr. 6, 72555 Metzingen
END:VEVENT
BEGIN:VEVENT
DTSTAMP:20260421T010727
DTSTART;TZID=Europe/Berlin:20251015T190000
DTEND;TZID=Europe/Berlin:20251015T200000
UID:GM33100-20251015T190000@VHSMETZINGEN
SUMMARY:Bauch, Beine, Po in Topform (GM33100) 
LOCATION:Haus der VHS, Raum Atelier, Innere Heerstr. 6, 72555 Metzingen
END:VEVENT
BEGIN:VEVENT
DTSTAMP:20260421T010727
DTSTART;TZID=Europe/Berlin:20251022T190000
DTEND;TZID=Europe/Berlin:20251022T200000
UID:GM33100-20251022T190000@VHSMETZINGEN
SUMMARY:Bauch, Beine, Po in Topform (GM33100) 
LOCATION:Haus der VHS, Raum Atelier, Innere Heerstr. 6, 72555 Metzingen
END:VEVENT
BEGIN:VEVENT
DTSTAMP:20260421T010727
DTSTART;TZID=Europe/Berlin:20251105T190000
DTEND;TZID=Europe/Berlin:20251105T200000
UID:GM33100-20251105T190000@VHSMETZINGEN
SUMMARY:Bauch, Beine, Po in Topform (GM33100) 
LOCATION:Haus der VHS, Raum Atelier, Innere Heerstr. 6, 72555 Metzingen
END:VEVENT
BEGIN:VEVENT
DTSTAMP:20260421T010727
DTSTART;TZID=Europe/Berlin:20251112T190000
DTEND;TZID=Europe/Berlin:20251112T200000
UID:GM33100-20251112T190000@VHSMETZINGEN
SUMMARY:Bauch, Beine, Po in Topform (GM33100) 
LOCATION:Haus der VHS, Raum Atelier, Innere Heerstr. 6, 72555 Metzingen
END:VEVENT
BEGIN:VEVENT
DTSTAMP:20260421T010727
DTSTART;TZID=Europe/Berlin:20251119T190000
DTEND;TZID=Europe/Berlin:20251119T200000
UID:GM33100-20251119T190000@VHSMETZINGEN
SUMMARY:Bauch, Beine, Po in Topform (GM33100) 
LOCATION:Haus der VHS, Raum Atelier, Innere Heerstr. 6, 72555 Metzingen
END:VEVENT
BEGIN:VEVENT
DTSTAMP:20260421T010727
DTSTART;TZID=Europe/Berlin:20251126T190000
DTEND;TZID=Europe/Berlin:20251126T200000
UID:GM33100-20251126T190000@VHSMETZINGEN
SUMMARY:Bauch, Beine, Po in Topform (GM33100) 
LOCATION:Haus der VHS, Raum Atelier, Innere Heerstr. 6, 72555 Metzingen
END:VEVENT
BEGIN:VEVENT
DTSTAMP:20260421T010727
DTSTART;TZID=Europe/Berlin:20251203T190000
DTEND;TZID=Europe/Berlin:20251203T200000
UID:GM33100-20251203T190000@VHSMETZINGEN
SUMMARY:Bauch, Beine, Po in Topform (GM33100) 
LOCATION:Haus der VHS, Raum Atelier, Innere Heerstr. 6, 72555 Metzingen
END:VEVENT
BEGIN:VEVENT
DTSTAMP:20260421T010727
DTSTART;TZID=Europe/Berlin:20251210T190000
DTEND;TZID=Europe/Berlin:20251210T200000
UID:GM33100-20251210T190000@VHSMETZINGEN
SUMMARY:Bauch, Beine, Po in Topform (GM33100) 
LOCATION:Haus der VHS, Raum Atelier, Innere Heerstr. 6, 72555 Metzingen
END:VEVENT
BEGIN:VEVENT
DTSTAMP:20260421T010727
DTSTART;TZID=Europe/Berlin:20260107T190000
DTEND;TZID=Europe/Berlin:20260107T200000
UID:GM33100-20260107T190000@VHSMETZINGEN
SUMMARY:Bauch, Beine, Po in Topform (GM33100) 
LOCATION:Haus der VHS, Raum Atelier, Innere Heerstr. 6, 72555 Metzingen
END:VEVENT
BEGIN:VEVENT
DTSTAMP:20260421T010727
DTSTART;TZID=Europe/Berlin:20260114T190000
DTEND;TZID=Europe/Berlin:20260114T200000
UID:GM33100-20260114T190000@VHSMETZINGEN
SUMMARY:Bauch, Beine, Po in Topform (GM33100) 
LOCATION:Haus der VHS, Raum Atelier, Innere Heerstr. 6, 72555 Metzingen
END:VEVENT
BEGIN:VEVENT
DTSTAMP:20260421T010727
DTSTART;TZID=Europe/Berlin:20260121T190000
DTEND;TZID=Europe/Berlin:20260121T200000
UID:GM33100-20260121T190000@VHSMETZINGEN
DESCRIPTION:Ersatz für Ausfall am 17.12.2025
SUMMARY:Bauch, Beine, Po in Topform (GM33100) 
LOCATION:Haus der VHS, Raum Atelier, Innere Heerstr. 6, 72555 Metzingen
END:VEVENT
END:VCALENDAR