BEGIN:VCALENDAR
VERSION:2.0
PRODID:http://www.kufer.de/kuferweb / DE
METHOD:PUBLISH
CALSCALE:GREGORIAN
X-WR-TIMEZONE:Europe/Berlin
BEGIN:VTIMEZONE
TZID:Europe/Berlin
X-LIC-LOCATION:Europe/Berlin
BEGIN:DAYLIGHT
TZOFFSETFROM:+0100
TZOFFSETTO:+0200
TZNAME:CEST
DTSTART;TZID=Europe/Berlin:19700329T020000
RRULE:FREQ=YEARLY;INTERVAL=1;BYDAY=-1SU;BYMONTH=3
END:DAYLIGHT
BEGIN:STANDARD
TZOFFSETFROM:+0200
TZOFFSETTO:+0100
TZNAME:CET
DTSTART;TZID=Europe/Berlin:19701025T030000
RRULE:FREQ=YEARLY;INTERVAL=1;BYDAY=-1SU;BYMONTH=10
END:STANDARD
END:VTIMEZONE
BEGIN:VEVENT
DTSTAMP:20260420T135150
DTSTART;TZID=Europe/Berlin:20250925T101000
DTEND;TZID=Europe/Berlin:20250925T111000
UID:GM33010-20250925T101000@VHSMETZINGEN
SUMMARY:Wirbelsäulengymnastik mit Faszientraining (GM33010) 
LOCATION:Haus der VHS, Gymnastikraum, Innere Heerstr. 6, 72555 Metzingen
END:VEVENT
BEGIN:VEVENT
DTSTAMP:20260420T135150
DTSTART;TZID=Europe/Berlin:20251002T101000
DTEND;TZID=Europe/Berlin:20251002T111000
UID:GM33010-20251002T101000@VHSMETZINGEN
SUMMARY:Wirbelsäulengymnastik mit Faszientraining (GM33010) 
LOCATION:Haus der VHS, Gymnastikraum, Innere Heerstr. 6, 72555 Metzingen
END:VEVENT
BEGIN:VEVENT
DTSTAMP:20260420T135150
DTSTART;TZID=Europe/Berlin:20251009T101000
DTEND;TZID=Europe/Berlin:20251009T111000
UID:GM33010-20251009T101000@VHSMETZINGEN
SUMMARY:Wirbelsäulengymnastik mit Faszientraining (GM33010) 
LOCATION:Haus der VHS, Gymnastikraum, Innere Heerstr. 6, 72555 Metzingen
END:VEVENT
BEGIN:VEVENT
DTSTAMP:20260420T135150
DTSTART;TZID=Europe/Berlin:20251016T101000
DTEND;TZID=Europe/Berlin:20251016T111000
UID:GM33010-20251016T101000@VHSMETZINGEN
SUMMARY:Wirbelsäulengymnastik mit Faszientraining (GM33010) 
LOCATION:Haus der VHS, Gymnastikraum, Innere Heerstr. 6, 72555 Metzingen
END:VEVENT
BEGIN:VEVENT
DTSTAMP:20260420T135150
DTSTART;TZID=Europe/Berlin:20251023T101000
DTEND;TZID=Europe/Berlin:20251023T111000
UID:GM33010-20251023T101000@VHSMETZINGEN
SUMMARY:Wirbelsäulengymnastik mit Faszientraining (GM33010) 
LOCATION:Haus der VHS, Gymnastikraum, Innere Heerstr. 6, 72555 Metzingen
END:VEVENT
BEGIN:VEVENT
DTSTAMP:20260420T135150
DTSTART;TZID=Europe/Berlin:20251106T101000
DTEND;TZID=Europe/Berlin:20251106T111000
UID:GM33010-20251106T101000@VHSMETZINGEN
SUMMARY:Wirbelsäulengymnastik mit Faszientraining (GM33010) 
LOCATION:Haus der VHS, Gymnastikraum, Innere Heerstr. 6, 72555 Metzingen
END:VEVENT
BEGIN:VEVENT
DTSTAMP:20260420T135150
DTSTART;TZID=Europe/Berlin:20251113T101000
DTEND;TZID=Europe/Berlin:20251113T111000
UID:GM33010-20251113T101000@VHSMETZINGEN
SUMMARY:Wirbelsäulengymnastik mit Faszientraining (GM33010) 
LOCATION:Haus der VHS, Gymnastikraum, Innere Heerstr. 6, 72555 Metzingen
END:VEVENT
BEGIN:VEVENT
DTSTAMP:20260420T135150
DTSTART;TZID=Europe/Berlin:20251120T101000
DTEND;TZID=Europe/Berlin:20251120T111000
UID:GM33010-20251120T101000@VHSMETZINGEN
SUMMARY:Wirbelsäulengymnastik mit Faszientraining (GM33010) 
LOCATION:Haus der VHS, Gymnastikraum, Innere Heerstr. 6, 72555 Metzingen
END:VEVENT
BEGIN:VEVENT
DTSTAMP:20260420T135150
DTSTART;TZID=Europe/Berlin:20251127T101000
DTEND;TZID=Europe/Berlin:20251127T111000
UID:GM33010-20251127T101000@VHSMETZINGEN
SUMMARY:Wirbelsäulengymnastik mit Faszientraining (GM33010) 
LOCATION:Haus der VHS, Gymnastikraum, Innere Heerstr. 6, 72555 Metzingen
END:VEVENT
BEGIN:VEVENT
DTSTAMP:20260420T135150
DTSTART;TZID=Europe/Berlin:20251204T101000
DTEND;TZID=Europe/Berlin:20251204T111000
UID:GM33010-20251204T101000@VHSMETZINGEN
SUMMARY:Wirbelsäulengymnastik mit Faszientraining (GM33010) 
LOCATION:Haus der VHS, Gymnastikraum, Innere Heerstr. 6, 72555 Metzingen
END:VEVENT
BEGIN:VEVENT
DTSTAMP:20260420T135150
DTSTART;TZID=Europe/Berlin:20251211T101000
DTEND;TZID=Europe/Berlin:20251211T111000
UID:GM33010-20251211T101000@VHSMETZINGEN
SUMMARY:Wirbelsäulengymnastik mit Faszientraining (GM33010) 
LOCATION:Haus der VHS, Gymnastikraum, Innere Heerstr. 6, 72555 Metzingen
END:VEVENT
BEGIN:VEVENT
DTSTAMP:20260420T135150
DTSTART;TZID=Europe/Berlin:20251218T101000
DTEND;TZID=Europe/Berlin:20251218T111000
UID:GM33010-20251218T101000@VHSMETZINGEN
SUMMARY:Wirbelsäulengymnastik mit Faszientraining (GM33010) 
LOCATION:Haus der VHS, Gymnastikraum, Innere Heerstr. 6, 72555 Metzingen
END:VEVENT
BEGIN:VEVENT
DTSTAMP:20260420T135150
DTSTART;TZID=Europe/Berlin:20260108T101000
DTEND;TZID=Europe/Berlin:20260108T111000
UID:GM33010-20260108T101000@VHSMETZINGEN
SUMMARY:Wirbelsäulengymnastik mit Faszientraining (GM33010) 
LOCATION:Haus der VHS, Gymnastikraum, Innere Heerstr. 6, 72555 Metzingen
END:VEVENT
BEGIN:VEVENT
DTSTAMP:20260420T135150
DTSTART;TZID=Europe/Berlin:20260115T101000
DTEND;TZID=Europe/Berlin:20260115T111000
UID:GM33010-20260115T101000@VHSMETZINGEN
SUMMARY:Wirbelsäulengymnastik mit Faszientraining (GM33010) 
LOCATION:Haus der VHS, Gymnastikraum, Innere Heerstr. 6, 72555 Metzingen
END:VEVENT
BEGIN:VEVENT
DTSTAMP:20260420T135150
DTSTART;TZID=Europe/Berlin:20260122T101000
DTEND;TZID=Europe/Berlin:20260122T111000
UID:GM33010-20260122T101000@VHSMETZINGEN
SUMMARY:Wirbelsäulengymnastik mit Faszientraining (GM33010) 
LOCATION:Haus der VHS, Gymnastikraum, Innere Heerstr. 6, 72555 Metzingen
END:VEVENT
BEGIN:VEVENT
DTSTAMP:20260420T135150
DTSTART;TZID=Europe/Berlin:20260129T101000
DTEND;TZID=Europe/Berlin:20260129T111000
UID:GM33010-20260129T101000@VHSMETZINGEN
SUMMARY:Wirbelsäulengymnastik mit Faszientraining (GM33010) 
LOCATION:Haus der VHS, Gymnastikraum, Innere Heerstr. 6, 72555 Metzingen
END:VEVENT
BEGIN:VEVENT
DTSTAMP:20260420T135150
DTSTART;TZID=Europe/Berlin:20260205T101000
DTEND;TZID=Europe/Berlin:20260205T111000
UID:GM33010-20260205T101000@VHSMETZINGEN
SUMMARY:Wirbelsäulengymnastik mit Faszientraining (GM33010) 
LOCATION:Haus der VHS, Gymnastikraum, Innere Heerstr. 6, 72555 Metzingen
END:VEVENT
END:VCALENDAR