BEGIN:VCALENDAR
VERSION:2.0
PRODID:http://www.kufer.de/kuferweb / DE
METHOD:PUBLISH
CALSCALE:GREGORIAN
X-WR-TIMEZONE:Europe/Berlin
BEGIN:VTIMEZONE
TZID:Europe/Berlin
X-LIC-LOCATION:Europe/Berlin
BEGIN:DAYLIGHT
TZOFFSETFROM:+0100
TZOFFSETTO:+0200
TZNAME:CEST
DTSTART;TZID=Europe/Berlin:19700329T020000
RRULE:FREQ=YEARLY;INTERVAL=1;BYDAY=-1SU;BYMONTH=3
END:DAYLIGHT
BEGIN:STANDARD
TZOFFSETFROM:+0200
TZOFFSETTO:+0100
TZNAME:CET
DTSTART;TZID=Europe/Berlin:19701025T030000
RRULE:FREQ=YEARLY;INTERVAL=1;BYDAY=-1SU;BYMONTH=10
END:STANDARD
END:VTIMEZONE
BEGIN:VEVENT
DTSTAMP:20260420T135124
DTSTART;TZID=Europe/Berlin:20250925T090000
DTEND;TZID=Europe/Berlin:20250925T100000
UID:GM33005-20250925T090000@VHSMETZINGEN
SUMMARY:Wirbelsäulengymnastik (GM33005) 
LOCATION:Haus der VHS, Gymnastikraum, Innere Heerstr. 6, 72555 Metzingen
END:VEVENT
BEGIN:VEVENT
DTSTAMP:20260420T135124
DTSTART;TZID=Europe/Berlin:20251002T090000
DTEND;TZID=Europe/Berlin:20251002T100000
UID:GM33005-20251002T090000@VHSMETZINGEN
SUMMARY:Wirbelsäulengymnastik (GM33005) 
LOCATION:Haus der VHS, Gymnastikraum, Innere Heerstr. 6, 72555 Metzingen
END:VEVENT
BEGIN:VEVENT
DTSTAMP:20260420T135124
DTSTART;TZID=Europe/Berlin:20251009T090000
DTEND;TZID=Europe/Berlin:20251009T100000
UID:GM33005-20251009T090000@VHSMETZINGEN
SUMMARY:Wirbelsäulengymnastik (GM33005) 
LOCATION:Haus der VHS, Gymnastikraum, Innere Heerstr. 6, 72555 Metzingen
END:VEVENT
BEGIN:VEVENT
DTSTAMP:20260420T135124
DTSTART;TZID=Europe/Berlin:20251016T090000
DTEND;TZID=Europe/Berlin:20251016T100000
UID:GM33005-20251016T090000@VHSMETZINGEN
SUMMARY:Wirbelsäulengymnastik (GM33005) 
LOCATION:Haus der VHS, Gymnastikraum, Innere Heerstr. 6, 72555 Metzingen
END:VEVENT
BEGIN:VEVENT
DTSTAMP:20260420T135124
DTSTART;TZID=Europe/Berlin:20251023T090000
DTEND;TZID=Europe/Berlin:20251023T100000
UID:GM33005-20251023T090000@VHSMETZINGEN
SUMMARY:Wirbelsäulengymnastik (GM33005) 
LOCATION:Haus der VHS, Gymnastikraum, Innere Heerstr. 6, 72555 Metzingen
END:VEVENT
BEGIN:VEVENT
DTSTAMP:20260420T135124
DTSTART;TZID=Europe/Berlin:20251106T090000
DTEND;TZID=Europe/Berlin:20251106T100000
UID:GM33005-20251106T090000@VHSMETZINGEN
SUMMARY:Wirbelsäulengymnastik (GM33005) 
LOCATION:Haus der VHS, Gymnastikraum, Innere Heerstr. 6, 72555 Metzingen
END:VEVENT
BEGIN:VEVENT
DTSTAMP:20260420T135124
DTSTART;TZID=Europe/Berlin:20251113T090000
DTEND;TZID=Europe/Berlin:20251113T100000
UID:GM33005-20251113T090000@VHSMETZINGEN
SUMMARY:Wirbelsäulengymnastik (GM33005) 
LOCATION:Haus der VHS, Gymnastikraum, Innere Heerstr. 6, 72555 Metzingen
END:VEVENT
BEGIN:VEVENT
DTSTAMP:20260420T135124
DTSTART;TZID=Europe/Berlin:20251120T090000
DTEND;TZID=Europe/Berlin:20251120T100000
UID:GM33005-20251120T090000@VHSMETZINGEN
SUMMARY:Wirbelsäulengymnastik (GM33005) 
LOCATION:Haus der VHS, Gymnastikraum, Innere Heerstr. 6, 72555 Metzingen
END:VEVENT
BEGIN:VEVENT
DTSTAMP:20260420T135124
DTSTART;TZID=Europe/Berlin:20251127T090000
DTEND;TZID=Europe/Berlin:20251127T100000
UID:GM33005-20251127T090000@VHSMETZINGEN
SUMMARY:Wirbelsäulengymnastik (GM33005) 
LOCATION:Haus der VHS, Gymnastikraum, Innere Heerstr. 6, 72555 Metzingen
END:VEVENT
BEGIN:VEVENT
DTSTAMP:20260420T135124
DTSTART;TZID=Europe/Berlin:20251204T090000
DTEND;TZID=Europe/Berlin:20251204T100000
UID:GM33005-20251204T090000@VHSMETZINGEN
SUMMARY:Wirbelsäulengymnastik (GM33005) 
LOCATION:Haus der VHS, Gymnastikraum, Innere Heerstr. 6, 72555 Metzingen
END:VEVENT
BEGIN:VEVENT
DTSTAMP:20260420T135124
DTSTART;TZID=Europe/Berlin:20251211T090000
DTEND;TZID=Europe/Berlin:20251211T100000
UID:GM33005-20251211T090000@VHSMETZINGEN
SUMMARY:Wirbelsäulengymnastik (GM33005) 
LOCATION:Haus der VHS, Gymnastikraum, Innere Heerstr. 6, 72555 Metzingen
END:VEVENT
BEGIN:VEVENT
DTSTAMP:20260420T135124
DTSTART;TZID=Europe/Berlin:20251218T090000
DTEND;TZID=Europe/Berlin:20251218T100000
UID:GM33005-20251218T090000@VHSMETZINGEN
SUMMARY:Wirbelsäulengymnastik (GM33005) 
LOCATION:Haus der VHS, Gymnastikraum, Innere Heerstr. 6, 72555 Metzingen
END:VEVENT
BEGIN:VEVENT
DTSTAMP:20260420T135124
DTSTART;TZID=Europe/Berlin:20260108T090000
DTEND;TZID=Europe/Berlin:20260108T100000
UID:GM33005-20260108T090000@VHSMETZINGEN
SUMMARY:Wirbelsäulengymnastik (GM33005) 
LOCATION:Haus der VHS, Gymnastikraum, Innere Heerstr. 6, 72555 Metzingen
END:VEVENT
BEGIN:VEVENT
DTSTAMP:20260420T135124
DTSTART;TZID=Europe/Berlin:20260115T090000
DTEND;TZID=Europe/Berlin:20260115T100000
UID:GM33005-20260115T090000@VHSMETZINGEN
SUMMARY:Wirbelsäulengymnastik (GM33005) 
LOCATION:Haus der VHS, Gymnastikraum, Innere Heerstr. 6, 72555 Metzingen
END:VEVENT
BEGIN:VEVENT
DTSTAMP:20260420T135124
DTSTART;TZID=Europe/Berlin:20260122T090000
DTEND;TZID=Europe/Berlin:20260122T100000
UID:GM33005-20260122T090000@VHSMETZINGEN
SUMMARY:Wirbelsäulengymnastik (GM33005) 
LOCATION:Haus der VHS, Gymnastikraum, Innere Heerstr. 6, 72555 Metzingen
END:VEVENT
BEGIN:VEVENT
DTSTAMP:20260420T135124
DTSTART;TZID=Europe/Berlin:20260129T090000
DTEND;TZID=Europe/Berlin:20260129T100000
UID:GM33005-20260129T090000@VHSMETZINGEN
SUMMARY:Wirbelsäulengymnastik (GM33005) 
LOCATION:Haus der VHS, Gymnastikraum, Innere Heerstr. 6, 72555 Metzingen
END:VEVENT
BEGIN:VEVENT
DTSTAMP:20260420T135124
DTSTART;TZID=Europe/Berlin:20260205T090000
DTEND;TZID=Europe/Berlin:20260205T100000
UID:GM33005-20260205T090000@VHSMETZINGEN
SUMMARY:Wirbelsäulengymnastik (GM33005) 
LOCATION:Haus der VHS, Gymnastikraum, Innere Heerstr. 6, 72555 Metzingen
END:VEVENT
END:VCALENDAR