BEGIN:VCALENDAR
VERSION:2.0
PRODID:http://www.kufer.de/kuferweb / DE
METHOD:PUBLISH
CALSCALE:GREGORIAN
X-WR-TIMEZONE:Europe/Berlin
BEGIN:VTIMEZONE
TZID:Europe/Berlin
X-LIC-LOCATION:Europe/Berlin
BEGIN:DAYLIGHT
TZOFFSETFROM:+0100
TZOFFSETTO:+0200
TZNAME:CEST
DTSTART;TZID=Europe/Berlin:19700329T020000
RRULE:FREQ=YEARLY;INTERVAL=1;BYDAY=-1SU;BYMONTH=3
END:DAYLIGHT
BEGIN:STANDARD
TZOFFSETFROM:+0200
TZOFFSETTO:+0100
TZNAME:CET
DTSTART;TZID=Europe/Berlin:19701025T030000
RRULE:FREQ=YEARLY;INTERVAL=1;BYDAY=-1SU;BYMONTH=10
END:STANDARD
END:VTIMEZONE
BEGIN:VEVENT
DTSTAMP:20260420T120909
DTSTART;TZID=Europe/Berlin:20250924T181500
DTEND;TZID=Europe/Berlin:20250924T191500
UID:GM33000-20250924T181500@VHSMETZINGEN
SUMMARY:Wirbelsäulengymnastik (GM33000) 
LOCATION:Haus der VHS, Gymnastikraum, Innere Heerstr. 6, 72555 Metzingen
END:VEVENT
BEGIN:VEVENT
DTSTAMP:20260420T120909
DTSTART;TZID=Europe/Berlin:20251001T181500
DTEND;TZID=Europe/Berlin:20251001T191500
UID:GM33000-20251001T181500@VHSMETZINGEN
SUMMARY:Wirbelsäulengymnastik (GM33000) 
LOCATION:Haus der VHS, Gymnastikraum, Innere Heerstr. 6, 72555 Metzingen
END:VEVENT
BEGIN:VEVENT
DTSTAMP:20260420T120909
DTSTART;TZID=Europe/Berlin:20251008T181500
DTEND;TZID=Europe/Berlin:20251008T191500
UID:GM33000-20251008T181500@VHSMETZINGEN
SUMMARY:Wirbelsäulengymnastik (GM33000) 
LOCATION:Haus der VHS, Gymnastikraum, Innere Heerstr. 6, 72555 Metzingen
END:VEVENT
BEGIN:VEVENT
DTSTAMP:20260420T120909
DTSTART;TZID=Europe/Berlin:20251015T181500
DTEND;TZID=Europe/Berlin:20251015T191500
UID:GM33000-20251015T181500@VHSMETZINGEN
SUMMARY:Wirbelsäulengymnastik (GM33000) 
LOCATION:Haus der VHS, Gymnastikraum, Innere Heerstr. 6, 72555 Metzingen
END:VEVENT
BEGIN:VEVENT
DTSTAMP:20260420T120909
DTSTART;TZID=Europe/Berlin:20251022T181500
DTEND;TZID=Europe/Berlin:20251022T191500
UID:GM33000-20251022T181500@VHSMETZINGEN
SUMMARY:Wirbelsäulengymnastik (GM33000) 
LOCATION:Haus der VHS, Gymnastikraum, Innere Heerstr. 6, 72555 Metzingen
END:VEVENT
BEGIN:VEVENT
DTSTAMP:20260420T120909
DTSTART;TZID=Europe/Berlin:20251105T181500
DTEND;TZID=Europe/Berlin:20251105T191500
UID:GM33000-20251105T181500@VHSMETZINGEN
SUMMARY:Wirbelsäulengymnastik (GM33000) 
LOCATION:Haus der VHS, Gymnastikraum, Innere Heerstr. 6, 72555 Metzingen
END:VEVENT
BEGIN:VEVENT
DTSTAMP:20260420T120909
DTSTART;TZID=Europe/Berlin:20251112T181500
DTEND;TZID=Europe/Berlin:20251112T191500
UID:GM33000-20251112T181500@VHSMETZINGEN
SUMMARY:Wirbelsäulengymnastik (GM33000) 
LOCATION:Haus der VHS, Gymnastikraum, Innere Heerstr. 6, 72555 Metzingen
END:VEVENT
BEGIN:VEVENT
DTSTAMP:20260420T120909
DTSTART;TZID=Europe/Berlin:20251119T181500
DTEND;TZID=Europe/Berlin:20251119T191500
UID:GM33000-20251119T181500@VHSMETZINGEN
SUMMARY:Wirbelsäulengymnastik (GM33000) 
LOCATION:Haus der VHS, Gymnastikraum, Innere Heerstr. 6, 72555 Metzingen
END:VEVENT
BEGIN:VEVENT
DTSTAMP:20260420T120909
DTSTART;TZID=Europe/Berlin:20251126T181500
DTEND;TZID=Europe/Berlin:20251126T191500
UID:GM33000-20251126T181500@VHSMETZINGEN
SUMMARY:Wirbelsäulengymnastik (GM33000) 
LOCATION:Haus der VHS, Gymnastikraum, Innere Heerstr. 6, 72555 Metzingen
END:VEVENT
BEGIN:VEVENT
DTSTAMP:20260420T120909
DTSTART;TZID=Europe/Berlin:20251203T181500
DTEND;TZID=Europe/Berlin:20251203T191500
UID:GM33000-20251203T181500@VHSMETZINGEN
SUMMARY:Wirbelsäulengymnastik (GM33000) 
LOCATION:Haus der VHS, Gymnastikraum, Innere Heerstr. 6, 72555 Metzingen
END:VEVENT
BEGIN:VEVENT
DTSTAMP:20260420T120909
DTSTART;TZID=Europe/Berlin:20251210T181500
DTEND;TZID=Europe/Berlin:20251210T191500
UID:GM33000-20251210T181500@VHSMETZINGEN
SUMMARY:Wirbelsäulengymnastik (GM33000) 
LOCATION:Haus der VHS, Gymnastikraum, Innere Heerstr. 6, 72555 Metzingen
END:VEVENT
BEGIN:VEVENT
DTSTAMP:20260420T120909
DTSTART;TZID=Europe/Berlin:20251217T181500
DTEND;TZID=Europe/Berlin:20251217T191500
UID:GM33000-20251217T181500@VHSMETZINGEN
SUMMARY:Wirbelsäulengymnastik (GM33000) 
LOCATION:Haus der VHS, Gymnastikraum, Innere Heerstr. 6, 72555 Metzingen
END:VEVENT
BEGIN:VEVENT
DTSTAMP:20260420T120909
DTSTART;TZID=Europe/Berlin:20260107T181500
DTEND;TZID=Europe/Berlin:20260107T191500
UID:GM33000-20260107T181500@VHSMETZINGEN
SUMMARY:Wirbelsäulengymnastik (GM33000) 
LOCATION:Haus der VHS, Gymnastikraum, Innere Heerstr. 6, 72555 Metzingen
END:VEVENT
BEGIN:VEVENT
DTSTAMP:20260420T120909
DTSTART;TZID=Europe/Berlin:20260114T181500
DTEND;TZID=Europe/Berlin:20260114T191500
UID:GM33000-20260114T181500@VHSMETZINGEN
SUMMARY:Wirbelsäulengymnastik (GM33000) 
LOCATION:Haus der VHS, Gymnastikraum, Innere Heerstr. 6, 72555 Metzingen
END:VEVENT
BEGIN:VEVENT
DTSTAMP:20260420T120909
DTSTART;TZID=Europe/Berlin:20260121T181500
DTEND;TZID=Europe/Berlin:20260121T191500
UID:GM33000-20260121T181500@VHSMETZINGEN
SUMMARY:Wirbelsäulengymnastik (GM33000) 
LOCATION:Haus der VHS, Gymnastikraum, Innere Heerstr. 6, 72555 Metzingen
END:VEVENT
BEGIN:VEVENT
DTSTAMP:20260420T120909
DTSTART;TZID=Europe/Berlin:20260128T181500
DTEND;TZID=Europe/Berlin:20260128T191500
UID:GM33000-20260128T181500@VHSMETZINGEN
SUMMARY:Wirbelsäulengymnastik (GM33000) 
LOCATION:Haus der VHS, Gymnastikraum, Innere Heerstr. 6, 72555 Metzingen
END:VEVENT
BEGIN:VEVENT
DTSTAMP:20260420T120909
DTSTART;TZID=Europe/Berlin:20260204T181500
DTEND;TZID=Europe/Berlin:20260204T191500
UID:GM33000-20260204T181500@VHSMETZINGEN
SUMMARY:Wirbelsäulengymnastik (GM33000) 
LOCATION:Haus der VHS, Gymnastikraum, Innere Heerstr. 6, 72555 Metzingen
END:VEVENT
END:VCALENDAR